BEGIN:VCALENDAR
VERSION:2.0
PRODID:-//Greater Memphis Square &amp; Round Dance Association - ECPv6.15.20//NONSGML v1.0//EN
CALSCALE:GREGORIAN
METHOD:PUBLISH
X-ORIGINAL-URL:https://exp.zrcdemo.com
X-WR-CALDESC:Events for Greater Memphis Square &amp; Round Dance Association
REFRESH-INTERVAL;VALUE=DURATION:PT1H
X-Robots-Tag:noindex
X-PUBLISHED-TTL:PT1H
BEGIN:VTIMEZONE
TZID:America/Chicago
BEGIN:DAYLIGHT
TZOFFSETFROM:-0600
TZOFFSETTO:-0500
TZNAME:CDT
DTSTART:20230312T080000
END:DAYLIGHT
BEGIN:STANDARD
TZOFFSETFROM:-0500
TZOFFSETTO:-0600
TZNAME:CST
DTSTART:20231105T070000
END:STANDARD
BEGIN:DAYLIGHT
TZOFFSETFROM:-0600
TZOFFSETTO:-0500
TZNAME:CDT
DTSTART:20240310T080000
END:DAYLIGHT
BEGIN:STANDARD
TZOFFSETFROM:-0500
TZOFFSETTO:-0600
TZNAME:CST
DTSTART:20241103T070000
END:STANDARD
BEGIN:DAYLIGHT
TZOFFSETFROM:-0600
TZOFFSETTO:-0500
TZNAME:CDT
DTSTART:20250309T080000
END:DAYLIGHT
BEGIN:STANDARD
TZOFFSETFROM:-0500
TZOFFSETTO:-0600
TZNAME:CST
DTSTART:20251102T070000
END:STANDARD
END:VTIMEZONE
BEGIN:VEVENT
DTSTART;TZID=America/Chicago:20240724T190000
DTEND;TZID=America/Chicago:20240724T210000
DTSTAMP:20260419T133324
CREATED:20231129T213711Z
LAST-MODIFIED:20241006T121105Z
UID:4151-1721847600-1721854800@exp.zrcdemo.com
SUMMARY:Pistols & Petticoats
DESCRIPTION:Mainstream and Plus Squares with Rounds between Tips
URL:https://exp.zrcdemo.com/events/pistols-petticoats-159/
LOCATION:Bartlett United Methodist Church\, 5676 Stage Rd.\, Bartlett\, 38134\, United States
CATEGORIES:Club Dance
END:VEVENT
BEGIN:VEVENT
DTSTART;TZID=America/Chicago:20240722T190000
DTEND;TZID=America/Chicago:20240722T210000
DTSTAMP:20260419T133324
CREATED:20231222T192835Z
LAST-MODIFIED:20241006T121105Z
UID:4488-1721674800-1721682000@exp.zrcdemo.com
SUMMARY:Pleasant Hill Promenaders
DESCRIPTION:Mainstream and Plus Squares with Rounds and Lines between Tips
URL:https://exp.zrcdemo.com/events/pleasant-hill-promenaders-214/
LOCATION:Graceland Christian Church\, 2126 Stateline Rd\, Southaven\, 38672\, United States
CATEGORIES:Club Dance
END:VEVENT
BEGIN:VEVENT
DTSTART;TZID=America/Chicago:20240722T190000
DTEND;TZID=America/Chicago:20240722T210000
DTSTAMP:20260419T133324
CREATED:20231220T042253Z
LAST-MODIFIED:20241006T121105Z
UID:4273-1721674800-1721682000@exp.zrcdemo.com
SUMMARY:Merry Go Rounds
DESCRIPTION:
URL:https://exp.zrcdemo.com/events/merry-go-rounds-219/
LOCATION:Berclair Civic Club\, 743 Novarese Road\, Memphis\, TN\, 38122\, United States
CATEGORIES:Club Dance
END:VEVENT
BEGIN:VEVENT
DTSTART;TZID=America/Chicago:20240721T143000
DTEND;TZID=America/Chicago:20240721T163000
DTSTAMP:20260419T133324
CREATED:20231220T042657Z
LAST-MODIFIED:20241006T121105Z
UID:4327-1721572200-1721579400@exp.zrcdemo.com
SUMMARY:T-Squares CLOSED
DESCRIPTION:Advanced Squares A2-C1
URL:https://exp.zrcdemo.com/events/t-squares-246/
LOCATION:Graceland Christian Church\, 2126 Stateline Rd\, Southaven\, 38672\, United States
CATEGORIES:Club Dance
END:VEVENT
BEGIN:VEVENT
DTSTART;TZID=America/Chicago:20240719T190000
DTEND;TZID=America/Chicago:20240719T210000
DTSTAMP:20260419T133324
CREATED:20231220T041328Z
LAST-MODIFIED:20241006T121105Z
UID:4216-1721415600-1721422800@exp.zrcdemo.com
SUMMARY:B&Bs
DESCRIPTION:Mainstream and Plus Squares with Lines between Tips
URL:https://exp.zrcdemo.com/events/bbs-217/
LOCATION:Colonial Park United Methodist Church\, 5330 Park Avenue\, Memphis\, 38119\, United States
CATEGORIES:Club Dance
END:VEVENT
BEGIN:VEVENT
DTSTART;TZID=America/Chicago:20240718T190000
DTEND;TZID=America/Chicago:20240718T213000
DTSTAMP:20260419T133324
CREATED:20231222T193339Z
LAST-MODIFIED:20241006T121105Z
UID:4554-1721329200-1721338200@exp.zrcdemo.com
SUMMARY:Top Spinners
DESCRIPTION:Mainstream workshop\, SSD danicng with 1 Plus tip. Lines between tips
URL:https://exp.zrcdemo.com/events/top-spinners-194/
LOCATION:Eads Civic Center\, 12365 Washington Rd\, Eads\, 38028\, United States
CATEGORIES:Club Dance
END:VEVENT
BEGIN:VEVENT
DTSTART;TZID=America/Chicago:20240717T190000
DTEND;TZID=America/Chicago:20240717T210000
DTSTAMP:20260419T133324
CREATED:20231129T213657Z
LAST-MODIFIED:20241006T121105Z
UID:4150-1721242800-1721250000@exp.zrcdemo.com
SUMMARY:Pistols & Petticoats
DESCRIPTION:Mainstream and Plus Squares with Rounds between Tips
URL:https://exp.zrcdemo.com/events/pistols-petticoats-158/
LOCATION:Bartlett United Methodist Church\, 5676 Stage Rd.\, Bartlett\, 38134\, United States
CATEGORIES:Club Dance
END:VEVENT
BEGIN:VEVENT
DTSTART;TZID=America/Chicago:20240715T190000
DTEND;TZID=America/Chicago:20240715T210000
DTSTAMP:20260419T133324
CREATED:20231222T192835Z
LAST-MODIFIED:20241006T121105Z
UID:4487-1721070000-1721077200@exp.zrcdemo.com
SUMMARY:Pleasant Hill Promenaders
DESCRIPTION:Mainstream and Plus Squares with Rounds and Lines between Tips
URL:https://exp.zrcdemo.com/events/pleasant-hill-promenaders-213/
LOCATION:Graceland Christian Church\, 2126 Stateline Rd\, Southaven\, 38672\, United States
CATEGORIES:Club Dance
END:VEVENT
BEGIN:VEVENT
DTSTART;TZID=America/Chicago:20240715T190000
DTEND;TZID=America/Chicago:20240715T210000
DTSTAMP:20260419T133324
CREATED:20231220T042253Z
LAST-MODIFIED:20241006T121106Z
UID:4272-1721070000-1721077200@exp.zrcdemo.com
SUMMARY:Merry Go Rounds
DESCRIPTION:
URL:https://exp.zrcdemo.com/events/merry-go-rounds-218/
LOCATION:Berclair Civic Club\, 743 Novarese Road\, Memphis\, TN\, 38122\, United States
CATEGORIES:Club Dance
END:VEVENT
BEGIN:VEVENT
DTSTART;TZID=America/Chicago:20240714T143000
DTEND;TZID=America/Chicago:20240714T163000
DTSTAMP:20260419T133324
CREATED:20231220T042657Z
LAST-MODIFIED:20241006T121106Z
UID:4326-1720967400-1720974600@exp.zrcdemo.com
SUMMARY:T-Squares CLOSED
DESCRIPTION:Advanced Squares A2-C1
URL:https://exp.zrcdemo.com/events/t-squares-245/
LOCATION:Graceland Christian Church\, 2126 Stateline Rd\, Southaven\, 38672\, United States
CATEGORIES:Club Dance
END:VEVENT
BEGIN:VEVENT
DTSTART;TZID=America/Chicago:20240712T190000
DTEND;TZID=America/Chicago:20240712T210000
DTSTAMP:20260419T133324
CREATED:20231220T041328Z
LAST-MODIFIED:20241006T121106Z
UID:4215-1720810800-1720818000@exp.zrcdemo.com
SUMMARY:B&Bs
DESCRIPTION:Mainstream and Plus Squares with Lines between Tips
URL:https://exp.zrcdemo.com/events/bbs-216/
LOCATION:Colonial Park United Methodist Church\, 5330 Park Avenue\, Memphis\, 38119\, United States
CATEGORIES:Club Dance
END:VEVENT
BEGIN:VEVENT
DTSTART;TZID=America/Chicago:20240710T190000
DTEND;TZID=America/Chicago:20240710T210000
DTSTAMP:20260419T133324
CREATED:20231129T213657Z
LAST-MODIFIED:20241006T121106Z
UID:4149-1720638000-1720645200@exp.zrcdemo.com
SUMMARY:Pistols & Petticoats
DESCRIPTION:Mainstream and Plus Squares with Rounds between Tips
URL:https://exp.zrcdemo.com/events/pistols-petticoats-157/
LOCATION:Bartlett United Methodist Church\, 5676 Stage Rd.\, Bartlett\, 38134\, United States
CATEGORIES:Club Dance
END:VEVENT
BEGIN:VEVENT
DTSTART;TZID=America/Chicago:20240708T190000
DTEND;TZID=America/Chicago:20240708T210000
DTSTAMP:20260419T133324
CREATED:20231222T192834Z
LAST-MODIFIED:20241006T121106Z
UID:4486-1720465200-1720472400@exp.zrcdemo.com
SUMMARY:Pleasant Hill Promenaders
DESCRIPTION:Mainstream and Plus Squares with Rounds and Lines between Tips
URL:https://exp.zrcdemo.com/events/pleasant-hill-promenaders-212/
LOCATION:Graceland Christian Church\, 2126 Stateline Rd\, Southaven\, 38672\, United States
CATEGORIES:Club Dance
END:VEVENT
BEGIN:VEVENT
DTSTART;TZID=America/Chicago:20240708T190000
DTEND;TZID=America/Chicago:20240708T210000
DTSTAMP:20260419T133324
CREATED:20231220T042252Z
LAST-MODIFIED:20241006T121106Z
UID:4271-1720465200-1720472400@exp.zrcdemo.com
SUMMARY:Merry Go Rounds
DESCRIPTION:
URL:https://exp.zrcdemo.com/events/merry-go-rounds-217/
LOCATION:Berclair Civic Club\, 743 Novarese Road\, Memphis\, TN\, 38122\, United States
CATEGORIES:Club Dance
END:VEVENT
BEGIN:VEVENT
DTSTART;TZID=America/Chicago:20240707T143000
DTEND;TZID=America/Chicago:20240707T163000
DTSTAMP:20260419T133324
CREATED:20231220T042657Z
LAST-MODIFIED:20241006T121106Z
UID:4325-1720362600-1720369800@exp.zrcdemo.com
SUMMARY:T-Squares CLOSED
DESCRIPTION:Advanced Squares A2-C1
URL:https://exp.zrcdemo.com/events/t-squares-244/
LOCATION:Graceland Christian Church\, 2126 Stateline Rd\, Southaven\, 38672\, United States
CATEGORIES:Club Dance
END:VEVENT
BEGIN:VEVENT
DTSTART;TZID=America/Chicago:20240705T190000
DTEND;TZID=America/Chicago:20240705T210000
DTSTAMP:20260419T133324
CREATED:20231220T041328Z
LAST-MODIFIED:20241006T121106Z
UID:4214-1720206000-1720213200@exp.zrcdemo.com
SUMMARY:B&Bs
DESCRIPTION:Mainstream and Plus Squares with Lines between Tips
URL:https://exp.zrcdemo.com/events/bbs-215/
LOCATION:Colonial Park United Methodist Church\, 5330 Park Avenue\, Memphis\, 38119\, United States
CATEGORIES:Club Dance
END:VEVENT
BEGIN:VEVENT
DTSTART;TZID=America/Chicago:20240704T190000
DTEND;TZID=America/Chicago:20240704T213000
DTSTAMP:20260419T133324
CREATED:20231222T193324Z
LAST-MODIFIED:20241006T121106Z
UID:4552-1720119600-1720128600@exp.zrcdemo.com
SUMMARY:Top Spinners
DESCRIPTION:Mainstream workshop\, SSD danicng with 1 Plus tip. Lines between tips
URL:https://exp.zrcdemo.com/events/top-spinners-193/
LOCATION:Eads Civic Center\, 12365 Washington Rd\, Eads\, 38028\, United States
CATEGORIES:Club Dance
END:VEVENT
BEGIN:VEVENT
DTSTART;TZID=America/Chicago:20240701T190000
DTEND;TZID=America/Chicago:20240701T210000
DTSTAMP:20260419T133324
CREATED:20231222T192834Z
LAST-MODIFIED:20241006T121106Z
UID:4485-1719860400-1719867600@exp.zrcdemo.com
SUMMARY:Pleasant Hill Promenaders
DESCRIPTION:Mainstream and Plus Squares with Rounds and Lines between Tips
URL:https://exp.zrcdemo.com/events/pleasant-hill-promenaders-211/
LOCATION:Graceland Christian Church\, 2126 Stateline Rd\, Southaven\, 38672\, United States
CATEGORIES:Club Dance
END:VEVENT
BEGIN:VEVENT
DTSTART;TZID=America/Chicago:20240701T190000
DTEND;TZID=America/Chicago:20240701T210000
DTSTAMP:20260419T133324
CREATED:20231220T042252Z
LAST-MODIFIED:20241006T121106Z
UID:4270-1719860400-1719867600@exp.zrcdemo.com
SUMMARY:Merry Go Rounds
DESCRIPTION:
URL:https://exp.zrcdemo.com/events/merry-go-rounds-216/
LOCATION:Berclair Civic Club\, 743 Novarese Road\, Memphis\, TN\, 38122\, United States
CATEGORIES:Club Dance
END:VEVENT
BEGIN:VEVENT
DTSTART;TZID=America/Chicago:20240630T143000
DTEND;TZID=America/Chicago:20240630T163000
DTSTAMP:20260419T133324
CREATED:20231220T042656Z
LAST-MODIFIED:20241006T121106Z
UID:4324-1719757800-1719765000@exp.zrcdemo.com
SUMMARY:T-Squares CLOSED
DESCRIPTION:Advanced Squares A2-C1
URL:https://exp.zrcdemo.com/events/t-squares-243/
LOCATION:Graceland Christian Church\, 2126 Stateline Rd\, Southaven\, 38672\, United States
CATEGORIES:Club Dance
END:VEVENT
BEGIN:VEVENT
DTSTART;TZID=America/Chicago:20240624T190000
DTEND;TZID=America/Chicago:20240624T210000
DTSTAMP:20260419T133324
CREATED:20231222T192834Z
LAST-MODIFIED:20241006T121107Z
UID:4484-1719255600-1719262800@exp.zrcdemo.com
SUMMARY:Pleasant Hill Promenaders
DESCRIPTION:Mainstream and Plus Squares with Rounds and Lines between Tips
URL:https://exp.zrcdemo.com/events/pleasant-hill-promenaders-210/
LOCATION:Graceland Christian Church\, 2126 Stateline Rd\, Southaven\, 38672\, United States
CATEGORIES:Club Dance
END:VEVENT
BEGIN:VEVENT
DTSTART;TZID=America/Chicago:20240624T190000
DTEND;TZID=America/Chicago:20240624T210000
DTSTAMP:20260419T133324
CREATED:20231220T042252Z
LAST-MODIFIED:20241006T121107Z
UID:4269-1719255600-1719262800@exp.zrcdemo.com
SUMMARY:Merry Go Rounds
DESCRIPTION:
URL:https://exp.zrcdemo.com/events/merry-go-rounds-215/
LOCATION:Berclair Civic Club\, 743 Novarese Road\, Memphis\, TN\, 38122\, United States
CATEGORIES:Club Dance
END:VEVENT
BEGIN:VEVENT
DTSTART;TZID=America/Chicago:20240623T143000
DTEND;TZID=America/Chicago:20240623T163000
DTSTAMP:20260419T133324
CREATED:20231220T042642Z
LAST-MODIFIED:20241006T121107Z
UID:4323-1719153000-1719160200@exp.zrcdemo.com
SUMMARY:T-Squares CLOSED
DESCRIPTION:Advanced Squares A2-C1
URL:https://exp.zrcdemo.com/events/t-squares-242/
LOCATION:Graceland Christian Church\, 2126 Stateline Rd\, Southaven\, 38672\, United States
CATEGORIES:Club Dance
END:VEVENT
BEGIN:VEVENT
DTSTART;TZID=America/Chicago:20240621T190000
DTEND;TZID=America/Chicago:20240621T210000
DTSTAMP:20260419T133324
CREATED:20231220T041313Z
LAST-MODIFIED:20241006T121155Z
UID:4212-1718996400-1719003600@exp.zrcdemo.com
SUMMARY:B&Bs
DESCRIPTION:Mainstream and Plus Squares with Lines between Tips
URL:https://exp.zrcdemo.com/events/bbs-214/
LOCATION:Colonial Park United Methodist Church\, 5330 Park Avenue\, Memphis\, 38119\, United States
CATEGORIES:Club Dance
END:VEVENT
BEGIN:VEVENT
DTSTART;TZID=America/Chicago:20240620T190000
DTEND;TZID=America/Chicago:20240620T213000
DTSTAMP:20260419T133324
CREATED:20231222T193324Z
LAST-MODIFIED:20241006T121155Z
UID:4550-1718910000-1718919000@exp.zrcdemo.com
SUMMARY:Top Spinners
DESCRIPTION:Mainstream workshop\, SSD danicng with 1 Plus tip. Lines between tips
URL:https://exp.zrcdemo.com/events/top-spinners-192/
LOCATION:Eads Civic Center\, 12365 Washington Rd\, Eads\, 38028\, United States
CATEGORIES:Club Dance
END:VEVENT
BEGIN:VEVENT
DTSTART;TZID=America/Chicago:20240619T190000
DTEND;TZID=America/Chicago:20240619T210000
DTSTAMP:20260419T133324
CREATED:20231129T213656Z
LAST-MODIFIED:20241006T121155Z
UID:4146-1718823600-1718830800@exp.zrcdemo.com
SUMMARY:Pistols & Petticoats
DESCRIPTION:Mainstream and Plus Squares with Rounds between Tips
URL:https://exp.zrcdemo.com/events/pistols-petticoats-156/
LOCATION:Bartlett United Methodist Church\, 5676 Stage Rd.\, Bartlett\, 38134\, United States
CATEGORIES:Club Dance
END:VEVENT
BEGIN:VEVENT
DTSTART;TZID=America/Chicago:20240617T190000
DTEND;TZID=America/Chicago:20240617T210000
DTSTAMP:20260419T133324
CREATED:20231222T192820Z
LAST-MODIFIED:20241006T121155Z
UID:4483-1718650800-1718658000@exp.zrcdemo.com
SUMMARY:Pleasant Hill Promenaders
DESCRIPTION:Mainstream and Plus Squares with Rounds and Lines between Tips
URL:https://exp.zrcdemo.com/events/pleasant-hill-promenaders-209/
LOCATION:Graceland Christian Church\, 2126 Stateline Rd\, Southaven\, 38672\, United States
CATEGORIES:Club Dance
END:VEVENT
BEGIN:VEVENT
DTSTART;TZID=America/Chicago:20240617T190000
DTEND;TZID=America/Chicago:20240617T210000
DTSTAMP:20260419T133324
CREATED:20231220T042238Z
LAST-MODIFIED:20241006T121155Z
UID:4268-1718650800-1718658000@exp.zrcdemo.com
SUMMARY:Merry Go Rounds
DESCRIPTION:
URL:https://exp.zrcdemo.com/events/merry-go-rounds-214/
LOCATION:Berclair Civic Club\, 743 Novarese Road\, Memphis\, TN\, 38122\, United States
CATEGORIES:Club Dance
END:VEVENT
BEGIN:VEVENT
DTSTART;TZID=America/Chicago:20240616T143000
DTEND;TZID=America/Chicago:20240616T163000
DTSTAMP:20260419T133324
CREATED:20231220T042642Z
LAST-MODIFIED:20241006T121155Z
UID:4322-1718548200-1718555400@exp.zrcdemo.com
SUMMARY:T-Squares CLOSED
DESCRIPTION:Advanced Squares A2-C1
URL:https://exp.zrcdemo.com/events/t-squares-241/
LOCATION:Graceland Christian Church\, 2126 Stateline Rd\, Southaven\, 38672\, United States
CATEGORIES:Club Dance
END:VEVENT
BEGIN:VEVENT
DTSTART;TZID=America/Chicago:20240614T190000
DTEND;TZID=America/Chicago:20240614T210000
DTSTAMP:20260419T133324
CREATED:20231220T041312Z
LAST-MODIFIED:20241006T121155Z
UID:4211-1718391600-1718398800@exp.zrcdemo.com
SUMMARY:B&Bs Flag Day
DESCRIPTION:Mainstream and Plus Squares with Lines between Tips
URL:https://exp.zrcdemo.com/events/bbs-213/
LOCATION:Colonial Park United Methodist Church\, 5330 Park Avenue\, Memphis\, 38119\, United States
CATEGORIES:Club Dance
END:VEVENT
END:VCALENDAR