BEGIN:VCALENDAR
VERSION:2.0
PRODID:-//Greater Memphis Square &amp; Round Dance Association - ECPv6.15.20//NONSGML v1.0//EN
CALSCALE:GREGORIAN
METHOD:PUBLISH
X-WR-CALNAME:Greater Memphis Square &amp; Round Dance Association
X-ORIGINAL-URL:https://exp.zrcdemo.com
X-WR-CALDESC:Events for Greater Memphis Square &amp; Round Dance Association
REFRESH-INTERVAL;VALUE=DURATION:PT1H
X-Robots-Tag:noindex
X-PUBLISHED-TTL:PT1H
BEGIN:VTIMEZONE
TZID:America/Chicago
BEGIN:DAYLIGHT
TZOFFSETFROM:-0600
TZOFFSETTO:-0500
TZNAME:CDT
DTSTART:20230312T080000
END:DAYLIGHT
BEGIN:STANDARD
TZOFFSETFROM:-0500
TZOFFSETTO:-0600
TZNAME:CST
DTSTART:20231105T070000
END:STANDARD
BEGIN:DAYLIGHT
TZOFFSETFROM:-0600
TZOFFSETTO:-0500
TZNAME:CDT
DTSTART:20240310T080000
END:DAYLIGHT
BEGIN:STANDARD
TZOFFSETFROM:-0500
TZOFFSETTO:-0600
TZNAME:CST
DTSTART:20241103T070000
END:STANDARD
BEGIN:DAYLIGHT
TZOFFSETFROM:-0600
TZOFFSETTO:-0500
TZNAME:CDT
DTSTART:20250309T080000
END:DAYLIGHT
BEGIN:STANDARD
TZOFFSETFROM:-0500
TZOFFSETTO:-0600
TZNAME:CST
DTSTART:20251102T070000
END:STANDARD
END:VTIMEZONE
BEGIN:VEVENT
DTSTART;TZID=America/Chicago:20240612T190000
DTEND;TZID=America/Chicago:20240612T210000
DTSTAMP:20260419T183406
CREATED:20231129T213642Z
LAST-MODIFIED:20241006T121155Z
UID:4145-1718218800-1718226000@exp.zrcdemo.com
SUMMARY:Pistols & Petticoats CLOSED
DESCRIPTION:Mainstream and Plus Squares with Rounds between Tips
URL:https://exp.zrcdemo.com/events/pistols-petticoats-155/
LOCATION:Bartlett United Methodist Church\, 5676 Stage Rd.\, Bartlett\, 38134\, United States
CATEGORIES:Club Dance
END:VEVENT
BEGIN:VEVENT
DTSTART;TZID=America/Chicago:20240610T190000
DTEND;TZID=America/Chicago:20240610T210000
DTSTAMP:20260419T183406
CREATED:20231222T192820Z
LAST-MODIFIED:20241006T121156Z
UID:4482-1718046000-1718053200@exp.zrcdemo.com
SUMMARY:Pleasant Hill Promenaders
DESCRIPTION:Mainstream and Plus Squares with Rounds and Lines between Tips
URL:https://exp.zrcdemo.com/events/pleasant-hill-promenaders-208/
LOCATION:Graceland Christian Church\, 2126 Stateline Rd\, Southaven\, 38672\, United States
CATEGORIES:Club Dance
END:VEVENT
BEGIN:VEVENT
DTSTART;TZID=America/Chicago:20240610T190000
DTEND;TZID=America/Chicago:20240610T210000
DTSTAMP:20260419T183406
CREATED:20231220T042238Z
LAST-MODIFIED:20241006T121156Z
UID:4267-1718046000-1718053200@exp.zrcdemo.com
SUMMARY:Merry Go Rounds
DESCRIPTION:
URL:https://exp.zrcdemo.com/events/merry-go-rounds-213/
LOCATION:Berclair Civic Club\, 743 Novarese Road\, Memphis\, TN\, 38122\, United States
CATEGORIES:Club Dance
END:VEVENT
BEGIN:VEVENT
DTSTART;TZID=America/Chicago:20240609T143000
DTEND;TZID=America/Chicago:20240609T163000
DTSTAMP:20260419T183406
CREATED:20231220T042642Z
LAST-MODIFIED:20241006T121156Z
UID:4321-1717943400-1717950600@exp.zrcdemo.com
SUMMARY:T-Squares CLOSED
DESCRIPTION:Advanced Squares A2-C1
URL:https://exp.zrcdemo.com/events/t-squares-240/
LOCATION:Graceland Christian Church\, 2126 Stateline Rd\, Southaven\, 38672\, United States
CATEGORIES:Club Dance
END:VEVENT
BEGIN:VEVENT
DTSTART;TZID=America/Chicago:20240607T190000
DTEND;TZID=America/Chicago:20240607T210000
DTSTAMP:20260419T183406
CREATED:20231220T041312Z
LAST-MODIFIED:20241006T121156Z
UID:4210-1717786800-1717794000@exp.zrcdemo.com
SUMMARY:B&Bs
DESCRIPTION:Mainstream and Plus Squares with Lines between Tips
URL:https://exp.zrcdemo.com/events/bbs-212/
LOCATION:Colonial Park United Methodist Church\, 5330 Park Avenue\, Memphis\, 38119\, United States
CATEGORIES:Club Dance
END:VEVENT
BEGIN:VEVENT
DTSTART;TZID=America/Chicago:20240606T190000
DTEND;TZID=America/Chicago:20240606T213000
DTSTAMP:20260419T183406
CREATED:20231222T193310Z
LAST-MODIFIED:20241006T121156Z
UID:4548-1717700400-1717709400@exp.zrcdemo.com
SUMMARY:Top Spinners
DESCRIPTION:Mainstream workshop\, SSD danicng with 1 Plus tip. Lines between tips
URL:https://exp.zrcdemo.com/events/top-spinners-191/
LOCATION:Eads Civic Center\, 12365 Washington Rd\, Eads\, 38028\, United States
CATEGORIES:Club Dance
END:VEVENT
BEGIN:VEVENT
DTSTART;TZID=America/Chicago:20240605T190000
DTEND;TZID=America/Chicago:20240605T210000
DTSTAMP:20260419T183406
CREATED:20231129T213642Z
LAST-MODIFIED:20241006T121156Z
UID:4143-1717614000-1717621200@exp.zrcdemo.com
SUMMARY:Pistols & Petticoats
DESCRIPTION:Mainstream and Plus Squares with Rounds between Tips
URL:https://exp.zrcdemo.com/events/pistols-petticoats-154/
LOCATION:Bartlett United Methodist Church\, 5676 Stage Rd.\, Bartlett\, 38134\, United States
CATEGORIES:Club Dance
END:VEVENT
BEGIN:VEVENT
DTSTART;TZID=America/Chicago:20240603T190000
DTEND;TZID=America/Chicago:20240603T210000
DTSTAMP:20260419T183406
CREATED:20231222T192819Z
LAST-MODIFIED:20241006T121156Z
UID:4481-1717441200-1717448400@exp.zrcdemo.com
SUMMARY:Pleasant Hill Promenaders
DESCRIPTION:Happy Memorial Day!
URL:https://exp.zrcdemo.com/events/pleasant-hill-promenaders-207/
LOCATION:Graceland Christian Church\, 2126 Stateline Rd\, Southaven\, 38672\, United States
CATEGORIES:Club Dance
END:VEVENT
BEGIN:VEVENT
DTSTART;TZID=America/Chicago:20240603T190000
DTEND;TZID=America/Chicago:20240603T210000
DTSTAMP:20260419T183406
CREATED:20231220T042238Z
LAST-MODIFIED:20241006T121156Z
UID:4266-1717441200-1717448400@exp.zrcdemo.com
SUMMARY:Merry Go Rounds
DESCRIPTION:
URL:https://exp.zrcdemo.com/events/merry-go-rounds-212/
LOCATION:Berclair Civic Club\, 743 Novarese Road\, Memphis\, TN\, 38122\, United States
CATEGORIES:Club Dance
END:VEVENT
BEGIN:VEVENT
DTSTART;TZID=America/Chicago:20240602T143000
DTEND;TZID=America/Chicago:20240602T163000
DTSTAMP:20260419T183406
CREATED:20231220T042641Z
LAST-MODIFIED:20241006T121156Z
UID:4320-1717338600-1717345800@exp.zrcdemo.com
SUMMARY:T-Squares
DESCRIPTION:Advanced Squares A2-C1
URL:https://exp.zrcdemo.com/events/t-squares-239/
LOCATION:Graceland Christian Church\, 2126 Stateline Rd\, Southaven\, 38672\, United States
CATEGORIES:Club Dance
END:VEVENT
BEGIN:VEVENT
DTSTART;TZID=America/Chicago:20240531T190000
DTEND;TZID=America/Chicago:20240531T210000
DTSTAMP:20260419T183406
CREATED:20231220T041312Z
LAST-MODIFIED:20241006T121156Z
UID:4209-1717182000-1717189200@exp.zrcdemo.com
SUMMARY:B&Bs
DESCRIPTION:Mainstream and Plus Squares with Lines between Tips
URL:https://exp.zrcdemo.com/events/bbs-211/
LOCATION:Colonial Park United Methodist Church\, 5330 Park Avenue\, Memphis\, 38119\, United States
CATEGORIES:Club Dance
END:VEVENT
BEGIN:VEVENT
DTSTART;TZID=America/Chicago:20240530T190000
DTEND;TZID=America/Chicago:20240530T213000
DTSTAMP:20260419T183406
CREATED:20231222T193309Z
LAST-MODIFIED:20241006T121156Z
UID:4547-1717095600-1717104600@exp.zrcdemo.com
SUMMARY:Top Spinners
DESCRIPTION:Mainstream workshop\, SSD danicng with 1 Plus tip. Lines between tips
URL:https://exp.zrcdemo.com/events/top-spinners-190/
LOCATION:Eads Civic Center\, 12365 Washington Rd\, Eads\, 38028\, United States
CATEGORIES:Club Dance
END:VEVENT
BEGIN:VEVENT
DTSTART;TZID=America/Chicago:20240529T190000
DTEND;TZID=America/Chicago:20240529T210000
DTSTAMP:20260419T183406
CREATED:20231129T213642Z
LAST-MODIFIED:20241006T121156Z
UID:4142-1717009200-1717016400@exp.zrcdemo.com
SUMMARY:Pistols & Petticoats
DESCRIPTION:Mainstream and Plus Squares with Rounds between Tips
URL:https://exp.zrcdemo.com/events/pistols-petticoats-153/
LOCATION:Bartlett United Methodist Church\, 5676 Stage Rd.\, Bartlett\, 38134\, United States
CATEGORIES:Club Dance
END:VEVENT
BEGIN:VEVENT
DTSTART;TZID=America/Chicago:20240527T190000
DTEND;TZID=America/Chicago:20240527T210000
DTSTAMP:20260419T183406
CREATED:20231220T042237Z
LAST-MODIFIED:20241006T121156Z
UID:4265-1716836400-1716843600@exp.zrcdemo.com
SUMMARY:Merry Go Rounds
DESCRIPTION:
URL:https://exp.zrcdemo.com/events/merry-go-rounds-211/
LOCATION:Berclair Civic Club\, 743 Novarese Road\, Memphis\, TN\, 38122\, United States
CATEGORIES:Club Dance
END:VEVENT
BEGIN:VEVENT
DTSTART;TZID=America/Chicago:20240526T143000
DTEND;TZID=America/Chicago:20240526T163000
DTSTAMP:20260419T183406
CREATED:20231220T042641Z
LAST-MODIFIED:20241006T121156Z
UID:4319-1716733800-1716741000@exp.zrcdemo.com
SUMMARY:T-Squares
DESCRIPTION:Advanced Squares A2-C1
URL:https://exp.zrcdemo.com/events/t-squares-238/
LOCATION:Graceland Christian Church\, 2126 Stateline Rd\, Southaven\, 38672\, United States
CATEGORIES:Club Dance
END:VEVENT
BEGIN:VEVENT
DTSTART;TZID=America/Chicago:20240524T190000
DTEND;TZID=America/Chicago:20240524T210000
DTSTAMP:20260419T183406
CREATED:20231220T041311Z
LAST-MODIFIED:20241006T121156Z
UID:4208-1716577200-1716584400@exp.zrcdemo.com
SUMMARY:B&Bs CLOSED
DESCRIPTION:Mainstream and Plus Squares with Lines between Tips
URL:https://exp.zrcdemo.com/events/bbs-210/
LOCATION:Colonial Park United Methodist Church\, 5330 Park Avenue\, Memphis\, 38119\, United States
CATEGORIES:Club Dance
END:VEVENT
BEGIN:VEVENT
DTSTART;TZID=America/Chicago:20240523T190000
DTEND;TZID=America/Chicago:20240523T213000
DTSTAMP:20260419T183406
CREATED:20231222T193309Z
LAST-MODIFIED:20241006T121156Z
UID:4546-1716490800-1716499800@exp.zrcdemo.com
SUMMARY:Top Spinners
DESCRIPTION:Mainstream workshop\, SSD danicng with 1 Plus tip. Lines between tips
URL:https://exp.zrcdemo.com/events/top-spinners-189/
LOCATION:Eads Civic Center\, 12365 Washington Rd\, Eads\, 38028\, United States
CATEGORIES:Club Dance
END:VEVENT
BEGIN:VEVENT
DTSTART;TZID=America/Chicago:20240522T190000
DTEND;TZID=America/Chicago:20240522T210000
DTSTAMP:20260419T183406
CREATED:20231129T213641Z
LAST-MODIFIED:20241006T121156Z
UID:4141-1716404400-1716411600@exp.zrcdemo.com
SUMMARY:Pistols & Petticoats
DESCRIPTION:Mainstream and Plus Squares with Rounds between Tips
URL:https://exp.zrcdemo.com/events/pistols-petticoats-152/
LOCATION:Bartlett United Methodist Church\, 5676 Stage Rd.\, Bartlett\, 38134\, United States
CATEGORIES:Club Dance
END:VEVENT
BEGIN:VEVENT
DTSTART;TZID=America/Chicago:20240520T190000
DTEND;TZID=America/Chicago:20240520T210000
DTSTAMP:20260419T183406
CREATED:20231222T192819Z
LAST-MODIFIED:20241006T121156Z
UID:4479-1716231600-1716238800@exp.zrcdemo.com
SUMMARY:Pleasant Hill Promenaders Renassiance Anniversary Dance
DESCRIPTION:Mainstream and Plus Squares with Rounds and Lines between Tips
URL:https://exp.zrcdemo.com/events/pleasant-hill-promenaders-206/
LOCATION:Graceland Christian Church\, 2126 Stateline Rd\, Southaven\, 38672\, United States
CATEGORIES:Club Dance
END:VEVENT
BEGIN:VEVENT
DTSTART;TZID=America/Chicago:20240520T190000
DTEND;TZID=America/Chicago:20240520T210000
DTSTAMP:20260419T183406
CREATED:20231220T042237Z
LAST-MODIFIED:20241006T121156Z
UID:4264-1716231600-1716238800@exp.zrcdemo.com
SUMMARY:Merry Go Rounds
DESCRIPTION:
URL:https://exp.zrcdemo.com/events/merry-go-rounds-210/
LOCATION:Berclair Civic Club\, 743 Novarese Road\, Memphis\, TN\, 38122\, United States
CATEGORIES:Club Dance
END:VEVENT
BEGIN:VEVENT
DTSTART;TZID=America/Chicago:20240519T143000
DTEND;TZID=America/Chicago:20240519T163000
DTSTAMP:20260419T183406
CREATED:20231220T042621Z
LAST-MODIFIED:20241006T121157Z
UID:4318-1716129000-1716136200@exp.zrcdemo.com
SUMMARY:T-Squares
DESCRIPTION:Advanced Squares A2-C1
URL:https://exp.zrcdemo.com/events/t-squares-237/
LOCATION:Graceland Christian Church\, 2126 Stateline Rd\, Southaven\, 38672\, United States
CATEGORIES:Club Dance
END:VEVENT
BEGIN:VEVENT
DTSTART;TZID=America/Chicago:20240517T190000
DTEND;TZID=America/Chicago:20240517T210000
DTSTAMP:20260419T183406
CREATED:20231220T041258Z
LAST-MODIFIED:20241006T121157Z
UID:4207-1715972400-1715979600@exp.zrcdemo.com
SUMMARY:B&Bs
DESCRIPTION:Mainstream and Plus Squares with Lines between Tips
URL:https://exp.zrcdemo.com/events/bbs-209/
LOCATION:Colonial Park United Methodist Church\, 5330 Park Avenue\, Memphis\, 38119\, United States
CATEGORIES:Club Dance
END:VEVENT
BEGIN:VEVENT
DTSTART;TZID=America/Chicago:20240515T190000
DTEND;TZID=America/Chicago:20240515T210000
DTSTAMP:20260419T183406
CREATED:20231129T213628Z
LAST-MODIFIED:20241006T121157Z
UID:4140-1715799600-1715806800@exp.zrcdemo.com
SUMMARY:Pistols & Petticoats
DESCRIPTION:Mainstream and Plus Squares with Rounds between Tips
URL:https://exp.zrcdemo.com/events/pistols-petticoats-151/
LOCATION:Bartlett United Methodist Church\, 5676 Stage Rd.\, Bartlett\, 38134\, United States
CATEGORIES:Club Dance
END:VEVENT
BEGIN:VEVENT
DTSTART;TZID=America/Chicago:20240513T190000
DTEND;TZID=America/Chicago:20240513T210000
DTSTAMP:20260419T183406
CREATED:20231220T042223Z
LAST-MODIFIED:20241006T121157Z
UID:4263-1715626800-1715634000@exp.zrcdemo.com
SUMMARY:Merry Go Rounds
DESCRIPTION:
URL:https://exp.zrcdemo.com/events/merry-go-rounds-209/
LOCATION:Berclair Civic Club\, 743 Novarese Road\, Memphis\, TN\, 38122\, United States
CATEGORIES:Club Dance
END:VEVENT
BEGIN:VEVENT
DTSTART;TZID=America/Chicago:20240512T143000
DTEND;TZID=America/Chicago:20240512T163000
DTSTAMP:20260419T183406
CREATED:20231220T042621Z
LAST-MODIFIED:20241006T121157Z
UID:4317-1715524200-1715531400@exp.zrcdemo.com
SUMMARY:T-Squares
DESCRIPTION:Advanced Squares A2-C1
URL:https://exp.zrcdemo.com/events/t-squares-236/
LOCATION:Graceland Christian Church\, 2126 Stateline Rd\, Southaven\, 38672\, United States
CATEGORIES:Club Dance
END:VEVENT
BEGIN:VEVENT
DTSTART;TZID=America/Chicago:20240510T190000
DTEND;TZID=America/Chicago:20240510T210000
DTSTAMP:20260419T183406
CREATED:20231220T041257Z
LAST-MODIFIED:20241006T121157Z
UID:4206-1715367600-1715374800@exp.zrcdemo.com
SUMMARY:B&Bs
DESCRIPTION:Mainstream and Plus Squares with Lines between Tips
URL:https://exp.zrcdemo.com/events/bbs-208/
LOCATION:Colonial Park United Methodist Church\, 5330 Park Avenue\, Memphis\, 38119\, United States
CATEGORIES:Club Dance
END:VEVENT
BEGIN:VEVENT
DTSTART;TZID=America/Chicago:20240509T200000
DTEND;TZID=America/Chicago:20240509T213000
DTSTAMP:20260419T183406
CREATED:20231222T193255Z
LAST-MODIFIED:20241006T121157Z
UID:4543-1715284800-1715290200@exp.zrcdemo.com
SUMMARY:Top Spinners
DESCRIPTION:Mainstream workshop\, SSD danicng with 1 Plus tip. Lines between tips
URL:https://exp.zrcdemo.com/events/top-spinners-188/
LOCATION:Eads Civic Center\, 12365 Washington Rd\, Eads\, 38028\, United States
CATEGORIES:Club Dance
END:VEVENT
BEGIN:VEVENT
DTSTART;TZID=America/Chicago:20240508T190000
DTEND;TZID=America/Chicago:20240508T210000
DTSTAMP:20260419T183406
CREATED:20231129T213627Z
LAST-MODIFIED:20241006T121157Z
UID:4139-1715194800-1715202000@exp.zrcdemo.com
SUMMARY:Pistols & Petticoats CLOSED
DESCRIPTION:Mainstream and Plus Squares with Rounds between Tips
URL:https://exp.zrcdemo.com/events/pistols-petticoats-150/
LOCATION:Bartlett United Methodist Church\, 5676 Stage Rd.\, Bartlett\, 38134\, United States
CATEGORIES:Club Dance
END:VEVENT
BEGIN:VEVENT
DTSTART;TZID=America/Chicago:20240506T190000
DTEND;TZID=America/Chicago:20240506T210000
DTSTAMP:20260419T183406
CREATED:20231222T192805Z
LAST-MODIFIED:20241006T121157Z
UID:4477-1715022000-1715029200@exp.zrcdemo.com
SUMMARY:Pleasant Hill Promenaders
DESCRIPTION:Mainstream and Plus Squares with Rounds and Lines between Tips
URL:https://exp.zrcdemo.com/events/pleasant-hill-promenaders-205/
LOCATION:Graceland Christian Church\, 2126 Stateline Rd\, Southaven\, 38672\, United States
CATEGORIES:Club Dance
END:VEVENT
BEGIN:VEVENT
DTSTART;TZID=America/Chicago:20240506T190000
DTEND;TZID=America/Chicago:20240506T210000
DTSTAMP:20260419T183406
CREATED:20231220T042223Z
LAST-MODIFIED:20241006T121157Z
UID:4262-1715022000-1715029200@exp.zrcdemo.com
SUMMARY:Merry Go Rounds
DESCRIPTION:
URL:https://exp.zrcdemo.com/events/merry-go-rounds-208/
LOCATION:Berclair Civic Club\, 743 Novarese Road\, Memphis\, TN\, 38122\, United States
CATEGORIES:Club Dance
END:VEVENT
END:VCALENDAR