BEGIN:VCALENDAR
VERSION:2.0
PRODID:-//Greater Memphis Square &amp; Round Dance Association - ECPv6.15.20//NONSGML v1.0//EN
CALSCALE:GREGORIAN
METHOD:PUBLISH
X-ORIGINAL-URL:https://exp.zrcdemo.com
X-WR-CALDESC:Events for Greater Memphis Square &amp; Round Dance Association
REFRESH-INTERVAL;VALUE=DURATION:PT1H
X-Robots-Tag:noindex
X-PUBLISHED-TTL:PT1H
BEGIN:VTIMEZONE
TZID:America/Chicago
BEGIN:DAYLIGHT
TZOFFSETFROM:-0600
TZOFFSETTO:-0500
TZNAME:CDT
DTSTART:20230312T080000
END:DAYLIGHT
BEGIN:STANDARD
TZOFFSETFROM:-0500
TZOFFSETTO:-0600
TZNAME:CST
DTSTART:20231105T070000
END:STANDARD
BEGIN:DAYLIGHT
TZOFFSETFROM:-0600
TZOFFSETTO:-0500
TZNAME:CDT
DTSTART:20240310T080000
END:DAYLIGHT
BEGIN:STANDARD
TZOFFSETFROM:-0500
TZOFFSETTO:-0600
TZNAME:CST
DTSTART:20241103T070000
END:STANDARD
BEGIN:DAYLIGHT
TZOFFSETFROM:-0600
TZOFFSETTO:-0500
TZNAME:CDT
DTSTART:20250309T080000
END:DAYLIGHT
BEGIN:STANDARD
TZOFFSETFROM:-0500
TZOFFSETTO:-0600
TZNAME:CST
DTSTART:20251102T070000
END:STANDARD
END:VTIMEZONE
BEGIN:VEVENT
DTSTART;TZID=America/Chicago:20240519T143000
DTEND;TZID=America/Chicago:20240519T163000
DTSTAMP:20260419T220536
CREATED:20231220T042621Z
LAST-MODIFIED:20241006T121157Z
UID:4318-1716129000-1716136200@exp.zrcdemo.com
SUMMARY:T-Squares
DESCRIPTION:Advanced Squares A2-C1
URL:https://exp.zrcdemo.com/events/t-squares-237/
LOCATION:Graceland Christian Church\, 2126 Stateline Rd\, Southaven\, 38672\, United States
CATEGORIES:Club Dance
END:VEVENT
BEGIN:VEVENT
DTSTART;TZID=America/Chicago:20240517T190000
DTEND;TZID=America/Chicago:20240517T210000
DTSTAMP:20260419T220536
CREATED:20231220T041258Z
LAST-MODIFIED:20241006T121157Z
UID:4207-1715972400-1715979600@exp.zrcdemo.com
SUMMARY:B&Bs
DESCRIPTION:Mainstream and Plus Squares with Lines between Tips
URL:https://exp.zrcdemo.com/events/bbs-209/
LOCATION:Colonial Park United Methodist Church\, 5330 Park Avenue\, Memphis\, 38119\, United States
CATEGORIES:Club Dance
END:VEVENT
BEGIN:VEVENT
DTSTART;TZID=America/Chicago:20240515T190000
DTEND;TZID=America/Chicago:20240515T210000
DTSTAMP:20260419T220536
CREATED:20231129T213628Z
LAST-MODIFIED:20241006T121157Z
UID:4140-1715799600-1715806800@exp.zrcdemo.com
SUMMARY:Pistols & Petticoats
DESCRIPTION:Mainstream and Plus Squares with Rounds between Tips
URL:https://exp.zrcdemo.com/events/pistols-petticoats-151/
LOCATION:Bartlett United Methodist Church\, 5676 Stage Rd.\, Bartlett\, 38134\, United States
CATEGORIES:Club Dance
END:VEVENT
BEGIN:VEVENT
DTSTART;TZID=America/Chicago:20240513T190000
DTEND;TZID=America/Chicago:20240513T210000
DTSTAMP:20260419T220536
CREATED:20231220T042223Z
LAST-MODIFIED:20241006T121157Z
UID:4263-1715626800-1715634000@exp.zrcdemo.com
SUMMARY:Merry Go Rounds
DESCRIPTION:
URL:https://exp.zrcdemo.com/events/merry-go-rounds-209/
LOCATION:Berclair Civic Club\, 743 Novarese Road\, Memphis\, TN\, 38122\, United States
CATEGORIES:Club Dance
END:VEVENT
BEGIN:VEVENT
DTSTART;TZID=America/Chicago:20240512T143000
DTEND;TZID=America/Chicago:20240512T163000
DTSTAMP:20260419T220536
CREATED:20231220T042621Z
LAST-MODIFIED:20241006T121157Z
UID:4317-1715524200-1715531400@exp.zrcdemo.com
SUMMARY:T-Squares
DESCRIPTION:Advanced Squares A2-C1
URL:https://exp.zrcdemo.com/events/t-squares-236/
LOCATION:Graceland Christian Church\, 2126 Stateline Rd\, Southaven\, 38672\, United States
CATEGORIES:Club Dance
END:VEVENT
BEGIN:VEVENT
DTSTART;TZID=America/Chicago:20240510T190000
DTEND;TZID=America/Chicago:20240510T210000
DTSTAMP:20260419T220536
CREATED:20231220T041257Z
LAST-MODIFIED:20241006T121157Z
UID:4206-1715367600-1715374800@exp.zrcdemo.com
SUMMARY:B&Bs
DESCRIPTION:Mainstream and Plus Squares with Lines between Tips
URL:https://exp.zrcdemo.com/events/bbs-208/
LOCATION:Colonial Park United Methodist Church\, 5330 Park Avenue\, Memphis\, 38119\, United States
CATEGORIES:Club Dance
END:VEVENT
BEGIN:VEVENT
DTSTART;TZID=America/Chicago:20240509T200000
DTEND;TZID=America/Chicago:20240509T213000
DTSTAMP:20260419T220536
CREATED:20231222T193255Z
LAST-MODIFIED:20241006T121157Z
UID:4543-1715284800-1715290200@exp.zrcdemo.com
SUMMARY:Top Spinners
DESCRIPTION:Mainstream workshop\, SSD danicng with 1 Plus tip. Lines between tips
URL:https://exp.zrcdemo.com/events/top-spinners-188/
LOCATION:Eads Civic Center\, 12365 Washington Rd\, Eads\, 38028\, United States
CATEGORIES:Club Dance
END:VEVENT
BEGIN:VEVENT
DTSTART;TZID=America/Chicago:20240508T190000
DTEND;TZID=America/Chicago:20240508T210000
DTSTAMP:20260419T220536
CREATED:20231129T213627Z
LAST-MODIFIED:20241006T121157Z
UID:4139-1715194800-1715202000@exp.zrcdemo.com
SUMMARY:Pistols & Petticoats CLOSED
DESCRIPTION:Mainstream and Plus Squares with Rounds between Tips
URL:https://exp.zrcdemo.com/events/pistols-petticoats-150/
LOCATION:Bartlett United Methodist Church\, 5676 Stage Rd.\, Bartlett\, 38134\, United States
CATEGORIES:Club Dance
END:VEVENT
BEGIN:VEVENT
DTSTART;TZID=America/Chicago:20240506T190000
DTEND;TZID=America/Chicago:20240506T210000
DTSTAMP:20260419T220536
CREATED:20231222T192805Z
LAST-MODIFIED:20241006T121157Z
UID:4477-1715022000-1715029200@exp.zrcdemo.com
SUMMARY:Pleasant Hill Promenaders
DESCRIPTION:Mainstream and Plus Squares with Rounds and Lines between Tips
URL:https://exp.zrcdemo.com/events/pleasant-hill-promenaders-205/
LOCATION:Graceland Christian Church\, 2126 Stateline Rd\, Southaven\, 38672\, United States
CATEGORIES:Club Dance
END:VEVENT
BEGIN:VEVENT
DTSTART;TZID=America/Chicago:20240506T190000
DTEND;TZID=America/Chicago:20240506T210000
DTSTAMP:20260419T220536
CREATED:20231220T042223Z
LAST-MODIFIED:20241006T121157Z
UID:4262-1715022000-1715029200@exp.zrcdemo.com
SUMMARY:Merry Go Rounds
DESCRIPTION:
URL:https://exp.zrcdemo.com/events/merry-go-rounds-208/
LOCATION:Berclair Civic Club\, 743 Novarese Road\, Memphis\, TN\, 38122\, United States
CATEGORIES:Club Dance
END:VEVENT
BEGIN:VEVENT
DTSTART;TZID=America/Chicago:20240505T143000
DTEND;TZID=America/Chicago:20240505T163000
DTSTAMP:20260419T220536
CREATED:20231220T042620Z
LAST-MODIFIED:20241006T121157Z
UID:4316-1714919400-1714926600@exp.zrcdemo.com
SUMMARY:T-Squares
DESCRIPTION:Advanced Squares A2-C1
URL:https://exp.zrcdemo.com/events/t-squares-235/
LOCATION:Graceland Christian Church\, 2126 Stateline Rd\, Southaven\, 38672\, United States
CATEGORIES:Club Dance
END:VEVENT
BEGIN:VEVENT
DTSTART;TZID=America/Chicago:20240503T190000
DTEND;TZID=America/Chicago:20240503T210000
DTSTAMP:20260419T220536
CREATED:20231220T041257Z
LAST-MODIFIED:20241006T121157Z
UID:4205-1714762800-1714770000@exp.zrcdemo.com
SUMMARY:B&Bs
DESCRIPTION:Mainstream and Plus Squares with Lines between Tips
URL:https://exp.zrcdemo.com/events/bbs-207/
LOCATION:Colonial Park United Methodist Church\, 5330 Park Avenue\, Memphis\, 38119\, United States
CATEGORIES:Club Dance
END:VEVENT
BEGIN:VEVENT
DTSTART;TZID=America/Chicago:20240502T200000
DTEND;TZID=America/Chicago:20240502T213000
DTSTAMP:20260419T220536
CREATED:20231222T193255Z
LAST-MODIFIED:20241006T121157Z
UID:4541-1714680000-1714685400@exp.zrcdemo.com
SUMMARY:Top Spinners
DESCRIPTION:Mainstream workshop\, SSD danicng with 1 Plus tip. Lines between tips
URL:https://exp.zrcdemo.com/events/top-spinners-187/
LOCATION:Eads Civic Center\, 12365 Washington Rd\, Eads\, 38028\, United States
CATEGORIES:Club Dance
END:VEVENT
BEGIN:VEVENT
DTSTART;TZID=America/Chicago:20240501T190000
DTEND;TZID=America/Chicago:20240501T210000
DTSTAMP:20260419T220536
CREATED:20231129T213627Z
LAST-MODIFIED:20241006T121157Z
UID:4138-1714590000-1714597200@exp.zrcdemo.com
SUMMARY:Pistols & Petticoats
DESCRIPTION:Mainstream and Plus Squares with Rounds between Tips
URL:https://exp.zrcdemo.com/events/pistols-petticoats-149/
LOCATION:Bartlett United Methodist Church\, 5676 Stage Rd.\, Bartlett\, 38134\, United States
CATEGORIES:Club Dance
END:VEVENT
BEGIN:VEVENT
DTSTART;TZID=America/Chicago:20240429T190000
DTEND;TZID=America/Chicago:20240429T210000
DTSTAMP:20260419T220536
CREATED:20231222T192804Z
LAST-MODIFIED:20241006T121157Z
UID:4476-1714417200-1714424400@exp.zrcdemo.com
SUMMARY:Pleasant Hill Promenaders
DESCRIPTION:Mainstream and Plus Squares with Rounds and Lines between Tips
URL:https://exp.zrcdemo.com/events/pleasant-hill-promenaders-204/
LOCATION:Graceland Christian Church\, 2126 Stateline Rd\, Southaven\, 38672\, United States
CATEGORIES:Club Dance
END:VEVENT
BEGIN:VEVENT
DTSTART;TZID=America/Chicago:20240429T190000
DTEND;TZID=America/Chicago:20240429T210000
DTSTAMP:20260419T220536
CREATED:20231220T042222Z
LAST-MODIFIED:20241006T121157Z
UID:4261-1714417200-1714424400@exp.zrcdemo.com
SUMMARY:Merry Go Rounds
DESCRIPTION:
URL:https://exp.zrcdemo.com/events/merry-go-rounds-207/
LOCATION:Berclair Civic Club\, 743 Novarese Road\, Memphis\, TN\, 38122\, United States
CATEGORIES:Club Dance
END:VEVENT
BEGIN:VEVENT
DTSTART;TZID=America/Chicago:20240428T143000
DTEND;TZID=America/Chicago:20240428T163000
DTSTAMP:20260419T220536
CREATED:20231220T042620Z
LAST-MODIFIED:20241006T121158Z
UID:4315-1714314600-1714321800@exp.zrcdemo.com
SUMMARY:T-Squares
DESCRIPTION:Advanced Squares A2-C1
URL:https://exp.zrcdemo.com/events/t-squares-234/
LOCATION:Graceland Christian Church\, 2126 Stateline Rd\, Southaven\, 38672\, United States
CATEGORIES:Club Dance
END:VEVENT
BEGIN:VEVENT
DTSTART;TZID=America/Chicago:20240426T190000
DTEND;TZID=America/Chicago:20240426T210000
DTSTAMP:20260419T220536
CREATED:20231220T041257Z
LAST-MODIFIED:20241006T121158Z
UID:4204-1714158000-1714165200@exp.zrcdemo.com
SUMMARY:B&Bs
DESCRIPTION:Mainstream and Plus Squares with Lines between Tips
URL:https://exp.zrcdemo.com/events/bbs-206/
LOCATION:Colonial Park United Methodist Church\, 5330 Park Avenue\, Memphis\, 38119\, United States
CATEGORIES:Club Dance
END:VEVENT
BEGIN:VEVENT
DTSTART;TZID=America/Chicago:20240425T200000
DTEND;TZID=America/Chicago:20240425T213000
DTSTAMP:20260419T220536
CREATED:20231222T193254Z
LAST-MODIFIED:20241006T121158Z
UID:4539-1714075200-1714080600@exp.zrcdemo.com
SUMMARY:Top Spinners
DESCRIPTION:Mainstream workshop\, SSD danicng with 1 Plus tip. Lines between tips
URL:https://exp.zrcdemo.com/events/top-spinners-186/
LOCATION:Eads Civic Center\, 12365 Washington Rd\, Eads\, 38028\, United States
CATEGORIES:Club Dance
END:VEVENT
BEGIN:VEVENT
DTSTART;TZID=America/Chicago:20240424T190000
DTEND;TZID=America/Chicago:20240424T210000
DTSTAMP:20260419T220536
CREATED:20231129T213627Z
LAST-MODIFIED:20241006T121158Z
UID:4137-1713985200-1713992400@exp.zrcdemo.com
SUMMARY:Pistols & Petticoats
DESCRIPTION:Mainstream and Plus Squares with Rounds between Tips
URL:https://exp.zrcdemo.com/events/pistols-petticoats-148/
LOCATION:Bartlett United Methodist Church\, 5676 Stage Rd.\, Bartlett\, 38134\, United States
CATEGORIES:Club Dance
END:VEVENT
BEGIN:VEVENT
DTSTART;TZID=America/Chicago:20240422T190000
DTEND;TZID=America/Chicago:20240422T210000
DTSTAMP:20260419T220536
CREATED:20231222T192804Z
LAST-MODIFIED:20241006T121158Z
UID:4475-1713812400-1713819600@exp.zrcdemo.com
SUMMARY:Pleasant Hill Promenaders
DESCRIPTION:Mainstream and Plus Squares with Rounds and Lines between Tips
URL:https://exp.zrcdemo.com/events/pleasant-hill-promenaders-203/
LOCATION:Graceland Christian Church\, 2126 Stateline Rd\, Southaven\, 38672\, United States
CATEGORIES:Club Dance
END:VEVENT
BEGIN:VEVENT
DTSTART;TZID=America/Chicago:20240422T190000
DTEND;TZID=America/Chicago:20240422T210000
DTSTAMP:20260419T220536
CREATED:20231220T042222Z
LAST-MODIFIED:20241006T121158Z
UID:4260-1713812400-1713819600@exp.zrcdemo.com
SUMMARY:Merry Go Rounds
DESCRIPTION:
URL:https://exp.zrcdemo.com/events/merry-go-rounds-206/
LOCATION:Berclair Civic Club\, 743 Novarese Road\, Memphis\, TN\, 38122\, United States
CATEGORIES:Club Dance
END:VEVENT
BEGIN:VEVENT
DTSTART;TZID=America/Chicago:20240421T143000
DTEND;TZID=America/Chicago:20240421T163000
DTSTAMP:20260419T220536
CREATED:20231220T042620Z
LAST-MODIFIED:20241006T121158Z
UID:4314-1713709800-1713717000@exp.zrcdemo.com
SUMMARY:T-Squares
DESCRIPTION:Advanced Squares A2-C1
URL:https://exp.zrcdemo.com/events/t-squares-233/
LOCATION:Graceland Christian Church\, 2126 Stateline Rd\, Southaven\, 38672\, United States
CATEGORIES:Club Dance
END:VEVENT
BEGIN:VEVENT
DTSTART;TZID=America/Chicago:20240419T190000
DTEND;TZID=America/Chicago:20240419T210000
DTSTAMP:20260419T220536
CREATED:20231220T041256Z
LAST-MODIFIED:20241006T121158Z
UID:4203-1713553200-1713560400@exp.zrcdemo.com
SUMMARY:B&Bs After Tax Dance
DESCRIPTION:Mainstream and Plus Squares with Lines between Tips
URL:https://exp.zrcdemo.com/events/bbs-205/
LOCATION:Colonial Park United Methodist Church\, 5330 Park Avenue\, Memphis\, 38119\, United States
CATEGORIES:Club Dance
END:VEVENT
BEGIN:VEVENT
DTSTART;TZID=America/Chicago:20240418T200000
DTEND;TZID=America/Chicago:20240418T213000
DTSTAMP:20260419T220536
CREATED:20231222T193239Z
LAST-MODIFIED:20241006T121158Z
UID:4537-1713470400-1713475800@exp.zrcdemo.com
SUMMARY:Top Spinners
DESCRIPTION:Mainstream workshop\, SSD danicng with 1 Plus tip. Lines between tips
URL:https://exp.zrcdemo.com/events/top-spinners-185/
LOCATION:Eads Civic Center\, 12365 Washington Rd\, Eads\, 38028\, United States
CATEGORIES:Club Dance
END:VEVENT
BEGIN:VEVENT
DTSTART;TZID=America/Chicago:20240417T190000
DTEND;TZID=America/Chicago:20240417T210000
DTSTAMP:20260419T220536
CREATED:20231129T213627Z
LAST-MODIFIED:20241006T121158Z
UID:4136-1713380400-1713387600@exp.zrcdemo.com
SUMMARY:Pistols & Petticoats
DESCRIPTION:Mainstream and Plus Squares with Rounds between Tips
URL:https://exp.zrcdemo.com/events/pistols-petticoats-147/
LOCATION:Bartlett United Methodist Church\, 5676 Stage Rd.\, Bartlett\, 38134\, United States
CATEGORIES:Club Dance
END:VEVENT
BEGIN:VEVENT
DTSTART;TZID=America/Chicago:20240415T190000
DTEND;TZID=America/Chicago:20240415T210000
DTSTAMP:20260419T220536
CREATED:20231222T192804Z
LAST-MODIFIED:20241006T121158Z
UID:4474-1713207600-1713214800@exp.zrcdemo.com
SUMMARY:Pleasant Hill Promenaders
DESCRIPTION:Mainstream and Plus Squares with Rounds and Lines between Tips
URL:https://exp.zrcdemo.com/events/pleasant-hill-promenaders-202/
LOCATION:Graceland Christian Church\, 2126 Stateline Rd\, Southaven\, 38672\, United States
CATEGORIES:Club Dance
END:VEVENT
BEGIN:VEVENT
DTSTART;TZID=America/Chicago:20240415T190000
DTEND;TZID=America/Chicago:20240415T210000
DTSTAMP:20260419T220536
CREATED:20231220T042222Z
LAST-MODIFIED:20241006T121158Z
UID:4259-1713207600-1713214800@exp.zrcdemo.com
SUMMARY:Merry Go Rounds
DESCRIPTION:
URL:https://exp.zrcdemo.com/events/merry-go-rounds-205/
LOCATION:Berclair Civic Club\, 743 Novarese Road\, Memphis\, TN\, 38122\, United States
CATEGORIES:Club Dance
END:VEVENT
BEGIN:VEVENT
DTSTART;TZID=America/Chicago:20240414T143000
DTEND;TZID=America/Chicago:20240414T163000
DTSTAMP:20260419T220536
CREATED:20231220T042606Z
LAST-MODIFIED:20241006T121158Z
UID:4313-1713105000-1713112200@exp.zrcdemo.com
SUMMARY:T-Squares
DESCRIPTION:Advanced Squares A2-C1
URL:https://exp.zrcdemo.com/events/t-squares-232/
LOCATION:Graceland Christian Church\, 2126 Stateline Rd\, Southaven\, 38672\, United States
CATEGORIES:Club Dance
END:VEVENT
BEGIN:VEVENT
DTSTART;TZID=America/Chicago:20240412T190000
DTEND;TZID=America/Chicago:20240412T210000
DTSTAMP:20260419T220536
CREATED:20231220T041242Z
LAST-MODIFIED:20241006T121158Z
UID:4202-1712948400-1712955600@exp.zrcdemo.com
SUMMARY:B&Bs
DESCRIPTION:Mainstream and Plus Squares with Lines between Tips
URL:https://exp.zrcdemo.com/events/bbs-204/
LOCATION:Colonial Park United Methodist Church\, 5330 Park Avenue\, Memphis\, 38119\, United States
CATEGORIES:Club Dance
END:VEVENT
END:VCALENDAR