BEGIN:VCALENDAR
VERSION:2.0
PRODID:-//Greater Memphis Square &amp; Round Dance Association - ECPv6.15.20//NONSGML v1.0//EN
CALSCALE:GREGORIAN
METHOD:PUBLISH
X-ORIGINAL-URL:https://exp.zrcdemo.com
X-WR-CALDESC:Events for Greater Memphis Square &amp; Round Dance Association
REFRESH-INTERVAL;VALUE=DURATION:PT1H
X-Robots-Tag:noindex
X-PUBLISHED-TTL:PT1H
BEGIN:VTIMEZONE
TZID:America/Chicago
BEGIN:DAYLIGHT
TZOFFSETFROM:-0600
TZOFFSETTO:-0500
TZNAME:CDT
DTSTART:20230312T080000
END:DAYLIGHT
BEGIN:STANDARD
TZOFFSETFROM:-0500
TZOFFSETTO:-0600
TZNAME:CST
DTSTART:20231105T070000
END:STANDARD
BEGIN:DAYLIGHT
TZOFFSETFROM:-0600
TZOFFSETTO:-0500
TZNAME:CDT
DTSTART:20240310T080000
END:DAYLIGHT
BEGIN:STANDARD
TZOFFSETFROM:-0500
TZOFFSETTO:-0600
TZNAME:CST
DTSTART:20241103T070000
END:STANDARD
BEGIN:DAYLIGHT
TZOFFSETFROM:-0600
TZOFFSETTO:-0500
TZNAME:CDT
DTSTART:20250309T080000
END:DAYLIGHT
BEGIN:STANDARD
TZOFFSETFROM:-0500
TZOFFSETTO:-0600
TZNAME:CST
DTSTART:20251102T070000
END:STANDARD
END:VTIMEZONE
BEGIN:VEVENT
DTSTART;TZID=America/Chicago:20240411T200000
DTEND;TZID=America/Chicago:20240411T213000
DTSTAMP:20260420T025628
CREATED:20231222T193239Z
LAST-MODIFIED:20241006T121158Z
UID:4535-1712865600-1712871000@exp.zrcdemo.com
SUMMARY:Top Spinners
DESCRIPTION:Mainstream workshop\, SSD danicng with 1 Plus tip. Lines between tips
URL:https://exp.zrcdemo.com/events/top-spinners-184/
LOCATION:Eads Civic Center\, 12365 Washington Rd\, Eads\, 38028\, United States
CATEGORIES:Club Dance
END:VEVENT
BEGIN:VEVENT
DTSTART;TZID=America/Chicago:20240410T190000
DTEND;TZID=America/Chicago:20240410T210000
DTSTAMP:20260420T025628
CREATED:20231129T213613Z
LAST-MODIFIED:20241006T121159Z
UID:4135-1712775600-1712782800@exp.zrcdemo.com
SUMMARY:Pistols & Petticoats
DESCRIPTION:Mainstream and Plus Squares with Rounds between Tips
URL:https://exp.zrcdemo.com/events/pistols-petticoats-146/
LOCATION:Bartlett United Methodist Church\, 5676 Stage Rd.\, Bartlett\, 38134\, United States
CATEGORIES:Club Dance
END:VEVENT
BEGIN:VEVENT
DTSTART;TZID=America/Chicago:20240408T190000
DTEND;TZID=America/Chicago:20240408T210000
DTSTAMP:20260420T025628
CREATED:20231222T192750Z
LAST-MODIFIED:20241006T121159Z
UID:4473-1712602800-1712610000@exp.zrcdemo.com
SUMMARY:Pleasant Hill Promenaders
DESCRIPTION:Mainstream and Plus Squares with Rounds and Lines between Tips
URL:https://exp.zrcdemo.com/events/pleasant-hill-promenaders-201/
LOCATION:Graceland Christian Church\, 2126 Stateline Rd\, Southaven\, 38672\, United States
CATEGORIES:Club Dance
END:VEVENT
BEGIN:VEVENT
DTSTART;TZID=America/Chicago:20240408T190000
DTEND;TZID=America/Chicago:20240408T210000
DTSTAMP:20260420T025628
CREATED:20231220T042138Z
LAST-MODIFIED:20241006T121159Z
UID:4258-1712602800-1712610000@exp.zrcdemo.com
SUMMARY:Merry Go Rounds
DESCRIPTION:
URL:https://exp.zrcdemo.com/events/merry-go-rounds-204/
LOCATION:Berclair Civic Club\, 743 Novarese Road\, Memphis\, TN\, 38122\, United States
CATEGORIES:Club Dance
END:VEVENT
BEGIN:VEVENT
DTSTART;TZID=America/Chicago:20240407T143000
DTEND;TZID=America/Chicago:20240407T163000
DTSTAMP:20260420T025628
CREATED:20231220T042606Z
LAST-MODIFIED:20241006T121159Z
UID:4312-1712500200-1712507400@exp.zrcdemo.com
SUMMARY:T-Squares
DESCRIPTION:Advanced Squares A2-C1
URL:https://exp.zrcdemo.com/events/t-squares-231/
LOCATION:Graceland Christian Church\, 2126 Stateline Rd\, Southaven\, 38672\, United States
CATEGORIES:Club Dance
END:VEVENT
BEGIN:VEVENT
DTSTART;TZID=America/Chicago:20240405T190000
DTEND;TZID=America/Chicago:20240405T210000
DTSTAMP:20260420T025628
CREATED:20231220T041242Z
LAST-MODIFIED:20241006T121159Z
UID:4201-1712343600-1712350800@exp.zrcdemo.com
SUMMARY:B&Bs
DESCRIPTION:Mainstream and Plus Squares with Lines between Tips
URL:https://exp.zrcdemo.com/events/bbs-203/
LOCATION:Colonial Park United Methodist Church\, 5330 Park Avenue\, Memphis\, 38119\, United States
CATEGORIES:Club Dance
END:VEVENT
BEGIN:VEVENT
DTSTART;TZID=America/Chicago:20240404T200000
DTEND;TZID=America/Chicago:20240404T213000
DTSTAMP:20260420T025628
CREATED:20231222T193225Z
LAST-MODIFIED:20241006T121159Z
UID:4533-1712260800-1712266200@exp.zrcdemo.com
SUMMARY:Top Spinners
DESCRIPTION:Mainstream workshop\, SSD danicng with 1 Plus tip. Lines between tips
URL:https://exp.zrcdemo.com/events/top-spinners-183/
LOCATION:Eads Civic Center\, 12365 Washington Rd\, Eads\, 38028\, United States
CATEGORIES:Club Dance
END:VEVENT
BEGIN:VEVENT
DTSTART;TZID=America/Chicago:20240403T190000
DTEND;TZID=America/Chicago:20240403T210000
DTSTAMP:20260420T025628
CREATED:20231129T213612Z
LAST-MODIFIED:20241006T121159Z
UID:4134-1712170800-1712178000@exp.zrcdemo.com
SUMMARY:Pistols & Petticoats
DESCRIPTION:Mainstream and Plus Squares with Rounds between Tips
URL:https://exp.zrcdemo.com/events/pistols-petticoats-145/
LOCATION:Bartlett United Methodist Church\, 5676 Stage Rd.\, Bartlett\, 38134\, United States
CATEGORIES:Club Dance
END:VEVENT
BEGIN:VEVENT
DTSTART;TZID=America/Chicago:20240401T190000
DTEND;TZID=America/Chicago:20240401T210000
DTSTAMP:20260420T025628
CREATED:20231222T192750Z
LAST-MODIFIED:20241006T121159Z
UID:4472-1711998000-1712005200@exp.zrcdemo.com
SUMMARY:Pleasant Hill Promenaders
DESCRIPTION:Mainstream and Plus Squares with Rounds and Lines between Tips
URL:https://exp.zrcdemo.com/events/pleasant-hill-promenaders-200/
LOCATION:Graceland Christian Church\, 2126 Stateline Rd\, Southaven\, 38672\, United States
CATEGORIES:Club Dance
END:VEVENT
BEGIN:VEVENT
DTSTART;TZID=America/Chicago:20240401T190000
DTEND;TZID=America/Chicago:20240401T210000
DTSTAMP:20260420T025628
CREATED:20231220T042138Z
LAST-MODIFIED:20231220T042138Z
UID:4257-1711998000-1712005200@exp.zrcdemo.com
SUMMARY:Merry Go Rounds
DESCRIPTION:
URL:https://exp.zrcdemo.com/events/merry-go-rounds-203/
LOCATION:Berclair Civic Club\, 743 Novarese Road\, Memphis\, TN\, 38122\, United States
CATEGORIES:Club Dance
END:VEVENT
BEGIN:VEVENT
DTSTART;TZID=America/Chicago:20240331T143000
DTEND;TZID=America/Chicago:20240331T163000
DTSTAMP:20260420T025628
CREATED:20231220T042606Z
LAST-MODIFIED:20231220T042606Z
UID:4311-1711895400-1711902600@exp.zrcdemo.com
SUMMARY:T-Squares
DESCRIPTION:Advanced Squares A2-C1
URL:https://exp.zrcdemo.com/events/t-squares-230/
LOCATION:Graceland Christian Church\, 2126 Stateline Rd\, Southaven\, 38672\, United States
CATEGORIES:Club Dance
END:VEVENT
BEGIN:VEVENT
DTSTART;TZID=America/Chicago:20240329T190000
DTEND;TZID=America/Chicago:20240329T210000
DTSTAMP:20260420T025628
CREATED:20231220T041242Z
LAST-MODIFIED:20240323T145353Z
UID:4200-1711738800-1711746000@exp.zrcdemo.com
SUMMARY:B&Bs CLOSED
DESCRIPTION:Mainstream and Plus Squares with Lines between Tips
URL:https://exp.zrcdemo.com/events/bbs-202/
LOCATION:Colonial Park United Methodist Church\, 5330 Park Avenue\, Memphis\, 38119\, United States
CATEGORIES:Club Dance
END:VEVENT
BEGIN:VEVENT
DTSTART;TZID=America/Chicago:20240328T200000
DTEND;TZID=America/Chicago:20240328T213000
DTSTAMP:20260420T025628
CREATED:20231222T193224Z
LAST-MODIFIED:20231222T193224Z
UID:4531-1711656000-1711661400@exp.zrcdemo.com
SUMMARY:Top Spinners
DESCRIPTION:Mainstream workshop\, SSD danicng with 1 Plus tip. Lines between tips
URL:https://exp.zrcdemo.com/events/top-spinners-182/
LOCATION:Eads Civic Center\, 12365 Washington Rd\, Eads\, 38028\, United States
CATEGORIES:Club Dance
END:VEVENT
BEGIN:VEVENT
DTSTART;TZID=America/Chicago:20240325T190000
DTEND;TZID=America/Chicago:20240325T210000
DTSTAMP:20260420T025628
CREATED:20231222T192749Z
LAST-MODIFIED:20231222T192749Z
UID:4471-1711393200-1711400400@exp.zrcdemo.com
SUMMARY:Pleasant Hill Promenaders
DESCRIPTION:Mainstream and Plus Squares with Rounds and Lines between Tips
URL:https://exp.zrcdemo.com/events/pleasant-hill-promenaders-199/
LOCATION:Graceland Christian Church\, 2126 Stateline Rd\, Southaven\, 38672\, United States
CATEGORIES:Club Dance
END:VEVENT
BEGIN:VEVENT
DTSTART;TZID=America/Chicago:20240325T190000
DTEND;TZID=America/Chicago:20240325T210000
DTSTAMP:20260420T025628
CREATED:20231220T042138Z
LAST-MODIFIED:20231220T042138Z
UID:4256-1711393200-1711400400@exp.zrcdemo.com
SUMMARY:Merry Go Rounds
DESCRIPTION:
URL:https://exp.zrcdemo.com/events/merry-go-rounds-202/
LOCATION:Berclair Civic Club\, 743 Novarese Road\, Memphis\, TN\, 38122\, United States
CATEGORIES:Club Dance
END:VEVENT
BEGIN:VEVENT
DTSTART;TZID=America/Chicago:20240324T143000
DTEND;TZID=America/Chicago:20240324T163000
DTSTAMP:20260420T025628
CREATED:20231220T042605Z
LAST-MODIFIED:20231220T042605Z
UID:4310-1711290600-1711297800@exp.zrcdemo.com
SUMMARY:T-Squares
DESCRIPTION:Advanced Squares A2-C1
URL:https://exp.zrcdemo.com/events/t-squares-229/
LOCATION:Graceland Christian Church\, 2126 Stateline Rd\, Southaven\, 38672\, United States
CATEGORIES:Club Dance
END:VEVENT
BEGIN:VEVENT
DTSTART;TZID=America/Chicago:20240322T190000
DTEND;TZID=America/Chicago:20240322T210000
DTSTAMP:20260420T025628
CREATED:20231220T041242Z
LAST-MODIFIED:20231220T041242Z
UID:4199-1711134000-1711141200@exp.zrcdemo.com
SUMMARY:B&Bs
DESCRIPTION:Mainstream and Plus Squares with Lines between Tips
URL:https://exp.zrcdemo.com/events/bbs-201/
LOCATION:Colonial Park United Methodist Church\, 5330 Park Avenue\, Memphis\, 38119\, United States
CATEGORIES:Club Dance
END:VEVENT
BEGIN:VEVENT
DTSTART;TZID=America/Chicago:20240321T200000
DTEND;TZID=America/Chicago:20240321T213000
DTSTAMP:20260420T025628
CREATED:20231222T193224Z
LAST-MODIFIED:20231222T193224Z
UID:4529-1711051200-1711056600@exp.zrcdemo.com
SUMMARY:Top Spinners
DESCRIPTION:Mainstream workshop\, SSD danicng with 1 Plus tip. Lines between tips
URL:https://exp.zrcdemo.com/events/top-spinners-181/
LOCATION:Eads Civic Center\, 12365 Washington Rd\, Eads\, 38028\, United States
CATEGORIES:Club Dance
END:VEVENT
BEGIN:VEVENT
DTSTART;TZID=America/Chicago:20240320T190000
DTEND;TZID=America/Chicago:20240320T210000
DTSTAMP:20260420T025628
CREATED:20231129T213612Z
LAST-MODIFIED:20231129T213612Z
UID:4132-1710961200-1710968400@exp.zrcdemo.com
SUMMARY:Pistols & Petticoats
DESCRIPTION:Mainstream and Plus Squares with Rounds between Tips
URL:https://exp.zrcdemo.com/events/pistols-petticoats-143/
LOCATION:Bartlett United Methodist Church\, 5676 Stage Rd.\, Bartlett\, 38134\, United States
CATEGORIES:Club Dance
END:VEVENT
BEGIN:VEVENT
DTSTART;TZID=America/Chicago:20240318T190000
DTEND;TZID=America/Chicago:20240318T210000
DTSTAMP:20260420T025628
CREATED:20231220T042138Z
LAST-MODIFIED:20231220T042138Z
UID:4255-1710788400-1710795600@exp.zrcdemo.com
SUMMARY:Merry Go Rounds
DESCRIPTION:
URL:https://exp.zrcdemo.com/events/merry-go-rounds-201/
LOCATION:Berclair Civic Club\, 743 Novarese Road\, Memphis\, TN\, 38122\, United States
CATEGORIES:Club Dance
END:VEVENT
BEGIN:VEVENT
DTSTART;TZID=America/Chicago:20240317T143000
DTEND;TZID=America/Chicago:20240317T163000
DTSTAMP:20260420T025628
CREATED:20231220T042605Z
LAST-MODIFIED:20231220T042605Z
UID:4309-1710685800-1710693000@exp.zrcdemo.com
SUMMARY:T-Squares
DESCRIPTION:Advanced Squares A2-C1
URL:https://exp.zrcdemo.com/events/t-squares-228/
LOCATION:Graceland Christian Church\, 2126 Stateline Rd\, Southaven\, 38672\, United States
CATEGORIES:Club Dance
END:VEVENT
BEGIN:VEVENT
DTSTART;TZID=America/Chicago:20240315T190000
DTEND;TZID=America/Chicago:20240315T210000
DTSTAMP:20260420T025628
CREATED:20231220T041241Z
LAST-MODIFIED:20240106T034915Z
UID:4198-1710529200-1710536400@exp.zrcdemo.com
SUMMARY:B&Bs March Madness
DESCRIPTION:Mainstream and Plus Squares with Lines between Tips
URL:https://exp.zrcdemo.com/events/bbs-200/
LOCATION:Colonial Park United Methodist Church\, 5330 Park Avenue\, Memphis\, 38119\, United States
CATEGORIES:Club Dance
END:VEVENT
BEGIN:VEVENT
DTSTART;TZID=America/Chicago:20240314T200000
DTEND;TZID=America/Chicago:20240314T213000
DTSTAMP:20260420T025628
CREATED:20231222T193209Z
LAST-MODIFIED:20231222T193209Z
UID:4527-1710446400-1710451800@exp.zrcdemo.com
SUMMARY:Top Spinners
DESCRIPTION:Mainstream workshop\, SSD danicng with 1 Plus tip. Lines between tips
URL:https://exp.zrcdemo.com/events/top-spinners-180/
LOCATION:Eads Civic Center\, 12365 Washington Rd\, Eads\, 38028\, United States
CATEGORIES:Club Dance
END:VEVENT
BEGIN:VEVENT
DTSTART;TZID=America/Chicago:20240313T190000
DTEND;TZID=America/Chicago:20240313T210000
DTSTAMP:20260420T025628
CREATED:20231129T213611Z
LAST-MODIFIED:20231129T213611Z
UID:4131-1710356400-1710363600@exp.zrcdemo.com
SUMMARY:Pistols & Petticoats
DESCRIPTION:Mainstream and Plus Squares with Rounds between Tips
URL:https://exp.zrcdemo.com/events/pistols-petticoats-142/
LOCATION:Bartlett United Methodist Church\, 5676 Stage Rd.\, Bartlett\, 38134\, United States
CATEGORIES:Club Dance
END:VEVENT
BEGIN:VEVENT
DTSTART;TZID=America/Chicago:20240311T190000
DTEND;TZID=America/Chicago:20240311T210000
DTSTAMP:20260420T025628
CREATED:20231222T192749Z
LAST-MODIFIED:20231222T192749Z
UID:4469-1710183600-1710190800@exp.zrcdemo.com
SUMMARY:Pleasant Hill Promenaders
DESCRIPTION:Mainstream and Plus Squares with Rounds and Lines between Tips
URL:https://exp.zrcdemo.com/events/pleasant-hill-promenaders-198/
LOCATION:Graceland Christian Church\, 2126 Stateline Rd\, Southaven\, 38672\, United States
CATEGORIES:Club Dance
END:VEVENT
BEGIN:VEVENT
DTSTART;TZID=America/Chicago:20240311T190000
DTEND;TZID=America/Chicago:20240311T210000
DTSTAMP:20260420T025628
CREATED:20231220T042137Z
LAST-MODIFIED:20231220T042137Z
UID:4254-1710183600-1710190800@exp.zrcdemo.com
SUMMARY:Merry Go Rounds
DESCRIPTION:
URL:https://exp.zrcdemo.com/events/merry-go-rounds-200/
LOCATION:Berclair Civic Club\, 743 Novarese Road\, Memphis\, TN\, 38122\, United States
CATEGORIES:Club Dance
END:VEVENT
BEGIN:VEVENT
DTSTART;TZID=America/Chicago:20240310T143000
DTEND;TZID=America/Chicago:20240310T163000
DTSTAMP:20260420T025628
CREATED:20231220T042603Z
LAST-MODIFIED:20231220T042603Z
UID:4308-1710081000-1710088200@exp.zrcdemo.com
SUMMARY:T-Squares
DESCRIPTION:Advanced Squares A2-C1
URL:https://exp.zrcdemo.com/events/t-squares-227/
LOCATION:Graceland Christian Church\, 2126 Stateline Rd\, Southaven\, 38672\, United States
CATEGORIES:Club Dance
END:VEVENT
BEGIN:VEVENT
DTSTART;TZID=America/Chicago:20240308T190000
DTEND;TZID=America/Chicago:20240308T210000
DTSTAMP:20260420T025628
CREATED:20231220T041227Z
LAST-MODIFIED:20231220T041227Z
UID:4197-1709924400-1709931600@exp.zrcdemo.com
SUMMARY:B&Bs
DESCRIPTION:Mainstream and Plus Squares with Lines between Tips
URL:https://exp.zrcdemo.com/events/bbs-199/
LOCATION:Colonial Park United Methodist Church\, 5330 Park Avenue\, Memphis\, 38119\, United States
CATEGORIES:Club Dance
END:VEVENT
BEGIN:VEVENT
DTSTART;TZID=America/Chicago:20240307T200000
DTEND;TZID=America/Chicago:20240307T213000
DTSTAMP:20260420T025628
CREATED:20231222T193209Z
LAST-MODIFIED:20231222T193209Z
UID:4525-1709841600-1709847000@exp.zrcdemo.com
SUMMARY:Top Spinners
DESCRIPTION:Mainstream workshop\, SSD danicng with 1 Plus tip. Lines between tips
URL:https://exp.zrcdemo.com/events/top-spinners-179/
LOCATION:Eads Civic Center\, 12365 Washington Rd\, Eads\, 38028\, United States
CATEGORIES:Club Dance
END:VEVENT
BEGIN:VEVENT
DTSTART;TZID=America/Chicago:20240306T190000
DTEND;TZID=America/Chicago:20240306T210000
DTSTAMP:20260420T025628
CREATED:20231129T213557Z
LAST-MODIFIED:20231129T213557Z
UID:4130-1709751600-1709758800@exp.zrcdemo.com
SUMMARY:Pistols & Petticoats
DESCRIPTION:Mainstream and Plus Squares with Rounds between Tips
URL:https://exp.zrcdemo.com/events/pistols-petticoats-141/
LOCATION:Bartlett United Methodist Church\, 5676 Stage Rd.\, Bartlett\, 38134\, United States
CATEGORIES:Club Dance
END:VEVENT
END:VCALENDAR