BEGIN:VCALENDAR
VERSION:2.0
PRODID:-//Greater Memphis Square &amp; Round Dance Association - ECPv6.15.20//NONSGML v1.0//EN
CALSCALE:GREGORIAN
METHOD:PUBLISH
X-WR-CALNAME:Greater Memphis Square &amp; Round Dance Association
X-ORIGINAL-URL:https://exp.zrcdemo.com
X-WR-CALDESC:Events for Greater Memphis Square &amp; Round Dance Association
REFRESH-INTERVAL;VALUE=DURATION:PT1H
X-Robots-Tag:noindex
X-PUBLISHED-TTL:PT1H
BEGIN:VTIMEZONE
TZID:America/Chicago
BEGIN:DAYLIGHT
TZOFFSETFROM:-0600
TZOFFSETTO:-0500
TZNAME:CDT
DTSTART:20220313T080000
END:DAYLIGHT
BEGIN:STANDARD
TZOFFSETFROM:-0500
TZOFFSETTO:-0600
TZNAME:CST
DTSTART:20221106T070000
END:STANDARD
BEGIN:DAYLIGHT
TZOFFSETFROM:-0600
TZOFFSETTO:-0500
TZNAME:CDT
DTSTART:20230312T080000
END:DAYLIGHT
BEGIN:STANDARD
TZOFFSETFROM:-0500
TZOFFSETTO:-0600
TZNAME:CST
DTSTART:20231105T070000
END:STANDARD
BEGIN:DAYLIGHT
TZOFFSETFROM:-0600
TZOFFSETTO:-0500
TZNAME:CDT
DTSTART:20240310T080000
END:DAYLIGHT
BEGIN:STANDARD
TZOFFSETFROM:-0500
TZOFFSETTO:-0600
TZNAME:CST
DTSTART:20241103T070000
END:STANDARD
BEGIN:DAYLIGHT
TZOFFSETFROM:-0600
TZOFFSETTO:-0500
TZNAME:CDT
DTSTART:20250309T080000
END:DAYLIGHT
BEGIN:STANDARD
TZOFFSETFROM:-0500
TZOFFSETTO:-0600
TZNAME:CST
DTSTART:20251102T070000
END:STANDARD
END:VTIMEZONE
BEGIN:VEVENT
DTSTART;TZID=America/Chicago:20240111T190000
DTEND;TZID=America/Chicago:20240111T213000
DTSTAMP:20260420T142446
CREATED:20231222T193151Z
LAST-MODIFIED:20231222T193151Z
UID:4515-1704999600-1705008600@exp.zrcdemo.com
SUMMARY:Top Spinners
DESCRIPTION:Mainstream workshop\, SSD danicng with 1 Plus tip. Lines between tips
URL:https://exp.zrcdemo.com/events/top-spinners-174/
LOCATION:Eads Civic Center\, 12365 Washington Rd\, Eads\, 38028\, United States
CATEGORIES:Club Dance
END:VEVENT
BEGIN:VEVENT
DTSTART;TZID=America/Chicago:20240110T190000
DTEND;TZID=America/Chicago:20240110T210000
DTSTAMP:20260420T142446
CREATED:20231129T213553Z
LAST-MODIFIED:20231129T213553Z
UID:4122-1704913200-1704920400@exp.zrcdemo.com
SUMMARY:Pistols & Petticoats
DESCRIPTION:Mainstream and Plus Squares with Rounds between Tips
URL:https://exp.zrcdemo.com/events/pistols-petticoats-135/
LOCATION:Bartlett United Methodist Church\, 5676 Stage Rd.\, Bartlett\, 38134\, United States
CATEGORIES:Club Dance
END:VEVENT
BEGIN:VEVENT
DTSTART;TZID=America/Chicago:20240109T190000
DTEND;TZID=America/Chicago:20240109T200000
DTSTAMP:20260420T142446
CREATED:20231222T185714Z
LAST-MODIFIED:20231222T185714Z
UID:4355-1704826800-1704830400@exp.zrcdemo.com
SUMMARY:Southern Rounds Line Dancing
DESCRIPTION:
URL:https://exp.zrcdemo.com/events/southern-rounds-line-dancing-2/
LOCATION:Graceland Christian Church\, 2126 Stateline Rd\, Southaven\, 38672\, United States
CATEGORIES:Club Dance
END:VEVENT
BEGIN:VEVENT
DTSTART;TZID=America/Chicago:20240108T190000
DTEND;TZID=America/Chicago:20240108T210000
DTSTAMP:20260420T142446
CREATED:20231222T192730Z
LAST-MODIFIED:20231222T192730Z
UID:4460-1704740400-1704747600@exp.zrcdemo.com
SUMMARY:Pleasant Hill Promenaders
DESCRIPTION:Mainstream and Plus Squares with Rounds and Lines between Tips
URL:https://exp.zrcdemo.com/events/pleasant-hill-promenaders-189/
LOCATION:Graceland Christian Church\, 2126 Stateline Rd\, Southaven\, 38672\, United States
CATEGORIES:Club Dance
END:VEVENT
BEGIN:VEVENT
DTSTART;TZID=America/Chicago:20240108T190000
DTEND;TZID=America/Chicago:20240108T210000
DTSTAMP:20260420T142446
CREATED:20231220T042118Z
LAST-MODIFIED:20231220T042118Z
UID:4245-1704740400-1704747600@exp.zrcdemo.com
SUMMARY:Merry Go Rounds Beginner's Waltz
DESCRIPTION:
URL:https://exp.zrcdemo.com/events/merry-go-rounds-beginners-waltz/
LOCATION:Berclair Civic Club\, 743 Novarese Road\, Memphis\, TN\, 38122\, United States
CATEGORIES:Club Dance
END:VEVENT
BEGIN:VEVENT
DTSTART;TZID=America/Chicago:20240107T143000
DTEND;TZID=America/Chicago:20240107T163000
DTSTAMP:20260420T142446
CREATED:20231220T042556Z
LAST-MODIFIED:20231220T042556Z
UID:4299-1704637800-1704645000@exp.zrcdemo.com
SUMMARY:T-Squares
DESCRIPTION:Advanced Squares A2-C1
URL:https://exp.zrcdemo.com/events/t-squares-218/
LOCATION:Graceland Christian Church\, 2126 Stateline Rd\, Southaven\, 38672\, United States
CATEGORIES:Club Dance
END:VEVENT
BEGIN:VEVENT
DTSTART;TZID=America/Chicago:20240105T190000
DTEND;TZID=America/Chicago:20240105T210000
DTSTAMP:20260420T142446
CREATED:20231220T041223Z
LAST-MODIFIED:20231220T041223Z
UID:4188-1704481200-1704488400@exp.zrcdemo.com
SUMMARY:B&Bs
DESCRIPTION:Mainstream and Plus Squares with Lines between Tips
URL:https://exp.zrcdemo.com/events/bbs-191/
LOCATION:Colonial Park United Methodist Church\, 5330 Park Avenue\, Memphis\, 38119\, United States
CATEGORIES:Club Dance
END:VEVENT
BEGIN:VEVENT
DTSTART;TZID=America/Chicago:20240104T190000
DTEND;TZID=America/Chicago:20240104T213000
DTSTAMP:20260420T142446
CREATED:20231222T193150Z
LAST-MODIFIED:20231222T193150Z
UID:4514-1704394800-1704403800@exp.zrcdemo.com
SUMMARY:Top Spinners
DESCRIPTION:Mainstream workshop\, SSD danicng with 1 Plus tip. Lines between tips
URL:https://exp.zrcdemo.com/events/top-spinners-173/
LOCATION:Eads Civic Center\, 12365 Washington Rd\, Eads\, 38028\, United States
CATEGORIES:Club Dance
END:VEVENT
BEGIN:VEVENT
DTSTART;TZID=America/Chicago:20240103T190000
DTEND;TZID=America/Chicago:20240103T210000
DTSTAMP:20260420T142446
CREATED:20231129T213553Z
LAST-MODIFIED:20231129T213553Z
UID:4121-1704308400-1704315600@exp.zrcdemo.com
SUMMARY:Pistols & Petticoats
DESCRIPTION:Mainstream and Plus Squares with Rounds between Tips
URL:https://exp.zrcdemo.com/events/pistols-petticoats-134/
LOCATION:Bartlett United Methodist Church\, 5676 Stage Rd.\, Bartlett\, 38134\, United States
CATEGORIES:Club Dance
END:VEVENT
BEGIN:VEVENT
DTSTART;TZID=America/Chicago:20240102T190000
DTEND;TZID=America/Chicago:20240102T200000
DTSTAMP:20260420T142446
CREATED:20231222T185713Z
LAST-MODIFIED:20231222T185713Z
UID:4353-1704222000-1704225600@exp.zrcdemo.com
SUMMARY:Southern Rounds Line Dancing
DESCRIPTION:
URL:https://exp.zrcdemo.com/events/southern-rounds-line-dancing/
LOCATION:Graceland Christian Church\, 2126 Stateline Rd\, Southaven\, 38672\, United States
CATEGORIES:Club Dance
END:VEVENT
BEGIN:VEVENT
DTSTART;TZID=America/Chicago:20231222T190000
DTEND;TZID=America/Chicago:20231222T210000
DTSTAMP:20260420T142446
CREATED:20221206T001913Z
LAST-MODIFIED:20221206T001913Z
UID:3459-1703271600-1703278800@exp.zrcdemo.com
SUMMARY:B&Bs
DESCRIPTION:Mainstream and Plus Squares
URL:https://exp.zrcdemo.com/events/bbs-189/
LOCATION:Colonial Park United Methodist Church\, 5330 Park Avenue\, Memphis\, 38119\, United States
CATEGORIES:Club Dance
END:VEVENT
BEGIN:VEVENT
DTSTART;TZID=America/Chicago:20231218T190000
DTEND;TZID=America/Chicago:20231218T210000
DTSTAMP:20260420T142446
CREATED:20221208T001355Z
LAST-MODIFIED:20221208T001355Z
UID:3756-1702926000-1702933200@exp.zrcdemo.com
SUMMARY:Merry-Go-Rounds
DESCRIPTION:Phase II-VI
URL:https://exp.zrcdemo.com/events/merry-go-rounds-189/
LOCATION:Berclair Civic Club\, 743 Novarese Road\, Memphis\, TN\, 38122\, United States
CATEGORIES:Club Dance
END:VEVENT
BEGIN:VEVENT
DTSTART;TZID=America/Chicago:20231218T190000
DTEND;TZID=America/Chicago:20231218T210000
DTSTAMP:20260420T142446
CREATED:20221207T235353Z
LAST-MODIFIED:20221207T235353Z
UID:3702-1702926000-1702933200@exp.zrcdemo.com
SUMMARY:Pleasant Hill Promenaders
DESCRIPTION:Mainstream and Plus Squares with Rounds and Lines between Tips
URL:https://exp.zrcdemo.com/events/pleasant-hill-promenaders-188/
LOCATION:Graceland Christian Church\, 2126 Stateline Rd\, Southaven\, 38672\, United States
CATEGORIES:Club Dance
END:VEVENT
BEGIN:VEVENT
DTSTART;TZID=America/Chicago:20231217T143000
DTEND;TZID=America/Chicago:20231217T163000
DTSTAMP:20260420T142446
CREATED:20221206T002216Z
LAST-MODIFIED:20221206T002216Z
UID:3513-1702823400-1702830600@exp.zrcdemo.com
SUMMARY:T-Squares
DESCRIPTION:Advanced Squares A2-C1
URL:https://exp.zrcdemo.com/events/t-squares-216/
LOCATION:Graceland Christian Church\, 2126 Stateline Rd\, Southaven\, 38672\, United States
CATEGORIES:Club Dance
END:VEVENT
BEGIN:VEVENT
DTSTART;TZID=America/Chicago:20231214T190000
DTEND;TZID=America/Chicago:20231214T213000
DTSTAMP:20260420T142446
CREATED:20230303T195135Z
LAST-MODIFIED:20230303T195135Z
UID:3888-1702580400-1702589400@exp.zrcdemo.com
SUMMARY:Top Spinners
DESCRIPTION:Squares with Lines between tips
URL:https://exp.zrcdemo.com/events/top-spinners-171/
LOCATION:Eads Civic Center\, 12365 Washington Rd\, Eads\, 38028\, United States
CATEGORIES:Club Dance
END:VEVENT
BEGIN:VEVENT
DTSTART;TZID=America/Chicago:20231213T190000
DTEND;TZID=America/Chicago:20231213T210000
DTSTAMP:20260420T142446
CREATED:20230711T172223Z
LAST-MODIFIED:20230711T172223Z
UID:4023-1702494000-1702501200@exp.zrcdemo.com
SUMMARY:Pistols & Petticoats
DESCRIPTION:Mainstream and Plus Squares with Rounds between Tips
URL:https://exp.zrcdemo.com/events/pistols-petticoats-131/
LOCATION:Bartlett United Methodist Church\, 5676 Stage Rd.\, Bartlett\, 38134\, United States
CATEGORIES:Club Dance
END:VEVENT
BEGIN:VEVENT
DTSTART;TZID=America/Chicago:20231211T190000
DTEND;TZID=America/Chicago:20231211T210000
DTSTAMP:20260420T142446
CREATED:20221208T001341Z
LAST-MODIFIED:20221208T001341Z
UID:3755-1702321200-1702328400@exp.zrcdemo.com
SUMMARY:Merry-Go-Rounds
DESCRIPTION:Phase II-VI
URL:https://exp.zrcdemo.com/events/merry-go-rounds-188/
LOCATION:Berclair Civic Club\, 743 Novarese Road\, Memphis\, TN\, 38122\, United States
CATEGORIES:Club Dance
END:VEVENT
BEGIN:VEVENT
DTSTART;TZID=America/Chicago:20231211T190000
DTEND;TZID=America/Chicago:20231211T210000
DTSTAMP:20260420T142446
CREATED:20221207T235339Z
LAST-MODIFIED:20221207T235339Z
UID:3701-1702321200-1702328400@exp.zrcdemo.com
SUMMARY:Pleasant Hill Promenaders
DESCRIPTION:Mainstream and Plus Squares with Rounds and Lines between Tips
URL:https://exp.zrcdemo.com/events/pleasant-hill-promenaders-187/
LOCATION:Graceland Christian Church\, 2126 Stateline Rd\, Southaven\, 38672\, United States
CATEGORIES:Club Dance
END:VEVENT
BEGIN:VEVENT
DTSTART;TZID=America/Chicago:20231210T143000
DTEND;TZID=America/Chicago:20231210T163000
DTSTAMP:20260420T142446
CREATED:20221206T002202Z
LAST-MODIFIED:20221206T002202Z
UID:3512-1702218600-1702225800@exp.zrcdemo.com
SUMMARY:T-Squares
DESCRIPTION:Advanced Squares A2-C1
URL:https://exp.zrcdemo.com/events/t-squares-215/
LOCATION:Graceland Christian Church\, 2126 Stateline Rd\, Southaven\, 38672\, United States
CATEGORIES:Club Dance
END:VEVENT
BEGIN:VEVENT
DTSTART;TZID=America/Chicago:20231208T190000
DTEND;TZID=America/Chicago:20231208T210000
DTSTAMP:20260420T142446
CREATED:20221206T001858Z
LAST-MODIFIED:20231206T235435Z
UID:3457-1702062000-1702069200@exp.zrcdemo.com
SUMMARY:B&Bs
DESCRIPTION:Mainstream and Plus Squares
URL:https://exp.zrcdemo.com/events/bbs-187/
LOCATION:Colonial Park United Methodist Church\, 5330 Park Avenue\, Memphis\, 38119\, United States
CATEGORIES:Club Dance
END:VEVENT
BEGIN:VEVENT
DTSTART;TZID=America/Chicago:20231206T190000
DTEND;TZID=America/Chicago:20231206T210000
DTSTAMP:20260420T142446
CREATED:20230711T172209Z
LAST-MODIFIED:20230711T172209Z
UID:4022-1701889200-1701896400@exp.zrcdemo.com
SUMMARY:Pistols & Petticoats
DESCRIPTION:Mainstream and Plus Squares with Rounds between Tips
URL:https://exp.zrcdemo.com/events/pistols-petticoats-130/
LOCATION:Bartlett United Methodist Church\, 5676 Stage Rd.\, Bartlett\, 38134\, United States
CATEGORIES:Club Dance
END:VEVENT
BEGIN:VEVENT
DTSTART;TZID=America/Chicago:20231204T190000
DTEND;TZID=America/Chicago:20231204T210000
DTSTAMP:20260420T142446
CREATED:20221208T001340Z
LAST-MODIFIED:20221208T001340Z
UID:3754-1701716400-1701723600@exp.zrcdemo.com
SUMMARY:Merry-Go-Rounds
DESCRIPTION:Phase II-VI
URL:https://exp.zrcdemo.com/events/merry-go-rounds-187/
LOCATION:Berclair Civic Club\, 743 Novarese Road\, Memphis\, TN\, 38122\, United States
CATEGORIES:Club Dance
END:VEVENT
BEGIN:VEVENT
DTSTART;TZID=America/Chicago:20231203T143000
DTEND;TZID=America/Chicago:20231203T163000
DTSTAMP:20260420T142446
CREATED:20221206T002202Z
LAST-MODIFIED:20221206T002202Z
UID:3511-1701613800-1701621000@exp.zrcdemo.com
SUMMARY:T-Squares
DESCRIPTION:Advanced Squares A2-C1
URL:https://exp.zrcdemo.com/events/t-squares-214/
LOCATION:Graceland Christian Church\, 2126 Stateline Rd\, Southaven\, 38672\, United States
CATEGORIES:Club Dance
END:VEVENT
BEGIN:VEVENT
DTSTART;TZID=America/Chicago:20231201T190000
DTEND;TZID=America/Chicago:20231201T210000
DTSTAMP:20260420T142446
CREATED:20221206T001858Z
LAST-MODIFIED:20221206T001858Z
UID:3456-1701457200-1701464400@exp.zrcdemo.com
SUMMARY:B&Bs
DESCRIPTION:Mainstream and Plus Squares
URL:https://exp.zrcdemo.com/events/bbs-186/
LOCATION:Colonial Park United Methodist Church\, 5330 Park Avenue\, Memphis\, 38119\, United States
CATEGORIES:Club Dance
END:VEVENT
BEGIN:VEVENT
DTSTART;TZID=America/Chicago:20231129T190000
DTEND;TZID=America/Chicago:20231129T210000
DTSTAMP:20260420T142446
CREATED:20230711T172209Z
LAST-MODIFIED:20230711T172209Z
UID:4021-1701284400-1701291600@exp.zrcdemo.com
SUMMARY:Pistols & Petticoats
DESCRIPTION:Mainstream and Plus Squares with Rounds between Tips
URL:https://exp.zrcdemo.com/events/pistols-petticoats-129/
LOCATION:Bartlett United Methodist Church\, 5676 Stage Rd.\, Bartlett\, 38134\, United States
CATEGORIES:Club Dance
END:VEVENT
BEGIN:VEVENT
DTSTART;TZID=America/Chicago:20231127T190000
DTEND;TZID=America/Chicago:20231127T210000
DTSTAMP:20260420T142446
CREATED:20221208T001340Z
LAST-MODIFIED:20221208T001340Z
UID:3753-1701111600-1701118800@exp.zrcdemo.com
SUMMARY:Merry-Go-Rounds
DESCRIPTION:Phase II-VI
URL:https://exp.zrcdemo.com/events/merry-go-rounds-186/
LOCATION:Berclair Civic Club\, 743 Novarese Road\, Memphis\, TN\, 38122\, United States
CATEGORIES:Club Dance
END:VEVENT
BEGIN:VEVENT
DTSTART;TZID=America/Chicago:20231127T190000
DTEND;TZID=America/Chicago:20231127T210000
DTSTAMP:20260420T142446
CREATED:20221207T235339Z
LAST-MODIFIED:20221207T235339Z
UID:3699-1701111600-1701118800@exp.zrcdemo.com
SUMMARY:Pleasant Hill Promenaders
DESCRIPTION:Mainstream and Plus Squares with Rounds and Lines between Tips
URL:https://exp.zrcdemo.com/events/pleasant-hill-promenaders-186/
LOCATION:Graceland Christian Church\, 2126 Stateline Rd\, Southaven\, 38672\, United States
CATEGORIES:Club Dance
END:VEVENT
BEGIN:VEVENT
DTSTART;TZID=America/Chicago:20231126T143000
DTEND;TZID=America/Chicago:20231126T163000
DTSTAMP:20260420T142446
CREATED:20221206T002202Z
LAST-MODIFIED:20221206T002202Z
UID:3510-1701009000-1701016200@exp.zrcdemo.com
SUMMARY:T-Squares
DESCRIPTION:Advanced Squares A2-C1
URL:https://exp.zrcdemo.com/events/t-squares-213/
LOCATION:Graceland Christian Church\, 2126 Stateline Rd\, Southaven\, 38672\, United States
CATEGORIES:Club Dance
END:VEVENT
BEGIN:VEVENT
DTSTART;TZID=America/Chicago:20231120T190000
DTEND;TZID=America/Chicago:20231120T210000
DTSTAMP:20260420T142446
CREATED:20221208T001340Z
LAST-MODIFIED:20221208T001340Z
UID:3752-1700506800-1700514000@exp.zrcdemo.com
SUMMARY:Merry-Go-Rounds
DESCRIPTION:Phase II-VI
URL:https://exp.zrcdemo.com/events/merry-go-rounds-185/
LOCATION:Berclair Civic Club\, 743 Novarese Road\, Memphis\, TN\, 38122\, United States
CATEGORIES:Club Dance
END:VEVENT
BEGIN:VEVENT
DTSTART;TZID=America/Chicago:20231120T190000
DTEND;TZID=America/Chicago:20231120T210000
DTSTAMP:20260420T142446
CREATED:20221207T235338Z
LAST-MODIFIED:20221207T235338Z
UID:3698-1700506800-1700514000@exp.zrcdemo.com
SUMMARY:Pleasant Hill Promenaders
DESCRIPTION:Mainstream and Plus Squares with Rounds and Lines between Tips
URL:https://exp.zrcdemo.com/events/pleasant-hill-promenaders-185/
LOCATION:Graceland Christian Church\, 2126 Stateline Rd\, Southaven\, 38672\, United States
CATEGORIES:Club Dance
END:VEVENT
END:VCALENDAR