BEGIN:VCALENDAR
VERSION:2.0
PRODID:-//Greater Memphis Square &amp; Round Dance Association - ECPv6.15.20//NONSGML v1.0//EN
CALSCALE:GREGORIAN
METHOD:PUBLISH
X-WR-CALNAME:Greater Memphis Square &amp; Round Dance Association
X-ORIGINAL-URL:https://exp.zrcdemo.com
X-WR-CALDESC:Events for Greater Memphis Square &amp; Round Dance Association
REFRESH-INTERVAL;VALUE=DURATION:PT1H
X-Robots-Tag:noindex
X-PUBLISHED-TTL:PT1H
BEGIN:VTIMEZONE
TZID:America/Chicago
BEGIN:DAYLIGHT
TZOFFSETFROM:-0600
TZOFFSETTO:-0500
TZNAME:CDT
DTSTART:20220313T080000
END:DAYLIGHT
BEGIN:STANDARD
TZOFFSETFROM:-0500
TZOFFSETTO:-0600
TZNAME:CST
DTSTART:20221106T070000
END:STANDARD
BEGIN:DAYLIGHT
TZOFFSETFROM:-0600
TZOFFSETTO:-0500
TZNAME:CDT
DTSTART:20230312T080000
END:DAYLIGHT
BEGIN:STANDARD
TZOFFSETFROM:-0500
TZOFFSETTO:-0600
TZNAME:CST
DTSTART:20231105T070000
END:STANDARD
BEGIN:DAYLIGHT
TZOFFSETFROM:-0600
TZOFFSETTO:-0500
TZNAME:CDT
DTSTART:20240310T080000
END:DAYLIGHT
BEGIN:STANDARD
TZOFFSETFROM:-0500
TZOFFSETTO:-0600
TZNAME:CST
DTSTART:20241103T070000
END:STANDARD
END:VTIMEZONE
BEGIN:VEVENT
DTSTART;TZID=America/Chicago:20230327T190000
DTEND;TZID=America/Chicago:20230327T210000
DTSTAMP:20260421T205821
CREATED:20221207T235154Z
LAST-MODIFIED:20221207T235154Z
UID:3664-1679943600-1679950800@exp.zrcdemo.com
SUMMARY:Pleasant Hill Promenaders
DESCRIPTION:Mainstream and Plus Squares with Rounds and Lines between Tips
URL:https://exp.zrcdemo.com/events/pleasant-hill-promenaders-154/
LOCATION:Graceland Christian Church\, 2126 Stateline Rd\, Southaven\, 38672\, United States
CATEGORIES:Club Dance
END:VEVENT
BEGIN:VEVENT
DTSTART;TZID=America/Chicago:20230326T143000
DTEND;TZID=America/Chicago:20230326T163000
DTSTAMP:20260421T205821
CREATED:20221206T002016Z
LAST-MODIFIED:20221206T002016Z
UID:3475-1679841000-1679848200@exp.zrcdemo.com
SUMMARY:T-Squares
DESCRIPTION:Advanced Squares A2-C1
URL:https://exp.zrcdemo.com/events/t-squares-178/
LOCATION:Graceland Christian Church\, 2126 Stateline Rd\, Southaven\, 38672\, United States
CATEGORIES:Club Dance
END:VEVENT
BEGIN:VEVENT
DTSTART;TZID=America/Chicago:20230323T200000
DTEND;TZID=America/Chicago:20230323T213000
DTSTAMP:20260421T205821
CREATED:20221206T010933Z
LAST-MODIFIED:20221206T010933Z
UID:3542-1679601600-1679607000@exp.zrcdemo.com
SUMMARY:Top Spinners
DESCRIPTION:Squares with Lines between tips
URL:https://exp.zrcdemo.com/events/top-spinners-142/
LOCATION:Eads Civic Center\, 12365 Washington Rd\, Eads\, 38028\, United States
CATEGORIES:Club Dance
END:VEVENT
BEGIN:VEVENT
DTSTART;TZID=America/Chicago:20230322T200000
DTEND;TZID=America/Chicago:20230322T213000
DTSTAMP:20260421T205821
CREATED:20221206T035834Z
LAST-MODIFIED:20221206T035834Z
UID:3568-1679515200-1679520600@exp.zrcdemo.com
SUMMARY:Pistols & Petticoats
DESCRIPTION:Mainstream and Plus Squares with Rounds between Tips
URL:https://exp.zrcdemo.com/events/pistols-petticoats-102/
LOCATION:Bartlett United Methodist Church\, 5676 Stage Rd.\, Bartlett\, 38134\, United States
CATEGORIES:Club Dance
END:VEVENT
BEGIN:VEVENT
DTSTART;TZID=America/Chicago:20230320T190000
DTEND;TZID=America/Chicago:20230320T210000
DTSTAMP:20260421T205821
CREATED:20221208T000455Z
LAST-MODIFIED:20221208T000455Z
UID:3717-1679338800-1679346000@exp.zrcdemo.com
SUMMARY:Merry-Go-Rounds
DESCRIPTION:Phase II-VI
URL:https://exp.zrcdemo.com/events/merry-go-rounds-150/
LOCATION:Berclair Civic Club\, 743 Novarese Road\, Memphis\, TN\, 38122\, United States
CATEGORIES:Club Dance
END:VEVENT
BEGIN:VEVENT
DTSTART;TZID=America/Chicago:20230320T190000
DTEND;TZID=America/Chicago:20230320T210000
DTSTAMP:20260421T205821
CREATED:20221207T235154Z
LAST-MODIFIED:20221207T235154Z
UID:3663-1679338800-1679346000@exp.zrcdemo.com
SUMMARY:Pleasant Hill Promenaders
DESCRIPTION:Mainstream and Plus Squares with Rounds and Lines between Tips
URL:https://exp.zrcdemo.com/events/pleasant-hill-promenaders-153/
LOCATION:Graceland Christian Church\, 2126 Stateline Rd\, Southaven\, 38672\, United States
CATEGORIES:Club Dance
END:VEVENT
BEGIN:VEVENT
DTSTART;TZID=America/Chicago:20230319T143000
DTEND;TZID=America/Chicago:20230319T163000
DTSTAMP:20260421T205821
CREATED:20221206T002016Z
LAST-MODIFIED:20221206T002016Z
UID:3474-1679236200-1679243400@exp.zrcdemo.com
SUMMARY:T-Squares
DESCRIPTION:Advanced Squares A2-C1
URL:https://exp.zrcdemo.com/events/t-squares-177/
LOCATION:Graceland Christian Church\, 2126 Stateline Rd\, Southaven\, 38672\, United States
CATEGORIES:Club Dance
END:VEVENT
BEGIN:VEVENT
DTSTART;TZID=America/Chicago:20230316T200000
DTEND;TZID=America/Chicago:20230316T213000
DTSTAMP:20260421T205821
CREATED:20221206T010933Z
LAST-MODIFIED:20221206T010933Z
UID:3541-1678996800-1679002200@exp.zrcdemo.com
SUMMARY:Top Spinners
DESCRIPTION:Squares with Lines between tips
URL:https://exp.zrcdemo.com/events/top-spinners-141/
LOCATION:Eads Civic Center\, 12365 Washington Rd\, Eads\, 38028\, United States
CATEGORIES:Club Dance
END:VEVENT
BEGIN:VEVENT
DTSTART;TZID=America/Chicago:20230315T200000
DTEND;TZID=America/Chicago:20230315T213000
DTSTAMP:20260421T205821
CREATED:20221206T035834Z
LAST-MODIFIED:20221206T035834Z
UID:3567-1678910400-1678915800@exp.zrcdemo.com
SUMMARY:Pistols & Petticoats
DESCRIPTION:Mainstream and Plus Squares with Rounds between Tips
URL:https://exp.zrcdemo.com/events/pistols-petticoats-101/
LOCATION:Bartlett United Methodist Church\, 5676 Stage Rd.\, Bartlett\, 38134\, United States
CATEGORIES:Club Dance
END:VEVENT
BEGIN:VEVENT
DTSTART;TZID=America/Chicago:20230313T190000
DTEND;TZID=America/Chicago:20230313T210000
DTSTAMP:20260421T205821
CREATED:20221208T000455Z
LAST-MODIFIED:20221208T000455Z
UID:3716-1678734000-1678741200@exp.zrcdemo.com
SUMMARY:Merry-Go-Rounds
DESCRIPTION:Phase II-VI
URL:https://exp.zrcdemo.com/events/merry-go-rounds-149/
LOCATION:Berclair Civic Club\, 743 Novarese Road\, Memphis\, TN\, 38122\, United States
CATEGORIES:Club Dance
END:VEVENT
BEGIN:VEVENT
DTSTART;TZID=America/Chicago:20230313T190000
DTEND;TZID=America/Chicago:20230313T210000
DTSTAMP:20260421T205821
CREATED:20221207T235153Z
LAST-MODIFIED:20221207T235153Z
UID:3662-1678734000-1678741200@exp.zrcdemo.com
SUMMARY:Pleasant Hill Promenaders
DESCRIPTION:Mainstream and Plus Squares with Rounds and Lines between Tips
URL:https://exp.zrcdemo.com/events/pleasant-hill-promenaders-152/
LOCATION:Graceland Christian Church\, 2126 Stateline Rd\, Southaven\, 38672\, United States
CATEGORIES:Club Dance
END:VEVENT
BEGIN:VEVENT
DTSTART;TZID=America/Chicago:20230312T143000
DTEND;TZID=America/Chicago:20230312T163000
DTSTAMP:20260421T205821
CREATED:20221206T002016Z
LAST-MODIFIED:20221206T002016Z
UID:3473-1678631400-1678638600@exp.zrcdemo.com
SUMMARY:T-Squares
DESCRIPTION:Advanced Squares A2-C1
URL:https://exp.zrcdemo.com/events/t-squares-176/
LOCATION:Graceland Christian Church\, 2126 Stateline Rd\, Southaven\, 38672\, United States
CATEGORIES:Club Dance
END:VEVENT
BEGIN:VEVENT
DTSTART;TZID=America/Chicago:20230310T190000
DTEND;TZID=America/Chicago:20230310T210000
DTSTAMP:20260421T205821
CREATED:20221206T001511Z
LAST-MODIFIED:20221206T001511Z
UID:3418-1678474800-1678482000@exp.zrcdemo.com
SUMMARY:B&Bs
DESCRIPTION:Mainstream and Plus Squares
URL:https://exp.zrcdemo.com/events/bbs-148/
LOCATION:Colonial Park United Methodist Church\, 5330 Park Avenue\, Memphis\, 38119\, United States
CATEGORIES:Club Dance
END:VEVENT
BEGIN:VEVENT
DTSTART;TZID=America/Chicago:20230309T200000
DTEND;TZID=America/Chicago:20230309T213000
DTSTAMP:20260421T205821
CREATED:20221206T010933Z
LAST-MODIFIED:20221206T010933Z
UID:3540-1678392000-1678397400@exp.zrcdemo.com
SUMMARY:Top Spinners
DESCRIPTION:Squares with Lines between tips
URL:https://exp.zrcdemo.com/events/top-spinners-140/
LOCATION:Eads Civic Center\, 12365 Washington Rd\, Eads\, 38028\, United States
CATEGORIES:Club Dance
END:VEVENT
BEGIN:VEVENT
DTSTART;TZID=America/Chicago:20230308T200000
DTEND;TZID=America/Chicago:20230308T213000
DTSTAMP:20260421T205821
CREATED:20221206T035819Z
LAST-MODIFIED:20221206T035819Z
UID:3561-1678305600-1678311000@exp.zrcdemo.com
SUMMARY:Pistols & Petticoats
DESCRIPTION:Mainstream and Plus Squares with Rounds between Tips
URL:https://exp.zrcdemo.com/events/pistols-petticoats-100/
LOCATION:Bartlett United Methodist Church\, 5676 Stage Rd.\, Bartlett\, 38134\, United States
CATEGORIES:Club Dance
END:VEVENT
BEGIN:VEVENT
DTSTART;TZID=America/Chicago:20230306T190000
DTEND;TZID=America/Chicago:20230306T210000
DTSTAMP:20260421T205821
CREATED:20221208T000440Z
LAST-MODIFIED:20221208T000440Z
UID:3715-1678129200-1678136400@exp.zrcdemo.com
SUMMARY:Merry-Go-Rounds
DESCRIPTION:Phase II-VI
URL:https://exp.zrcdemo.com/events/merry-go-rounds-148/
LOCATION:Berclair Civic Club\, 743 Novarese Road\, Memphis\, TN\, 38122\, United States
CATEGORIES:Club Dance
END:VEVENT
BEGIN:VEVENT
DTSTART;TZID=America/Chicago:20230306T190000
DTEND;TZID=America/Chicago:20230306T210000
DTSTAMP:20260421T205821
CREATED:20221207T235138Z
LAST-MODIFIED:20221207T235138Z
UID:3661-1678129200-1678136400@exp.zrcdemo.com
SUMMARY:Pleasant Hill Promenaders
DESCRIPTION:Mainstream and Plus Squares with Rounds and Lines between Tips
URL:https://exp.zrcdemo.com/events/pleasant-hill-promenaders-151/
LOCATION:Graceland Christian Church\, 2126 Stateline Rd\, Southaven\, 38672\, United States
CATEGORIES:Club Dance
END:VEVENT
BEGIN:VEVENT
DTSTART;TZID=America/Chicago:20230305T143000
DTEND;TZID=America/Chicago:20230305T163000
DTSTAMP:20260421T205821
CREATED:20221206T002001Z
LAST-MODIFIED:20221206T002001Z
UID:3472-1678026600-1678033800@exp.zrcdemo.com
SUMMARY:T-Squares
DESCRIPTION:Advanced Squares A2-C1
URL:https://exp.zrcdemo.com/events/t-squares-175/
LOCATION:Graceland Christian Church\, 2126 Stateline Rd\, Southaven\, 38672\, United States
CATEGORIES:Club Dance
END:VEVENT
BEGIN:VEVENT
DTSTART;TZID=America/Chicago:20230303T190000
DTEND;TZID=America/Chicago:20230303T210000
DTSTAMP:20260421T205821
CREATED:20221206T001511Z
LAST-MODIFIED:20221206T001511Z
UID:3417-1677870000-1677877200@exp.zrcdemo.com
SUMMARY:B&Bs
DESCRIPTION:Mainstream and Plus Squares
URL:https://exp.zrcdemo.com/events/bbs-147/
LOCATION:Colonial Park United Methodist Church\, 5330 Park Avenue\, Memphis\, 38119\, United States
CATEGORIES:Club Dance
END:VEVENT
BEGIN:VEVENT
DTSTART;TZID=America/Chicago:20230302T200000
DTEND;TZID=America/Chicago:20230302T213000
DTSTAMP:20260421T205821
CREATED:20221206T010933Z
LAST-MODIFIED:20221206T010933Z
UID:3539-1677787200-1677792600@exp.zrcdemo.com
SUMMARY:Top Spinners
DESCRIPTION:Squares with Lines between tips
URL:https://exp.zrcdemo.com/events/top-spinners-139/
LOCATION:Eads Civic Center\, 12365 Washington Rd\, Eads\, 38028\, United States
CATEGORIES:Club Dance
END:VEVENT
BEGIN:VEVENT
DTSTART;TZID=America/Chicago:20230301T200000
DTEND;TZID=America/Chicago:20230301T213000
DTSTAMP:20260421T205821
CREATED:20221206T035819Z
LAST-MODIFIED:20221206T035819Z
UID:3560-1677700800-1677706200@exp.zrcdemo.com
SUMMARY:Pistols & Petticoats
DESCRIPTION:Mainstream and Plus Squares with Rounds between Tips
URL:https://exp.zrcdemo.com/events/pistols-petticoats-99/
LOCATION:Bartlett United Methodist Church\, 5676 Stage Rd.\, Bartlett\, 38134\, United States
CATEGORIES:Club Dance
END:VEVENT
BEGIN:VEVENT
DTSTART;TZID=America/Chicago:20230227T190000
DTEND;TZID=America/Chicago:20230227T210000
DTSTAMP:20260421T205821
CREATED:20221208T000439Z
LAST-MODIFIED:20221208T000439Z
UID:3714-1677524400-1677531600@exp.zrcdemo.com
SUMMARY:Merry-Go-Rounds
DESCRIPTION:Phase II-VI
URL:https://exp.zrcdemo.com/events/merry-go-rounds-147/
LOCATION:Berclair Civic Club\, 743 Novarese Road\, Memphis\, TN\, 38122\, United States
CATEGORIES:Club Dance
END:VEVENT
BEGIN:VEVENT
DTSTART;TZID=America/Chicago:20230227T190000
DTEND;TZID=America/Chicago:20230227T210000
DTSTAMP:20260421T205821
CREATED:20221207T235138Z
LAST-MODIFIED:20221207T235138Z
UID:3660-1677524400-1677531600@exp.zrcdemo.com
SUMMARY:Pleasant Hill Promenaders
DESCRIPTION:Mainstream and Plus Squares with Rounds and Lines between Tips
URL:https://exp.zrcdemo.com/events/pleasant-hill-promenaders-150/
LOCATION:Graceland Christian Church\, 2126 Stateline Rd\, Southaven\, 38672\, United States
CATEGORIES:Club Dance
END:VEVENT
BEGIN:VEVENT
DTSTART;TZID=America/Chicago:20230226T143000
DTEND;TZID=America/Chicago:20230226T163000
DTSTAMP:20260421T205821
CREATED:20221206T002001Z
LAST-MODIFIED:20221206T002001Z
UID:3471-1677421800-1677429000@exp.zrcdemo.com
SUMMARY:T-Squares
DESCRIPTION:Advanced Squares A2-C1
URL:https://exp.zrcdemo.com/events/t-squares-174/
LOCATION:Graceland Christian Church\, 2126 Stateline Rd\, Southaven\, 38672\, United States
CATEGORIES:Club Dance
END:VEVENT
BEGIN:VEVENT
DTSTART;TZID=America/Chicago:20230224T190000
DTEND;TZID=America/Chicago:20230224T210000
DTSTAMP:20260421T205821
CREATED:20221206T001511Z
LAST-MODIFIED:20221206T001511Z
UID:3416-1677265200-1677272400@exp.zrcdemo.com
SUMMARY:B&Bs
DESCRIPTION:Mainstream and Plus Squares
URL:https://exp.zrcdemo.com/events/bbs-146/
LOCATION:Colonial Park United Methodist Church\, 5330 Park Avenue\, Memphis\, 38119\, United States
CATEGORIES:Club Dance
END:VEVENT
BEGIN:VEVENT
DTSTART;TZID=America/Chicago:20230223T200000
DTEND;TZID=America/Chicago:20230223T213000
DTSTAMP:20260421T205821
CREATED:20221206T010918Z
LAST-MODIFIED:20221206T010918Z
UID:3538-1677182400-1677187800@exp.zrcdemo.com
SUMMARY:Top Spinners
DESCRIPTION:Squares with Lines between tips
URL:https://exp.zrcdemo.com/events/top-spinners-138/
LOCATION:Eads Civic Center\, 12365 Washington Rd\, Eads\, 38028\, United States
CATEGORIES:Club Dance
END:VEVENT
BEGIN:VEVENT
DTSTART;TZID=America/Chicago:20230222T200000
DTEND;TZID=America/Chicago:20230222T213000
DTSTAMP:20260421T205821
CREATED:20221206T035818Z
LAST-MODIFIED:20221206T035819Z
UID:3559-1677096000-1677101400@exp.zrcdemo.com
SUMMARY:Pistols & Petticoats
DESCRIPTION:Mainstream and Plus Squares with Rounds between Tips
URL:https://exp.zrcdemo.com/events/pistols-petticoats-98/
LOCATION:Bartlett United Methodist Church\, 5676 Stage Rd.\, Bartlett\, 38134\, United States
CATEGORIES:Club Dance
END:VEVENT
BEGIN:VEVENT
DTSTART;TZID=America/Chicago:20230220T190000
DTEND;TZID=America/Chicago:20230220T210000
DTSTAMP:20260421T205821
CREATED:20221208T000439Z
LAST-MODIFIED:20221208T000439Z
UID:3713-1676919600-1676926800@exp.zrcdemo.com
SUMMARY:Merry-Go-Rounds
DESCRIPTION:Phase II-VI
URL:https://exp.zrcdemo.com/events/merry-go-rounds-146/
LOCATION:Berclair Civic Club\, 743 Novarese Road\, Memphis\, TN\, 38122\, United States
CATEGORIES:Club Dance
END:VEVENT
BEGIN:VEVENT
DTSTART;TZID=America/Chicago:20230220T190000
DTEND;TZID=America/Chicago:20230220T210000
DTSTAMP:20260421T205821
CREATED:20221207T235138Z
LAST-MODIFIED:20230125T212850Z
UID:3659-1676919600-1676926800@exp.zrcdemo.com
SUMMARY:Pleasant Hill Promenaders Pirate Dance
DESCRIPTION:Mainstream and Plus Squares with Rounds and Lines between Tips
URL:https://exp.zrcdemo.com/events/pleasant-hill-promenaders-149/
LOCATION:Graceland Christian Church\, 2126 Stateline Rd\, Southaven\, 38672\, United States
CATEGORIES:Club Dance
END:VEVENT
BEGIN:VEVENT
DTSTART;TZID=America/Chicago:20230219T143000
DTEND;TZID=America/Chicago:20230219T163000
DTSTAMP:20260421T205821
CREATED:20221206T002001Z
LAST-MODIFIED:20221206T002001Z
UID:3470-1676817000-1676824200@exp.zrcdemo.com
SUMMARY:T-Squares
DESCRIPTION:Advanced Squares A2-C1
URL:https://exp.zrcdemo.com/events/t-squares-173/
LOCATION:Graceland Christian Church\, 2126 Stateline Rd\, Southaven\, 38672\, United States
CATEGORIES:Club Dance
END:VEVENT
END:VCALENDAR