BEGIN:VCALENDAR
VERSION:2.0
PRODID:-//Greater Memphis Square &amp; Round Dance Association - ECPv6.15.20//NONSGML v1.0//EN
CALSCALE:GREGORIAN
METHOD:PUBLISH
X-WR-CALNAME:Greater Memphis Square &amp; Round Dance Association
X-ORIGINAL-URL:https://exp.zrcdemo.com
X-WR-CALDESC:Events for Greater Memphis Square &amp; Round Dance Association
REFRESH-INTERVAL;VALUE=DURATION:PT1H
X-Robots-Tag:noindex
X-PUBLISHED-TTL:PT1H
BEGIN:VTIMEZONE
TZID:America/Chicago
BEGIN:DAYLIGHT
TZOFFSETFROM:-0600
TZOFFSETTO:-0500
TZNAME:CDT
DTSTART:20210314T080000
END:DAYLIGHT
BEGIN:STANDARD
TZOFFSETFROM:-0500
TZOFFSETTO:-0600
TZNAME:CST
DTSTART:20211107T070000
END:STANDARD
BEGIN:DAYLIGHT
TZOFFSETFROM:-0600
TZOFFSETTO:-0500
TZNAME:CDT
DTSTART:20220313T080000
END:DAYLIGHT
BEGIN:STANDARD
TZOFFSETFROM:-0500
TZOFFSETTO:-0600
TZNAME:CST
DTSTART:20221106T070000
END:STANDARD
BEGIN:DAYLIGHT
TZOFFSETFROM:-0600
TZOFFSETTO:-0500
TZNAME:CDT
DTSTART:20230312T080000
END:DAYLIGHT
BEGIN:STANDARD
TZOFFSETFROM:-0500
TZOFFSETTO:-0600
TZNAME:CST
DTSTART:20231105T070000
END:STANDARD
BEGIN:DAYLIGHT
TZOFFSETFROM:-0600
TZOFFSETTO:-0500
TZNAME:CDT
DTSTART:20240310T080000
END:DAYLIGHT
BEGIN:STANDARD
TZOFFSETFROM:-0500
TZOFFSETTO:-0600
TZNAME:CST
DTSTART:20241103T070000
END:STANDARD
END:VTIMEZONE
BEGIN:VEVENT
DTSTART;TZID=America/Chicago:20230130T190000
DTEND;TZID=America/Chicago:20230130T210000
DTSTAMP:20260422T034352
CREATED:20221208T000438Z
LAST-MODIFIED:20221208T000438Z
UID:3710-1675105200-1675112400@exp.zrcdemo.com
SUMMARY:Merry-Go-Rounds
DESCRIPTION:Phase II-VI
URL:https://exp.zrcdemo.com/events/merry-go-rounds-143/
LOCATION:Berclair Civic Club\, 743 Novarese Road\, Memphis\, TN\, 38122\, United States
CATEGORIES:Club Dance
END:VEVENT
BEGIN:VEVENT
DTSTART;TZID=America/Chicago:20230130T190000
DTEND;TZID=America/Chicago:20230130T210000
DTSTAMP:20260422T034352
CREATED:20221207T235136Z
LAST-MODIFIED:20221207T235136Z
UID:3656-1675105200-1675112400@exp.zrcdemo.com
SUMMARY:Pleasant Hill Promenaders
DESCRIPTION:Mainstream and Plus Squares with Rounds and Lines between Tips
URL:https://exp.zrcdemo.com/events/pleasant-hill-promenaders-147/
LOCATION:Graceland Christian Church\, 2126 Stateline Rd\, Southaven\, 38672\, United States
CATEGORIES:Club Dance
END:VEVENT
BEGIN:VEVENT
DTSTART;TZID=America/Chicago:20230129T143000
DTEND;TZID=America/Chicago:20230129T163000
DTSTAMP:20260422T034352
CREATED:20221206T001959Z
LAST-MODIFIED:20221206T001959Z
UID:3467-1675002600-1675009800@exp.zrcdemo.com
SUMMARY:T-Squares
DESCRIPTION:Advanced Squares A2-C1
URL:https://exp.zrcdemo.com/events/t-squares-170/
LOCATION:Graceland Christian Church\, 2126 Stateline Rd\, Southaven\, 38672\, United States
CATEGORIES:Club Dance
END:VEVENT
BEGIN:VEVENT
DTSTART;TZID=America/Chicago:20230126T190000
DTEND;TZID=America/Chicago:20230126T213000
DTSTAMP:20260422T034352
CREATED:20221206T010846Z
LAST-MODIFIED:20221206T012506Z
UID:3522-1674759600-1674768600@exp.zrcdemo.com
SUMMARY:Top Spinners
DESCRIPTION:Squares with Lines between tips
URL:https://exp.zrcdemo.com/events/top-spinners-135/
LOCATION:Eads Civic Center\, 12365 Washington Rd\, Eads\, 38028\, United States
CATEGORIES:Club Dance
END:VEVENT
BEGIN:VEVENT
DTSTART;TZID=America/Chicago:20230125T190000
DTEND;TZID=America/Chicago:20230125T210000
DTSTAMP:20260422T034352
CREATED:20221206T035817Z
LAST-MODIFIED:20221230T181447Z
UID:3555-1674673200-1674680400@exp.zrcdemo.com
SUMMARY:Pistols & Petticoats
DESCRIPTION:Mainstream and Plus Squares with Rounds between Tips
URL:https://exp.zrcdemo.com/events/pistols-petticoats-95/
LOCATION:Bartlett United Methodist Church\, 5676 Stage Rd.\, Bartlett\, 38134\, United States
CATEGORIES:Club Dance
END:VEVENT
BEGIN:VEVENT
DTSTART;TZID=America/Chicago:20230123T190000
DTEND;TZID=America/Chicago:20230123T210000
DTSTAMP:20260422T034352
CREATED:20221208T000438Z
LAST-MODIFIED:20221208T000438Z
UID:3709-1674500400-1674507600@exp.zrcdemo.com
SUMMARY:Merry-Go-Rounds
DESCRIPTION:Phase II-VI
URL:https://exp.zrcdemo.com/events/merry-go-rounds-142/
LOCATION:Berclair Civic Club\, 743 Novarese Road\, Memphis\, TN\, 38122\, United States
CATEGORIES:Club Dance
END:VEVENT
BEGIN:VEVENT
DTSTART;TZID=America/Chicago:20230123T190000
DTEND;TZID=America/Chicago:20230123T210000
DTSTAMP:20260422T034352
CREATED:20221207T235136Z
LAST-MODIFIED:20221207T235136Z
UID:3655-1674500400-1674507600@exp.zrcdemo.com
SUMMARY:Pleasant Hill Promenaders
DESCRIPTION:Mainstream and Plus Squares with Rounds and Lines between Tips
URL:https://exp.zrcdemo.com/events/pleasant-hill-promenaders-146/
LOCATION:Graceland Christian Church\, 2126 Stateline Rd\, Southaven\, 38672\, United States
CATEGORIES:Club Dance
END:VEVENT
BEGIN:VEVENT
DTSTART;TZID=America/Chicago:20230122T143000
DTEND;TZID=America/Chicago:20230122T163000
DTSTAMP:20260422T034352
CREATED:20221206T001959Z
LAST-MODIFIED:20221206T001959Z
UID:3466-1674397800-1674405000@exp.zrcdemo.com
SUMMARY:T-Squares
DESCRIPTION:Advanced Squares A2-C1
URL:https://exp.zrcdemo.com/events/t-squares-169/
LOCATION:Graceland Christian Church\, 2126 Stateline Rd\, Southaven\, 38672\, United States
CATEGORIES:Club Dance
END:VEVENT
BEGIN:VEVENT
DTSTART;TZID=America/Chicago:20230120T190000
DTEND;TZID=America/Chicago:20230120T210000
DTSTAMP:20260422T034352
CREATED:20221206T001509Z
LAST-MODIFIED:20221206T001509Z
UID:3411-1674241200-1674248400@exp.zrcdemo.com
SUMMARY:B&Bs
DESCRIPTION:Mainstream and Plus Squares
URL:https://exp.zrcdemo.com/events/bbs-141/
LOCATION:Colonial Park United Methodist Church\, 5330 Park Avenue\, Memphis\, 38119\, United States
CATEGORIES:Club Dance
END:VEVENT
BEGIN:VEVENT
DTSTART;TZID=America/Chicago:20230118T190000
DTEND;TZID=America/Chicago:20230118T213000
DTSTAMP:20260422T034352
CREATED:20221206T035816Z
LAST-MODIFIED:20221206T035816Z
UID:3554-1674068400-1674077400@exp.zrcdemo.com
SUMMARY:Pistols & Petticoats
DESCRIPTION:Mainstream and Plus Squares with Rounds between Tips
URL:https://exp.zrcdemo.com/events/pistols-petticoats-94/
LOCATION:Bartlett United Methodist Church\, 5676 Stage Rd.\, Bartlett\, 38134\, United States
CATEGORIES:Club Dance
END:VEVENT
BEGIN:VEVENT
DTSTART;TZID=America/Chicago:20230116T190000
DTEND;TZID=America/Chicago:20230116T210000
DTSTAMP:20260422T034352
CREATED:20221208T000437Z
LAST-MODIFIED:20221208T000437Z
UID:3708-1673895600-1673902800@exp.zrcdemo.com
SUMMARY:Merry-Go-Rounds
DESCRIPTION:Phase II-VI
URL:https://exp.zrcdemo.com/events/merry-go-rounds-141/
LOCATION:Berclair Civic Club\, 743 Novarese Road\, Memphis\, TN\, 38122\, United States
CATEGORIES:Club Dance
END:VEVENT
BEGIN:VEVENT
DTSTART;TZID=America/Chicago:20230116T190000
DTEND;TZID=America/Chicago:20230116T210000
DTSTAMP:20260422T034352
CREATED:20221207T235136Z
LAST-MODIFIED:20221207T235136Z
UID:3654-1673895600-1673902800@exp.zrcdemo.com
SUMMARY:Pleasant Hill Promenaders
DESCRIPTION:Mainstream and Plus Squares with Rounds and Lines between Tips
URL:https://exp.zrcdemo.com/events/pleasant-hill-promenaders-145/
LOCATION:Graceland Christian Church\, 2126 Stateline Rd\, Southaven\, 38672\, United States
CATEGORIES:Club Dance
END:VEVENT
BEGIN:VEVENT
DTSTART;TZID=America/Chicago:20230115T143000
DTEND;TZID=America/Chicago:20230115T163000
DTSTAMP:20260422T034352
CREATED:20221206T001959Z
LAST-MODIFIED:20221206T001959Z
UID:3465-1673793000-1673800200@exp.zrcdemo.com
SUMMARY:T-Squares
DESCRIPTION:Advanced Squares A2-C1
URL:https://exp.zrcdemo.com/events/t-squares-168/
LOCATION:Graceland Christian Church\, 2126 Stateline Rd\, Southaven\, 38672\, United States
CATEGORIES:Club Dance
END:VEVENT
BEGIN:VEVENT
DTSTART;TZID=America/Chicago:20230112T190000
DTEND;TZID=America/Chicago:20230112T213000
DTSTAMP:20260422T034352
CREATED:20221206T010845Z
LAST-MODIFIED:20221206T010845Z
UID:3520-1673550000-1673559000@exp.zrcdemo.com
SUMMARY:Top Spinners
DESCRIPTION:Squares with Lines between tips
URL:https://exp.zrcdemo.com/events/top-spinners-134/
LOCATION:Eads Civic Center\, 12365 Washington Rd\, Eads\, 38028\, United States
CATEGORIES:Club Dance
END:VEVENT
BEGIN:VEVENT
DTSTART;TZID=America/Chicago:20230111T190000
DTEND;TZID=America/Chicago:20230111T213000
DTSTAMP:20260422T034352
CREATED:20221206T035816Z
LAST-MODIFIED:20221206T035816Z
UID:3553-1673463600-1673472600@exp.zrcdemo.com
SUMMARY:Pistols & Petticoats
DESCRIPTION:Mainstream and Plus Squares with Rounds between Tips
URL:https://exp.zrcdemo.com/events/pistols-petticoats-93/
LOCATION:Bartlett United Methodist Church\, 5676 Stage Rd.\, Bartlett\, 38134\, United States
CATEGORIES:Club Dance
END:VEVENT
BEGIN:VEVENT
DTSTART;TZID=America/Chicago:20230109T190000
DTEND;TZID=America/Chicago:20230109T210000
DTSTAMP:20260422T034352
CREATED:20221208T000437Z
LAST-MODIFIED:20221208T000437Z
UID:3707-1673290800-1673298000@exp.zrcdemo.com
SUMMARY:Merry-Go-Rounds
DESCRIPTION:Phase II-VI
URL:https://exp.zrcdemo.com/events/merry-go-rounds-140/
LOCATION:Berclair Civic Club\, 743 Novarese Road\, Memphis\, TN\, 38122\, United States
CATEGORIES:Club Dance
END:VEVENT
BEGIN:VEVENT
DTSTART;TZID=America/Chicago:20230109T190000
DTEND;TZID=America/Chicago:20230109T210000
DTSTAMP:20260422T034352
CREATED:20221207T235136Z
LAST-MODIFIED:20230109T212432Z
UID:3653-1673290800-1673298000@exp.zrcdemo.com
SUMMARY:Pleasant Hill Promenaders CLOSED
DESCRIPTION:Mainstream and Plus Squares with Rounds and Lines between Tips
URL:https://exp.zrcdemo.com/events/pleasant-hill-promenaders-144/
LOCATION:Graceland Christian Church\, 2126 Stateline Rd\, Southaven\, 38672\, United States
CATEGORIES:Club Dance
END:VEVENT
BEGIN:VEVENT
DTSTART;TZID=America/Chicago:20230108T143000
DTEND;TZID=America/Chicago:20230108T163000
DTSTAMP:20260422T034352
CREATED:20221206T001959Z
LAST-MODIFIED:20221206T001959Z
UID:3464-1673188200-1673195400@exp.zrcdemo.com
SUMMARY:T-Squares
DESCRIPTION:Advanced Squares A2-C1
URL:https://exp.zrcdemo.com/events/t-squares-167/
LOCATION:Graceland Christian Church\, 2126 Stateline Rd\, Southaven\, 38672\, United States
CATEGORIES:Club Dance
END:VEVENT
BEGIN:VEVENT
DTSTART;TZID=America/Chicago:20230106T190000
DTEND;TZID=America/Chicago:20230106T210000
DTSTAMP:20260422T034352
CREATED:20221206T001509Z
LAST-MODIFIED:20221206T001509Z
UID:3409-1673031600-1673038800@exp.zrcdemo.com
SUMMARY:B&Bs
DESCRIPTION:Mainstream and Plus Squares
URL:https://exp.zrcdemo.com/events/bbs-139/
LOCATION:Colonial Park United Methodist Church\, 5330 Park Avenue\, Memphis\, 38119\, United States
CATEGORIES:Club Dance
END:VEVENT
BEGIN:VEVENT
DTSTART;TZID=America/Chicago:20230105T190000
DTEND;TZID=America/Chicago:20230105T213000
DTSTAMP:20260422T034352
CREATED:20221206T010845Z
LAST-MODIFIED:20221206T010845Z
UID:3519-1672945200-1672954200@exp.zrcdemo.com
SUMMARY:Top Spinners
DESCRIPTION:Squares with Lines between tips
URL:https://exp.zrcdemo.com/events/top-spinners-133/
LOCATION:Eads Civic Center\, 12365 Washington Rd\, Eads\, 38028\, United States
CATEGORIES:Club Dance
END:VEVENT
BEGIN:VEVENT
DTSTART;TZID=America/Chicago:20230104T190000
DTEND;TZID=America/Chicago:20230104T213000
DTSTAMP:20260422T034352
CREATED:20221206T035816Z
LAST-MODIFIED:20221206T035816Z
UID:3552-1672858800-1672867800@exp.zrcdemo.com
SUMMARY:Pistols & Petticoats
DESCRIPTION:Mainstream and Plus Squares with Rounds between Tips
URL:https://exp.zrcdemo.com/events/pistols-petticoats-92/
LOCATION:Bartlett United Methodist Church\, 5676 Stage Rd.\, Bartlett\, 38134\, United States
CATEGORIES:Club Dance
END:VEVENT
BEGIN:VEVENT
DTSTART;TZID=America/Chicago:20230102T190000
DTEND;TZID=America/Chicago:20230102T210000
DTSTAMP:20260422T034353
CREATED:20221208T000437Z
LAST-MODIFIED:20221208T000437Z
UID:3706-1672686000-1672693200@exp.zrcdemo.com
SUMMARY:Merry-Go-Rounds
DESCRIPTION:Phase II-VI
URL:https://exp.zrcdemo.com/events/merry-go-rounds-139/
LOCATION:Berclair Civic Club\, 743 Novarese Road\, Memphis\, TN\, 38122\, United States
CATEGORIES:Club Dance
END:VEVENT
BEGIN:VEVENT
DTSTART;TZID=America/Chicago:20230102T190000
DTEND;TZID=America/Chicago:20230102T210000
DTSTAMP:20260422T034353
CREATED:20221207T235135Z
LAST-MODIFIED:20221207T235135Z
UID:3652-1672686000-1672693200@exp.zrcdemo.com
SUMMARY:Pleasant Hill Promenaders
DESCRIPTION:Mainstream and Plus Squares with Rounds and Lines between Tips
URL:https://exp.zrcdemo.com/events/pleasant-hill-promenaders-143/
LOCATION:Graceland Christian Church\, 2126 Stateline Rd\, Southaven\, 38672\, United States
CATEGORIES:Club Dance
END:VEVENT
BEGIN:VEVENT
DTSTART;TZID=America/Chicago:20230101T143000
DTEND;TZID=America/Chicago:20230101T163000
DTSTAMP:20260422T034353
CREATED:20221206T001958Z
LAST-MODIFIED:20221206T001958Z
UID:3463-1672583400-1672590600@exp.zrcdemo.com
SUMMARY:T-Squares
DESCRIPTION:Advanced Squares A2-C1
URL:https://exp.zrcdemo.com/events/t-squares-166/
LOCATION:Graceland Christian Church\, 2126 Stateline Rd\, Southaven\, 38672\, United States
CATEGORIES:Club Dance
END:VEVENT
BEGIN:VEVENT
DTSTART;TZID=America/Chicago:20221228T193000
DTEND;TZID=America/Chicago:20221228T213000
DTSTAMP:20260422T034353
CREATED:20220104T032310Z
LAST-MODIFIED:20220104T032310Z
UID:2890-1672255800-1672263000@exp.zrcdemo.com
SUMMARY:Pistols & Petticoats
DESCRIPTION:Mainstream and Plus Squares with Rounds between Tips
URL:https://exp.zrcdemo.com/events/pistols-petticoats-91/
LOCATION:Bartlett United Methodist Church\, 5676 Stage Rd.\, Bartlett\, 38134\, United States
CATEGORIES:Club Dance
END:VEVENT
BEGIN:VEVENT
DTSTART;TZID=America/Chicago:20221227T180000
DTEND;TZID=America/Chicago:20221227T200000
DTSTAMP:20260422T034353
CREATED:20220104T031511Z
LAST-MODIFIED:20220104T031511Z
UID:2728-1672164000-1672171200@exp.zrcdemo.com
SUMMARY:Southern Rounds
DESCRIPTION:Rounds 6:00-7:00; Lines 7:00-8:00
URL:https://exp.zrcdemo.com/events/southern-rounds-137/
LOCATION:Graceland Christian Church\, 2126 Stateline Rd\, Southaven\, 38672\, United States
CATEGORIES:Club Dance
END:VEVENT
BEGIN:VEVENT
DTSTART;TZID=America/Chicago:20221226T190000
DTEND;TZID=America/Chicago:20221226T210000
DTSTAMP:20260422T034353
CREATED:20220104T033729Z
LAST-MODIFIED:20220104T033729Z
UID:3050-1672081200-1672088400@exp.zrcdemo.com
SUMMARY:Pleasant Hill Promenaders
DESCRIPTION:Mainstream and Plus Squares with Rounds and Lines between Tips
URL:https://exp.zrcdemo.com/events/pleasant-hill-promenaders-142/
LOCATION:Graceland Christian Church\, 2126 Stateline Rd\, Southaven\, 38672\, United States
CATEGORIES:Club Dance
END:VEVENT
BEGIN:VEVENT
DTSTART;TZID=America/Chicago:20221226T190000
DTEND;TZID=America/Chicago:20221226T210000
DTSTAMP:20260422T034353
CREATED:20220104T033444Z
LAST-MODIFIED:20220104T033444Z
UID:2997-1672081200-1672088400@exp.zrcdemo.com
SUMMARY:Merry-Go-Rounds
DESCRIPTION:Phase II-VI
URL:https://exp.zrcdemo.com/events/merry-go-rounds-138/
LOCATION:Berclair Civic Club\, 743 Novarese Road\, Memphis\, TN\, 38122\, United States
CATEGORIES:Club Dance
END:VEVENT
BEGIN:VEVENT
DTSTART;TZID=America/Chicago:20221221T193000
DTEND;TZID=America/Chicago:20221221T213000
DTSTAMP:20260422T034353
CREATED:20220104T032309Z
LAST-MODIFIED:20220104T032309Z
UID:2889-1671651000-1671658200@exp.zrcdemo.com
SUMMARY:Pistols & Petticoats
DESCRIPTION:Mainstream and Plus Squares with Rounds between Tips
URL:https://exp.zrcdemo.com/events/pistols-petticoats-90/
LOCATION:Bartlett United Methodist Church\, 5676 Stage Rd.\, Bartlett\, 38134\, United States
CATEGORIES:Club Dance
END:VEVENT
BEGIN:VEVENT
DTSTART;TZID=America/Chicago:20221220T180000
DTEND;TZID=America/Chicago:20221220T200000
DTSTAMP:20260422T034353
CREATED:20220104T031511Z
LAST-MODIFIED:20220104T031511Z
UID:2727-1671559200-1671566400@exp.zrcdemo.com
SUMMARY:Southern Rounds
DESCRIPTION:Rounds 6:00-7:00; Lines 7:00-8:00
URL:https://exp.zrcdemo.com/events/southern-rounds-136/
LOCATION:Graceland Christian Church\, 2126 Stateline Rd\, Southaven\, 38672\, United States
CATEGORIES:Club Dance
END:VEVENT
END:VCALENDAR