BEGIN:VCALENDAR
VERSION:2.0
PRODID:-//Greater Memphis Square &amp; Round Dance Association - ECPv6.15.20//NONSGML v1.0//EN
CALSCALE:GREGORIAN
METHOD:PUBLISH
X-ORIGINAL-URL:https://exp.zrcdemo.com
X-WR-CALDESC:Events for Greater Memphis Square &amp; Round Dance Association
REFRESH-INTERVAL;VALUE=DURATION:PT1H
X-Robots-Tag:noindex
X-PUBLISHED-TTL:PT1H
BEGIN:VTIMEZONE
TZID:America/Chicago
BEGIN:DAYLIGHT
TZOFFSETFROM:-0600
TZOFFSETTO:-0500
TZNAME:CDT
DTSTART:20210314T080000
END:DAYLIGHT
BEGIN:STANDARD
TZOFFSETFROM:-0500
TZOFFSETTO:-0600
TZNAME:CST
DTSTART:20211107T070000
END:STANDARD
BEGIN:DAYLIGHT
TZOFFSETFROM:-0600
TZOFFSETTO:-0500
TZNAME:CDT
DTSTART:20220313T080000
END:DAYLIGHT
BEGIN:STANDARD
TZOFFSETFROM:-0500
TZOFFSETTO:-0600
TZNAME:CST
DTSTART:20221106T070000
END:STANDARD
BEGIN:DAYLIGHT
TZOFFSETFROM:-0600
TZOFFSETTO:-0500
TZNAME:CDT
DTSTART:20230312T080000
END:DAYLIGHT
BEGIN:STANDARD
TZOFFSETFROM:-0500
TZOFFSETTO:-0600
TZNAME:CST
DTSTART:20231105T070000
END:STANDARD
END:VTIMEZONE
BEGIN:VEVENT
DTSTART;TZID=America/Chicago:20221024T190000
DTEND;TZID=America/Chicago:20221024T210000
DTSTAMP:20260422T183434
CREATED:20220104T033659Z
LAST-MODIFIED:20220104T033659Z
UID:3041-1666638000-1666645200@exp.zrcdemo.com
SUMMARY:Pleasant Hill Promenaders
DESCRIPTION:Mainstream and Plus Squares with Rounds and Lines between Tips
URL:https://exp.zrcdemo.com/events/pleasant-hill-promenaders-135/
LOCATION:Graceland Christian Church\, 2126 Stateline Rd\, Southaven\, 38672\, United States
CATEGORIES:Club Dance
END:VEVENT
BEGIN:VEVENT
DTSTART;TZID=America/Chicago:20221024T190000
DTEND;TZID=America/Chicago:20221024T210000
DTSTAMP:20260422T183434
CREATED:20220104T033414Z
LAST-MODIFIED:20220104T033414Z
UID:2988-1666638000-1666645200@exp.zrcdemo.com
SUMMARY:Merry-Go-Rounds
DESCRIPTION:Phase II-VI
URL:https://exp.zrcdemo.com/events/merry-go-rounds-129/
LOCATION:Berclair Civic Club\, 743 Novarese Road\, Memphis\, TN\, 38122\, United States
CATEGORIES:Club Dance
END:VEVENT
BEGIN:VEVENT
DTSTART;TZID=America/Chicago:20221023T143000
DTEND;TZID=America/Chicago:20221023T163000
DTSTAMP:20260422T183434
CREATED:20220104T032524Z
LAST-MODIFIED:20220104T032524Z
UID:2933-1666535400-1666542600@exp.zrcdemo.com
SUMMARY:T-Squares
DESCRIPTION:Advanced Squares A2-C1
URL:https://exp.zrcdemo.com/events/t-squares-157/
LOCATION:Graceland Christian Church\, 2126 Stateline Rd\, Southaven\, 38672\, United States
CATEGORIES:Club Dance
END:VEVENT
BEGIN:VEVENT
DTSTART;TZID=America/Chicago:20221021T190000
DTEND;TZID=America/Chicago:20221021T210000
DTSTAMP:20260422T183434
CREATED:20220104T031710Z
LAST-MODIFIED:20220104T031710Z
UID:2770-1666378800-1666386000@exp.zrcdemo.com
SUMMARY:B&Bs
DESCRIPTION:Mainstream and Plus Squares with Rounds and Lines between Tips
URL:https://exp.zrcdemo.com/events/bbs-128/
LOCATION:Colonial Park United Methodist Church\, 5330 Park Avenue\, Memphis\, 38119\, United States
CATEGORIES:Club Dance
END:VEVENT
BEGIN:VEVENT
DTSTART;TZID=America/Chicago:20221020T190000
DTEND;TZID=America/Chicago:20221020T210000
DTSTAMP:20260422T183434
CREATED:20220104T031954Z
LAST-MODIFIED:20220104T031954Z
UID:2822-1666292400-1666299600@exp.zrcdemo.com
SUMMARY:Top Spinners
DESCRIPTION:Mainstream and Plus Squares with Lines between Tips
URL:https://exp.zrcdemo.com/events/top-spinners-123/
LOCATION:Eads Civic Center\, 12365 Washington Rd\, Eads\, 38028\, United States
CATEGORIES:Club Dance
END:VEVENT
BEGIN:VEVENT
DTSTART;TZID=America/Chicago:20221019T193000
DTEND;TZID=America/Chicago:20221019T213000
DTSTAMP:20260422T183434
CREATED:20220104T032240Z
LAST-MODIFIED:20220104T032240Z
UID:2880-1666207800-1666215000@exp.zrcdemo.com
SUMMARY:Pistols & Petticoats
DESCRIPTION:Mainstream and Plus Squares with Rounds between Tips
URL:https://exp.zrcdemo.com/events/pistols-petticoats-81/
LOCATION:Bartlett United Methodist Church\, 5676 Stage Rd.\, Bartlett\, 38134\, United States
CATEGORIES:Club Dance
END:VEVENT
BEGIN:VEVENT
DTSTART;TZID=America/Chicago:20221017T190000
DTEND;TZID=America/Chicago:20221017T210000
DTSTAMP:20260422T183434
CREATED:20220104T033659Z
LAST-MODIFIED:20220104T033659Z
UID:3040-1666033200-1666040400@exp.zrcdemo.com
SUMMARY:Pleasant Hill Promenaders
DESCRIPTION:Mainstream and Plus Squares with Rounds and Lines between Tips
URL:https://exp.zrcdemo.com/events/pleasant-hill-promenaders-134/
LOCATION:Graceland Christian Church\, 2126 Stateline Rd\, Southaven\, 38672\, United States
CATEGORIES:Club Dance
END:VEVENT
BEGIN:VEVENT
DTSTART;TZID=America/Chicago:20221017T190000
DTEND;TZID=America/Chicago:20221017T210000
DTSTAMP:20260422T183434
CREATED:20220104T033414Z
LAST-MODIFIED:20220104T033414Z
UID:2987-1666033200-1666040400@exp.zrcdemo.com
SUMMARY:Merry-Go-Rounds
DESCRIPTION:Phase II-VI
URL:https://exp.zrcdemo.com/events/merry-go-rounds-128/
LOCATION:Berclair Civic Club\, 743 Novarese Road\, Memphis\, TN\, 38122\, United States
CATEGORIES:Club Dance
END:VEVENT
BEGIN:VEVENT
DTSTART;TZID=America/Chicago:20221016T143000
DTEND;TZID=America/Chicago:20221016T163000
DTSTAMP:20260422T183434
CREATED:20220104T032524Z
LAST-MODIFIED:20220104T032524Z
UID:2932-1665930600-1665937800@exp.zrcdemo.com
SUMMARY:T-Squares
DESCRIPTION:Advanced Squares A2-C1
URL:https://exp.zrcdemo.com/events/t-squares-156/
LOCATION:Graceland Christian Church\, 2126 Stateline Rd\, Southaven\, 38672\, United States
CATEGORIES:Club Dance
END:VEVENT
BEGIN:VEVENT
DTSTART;TZID=America/Chicago:20221014T190000
DTEND;TZID=America/Chicago:20221014T210000
DTSTAMP:20260422T183434
CREATED:20220104T031709Z
LAST-MODIFIED:20220104T031709Z
UID:2769-1665774000-1665781200@exp.zrcdemo.com
SUMMARY:B&Bs
DESCRIPTION:Mainstream and Plus Squares with Rounds and Lines between Tips
URL:https://exp.zrcdemo.com/events/bbs-127/
LOCATION:Colonial Park United Methodist Church\, 5330 Park Avenue\, Memphis\, 38119\, United States
CATEGORIES:Club Dance
END:VEVENT
BEGIN:VEVENT
DTSTART;TZID=America/Chicago:20221013T190000
DTEND;TZID=America/Chicago:20221013T210000
DTSTAMP:20260422T183434
CREATED:20220104T031940Z
LAST-MODIFIED:20220104T031940Z
UID:2821-1665687600-1665694800@exp.zrcdemo.com
SUMMARY:Top Spinners
DESCRIPTION:Mainstream and Plus Squares with Lines between Tips
URL:https://exp.zrcdemo.com/events/top-spinners-122/
LOCATION:Eads Civic Center\, 12365 Washington Rd\, Eads\, 38028\, United States
CATEGORIES:Club Dance
END:VEVENT
BEGIN:VEVENT
DTSTART;TZID=America/Chicago:20221012T193000
DTEND;TZID=America/Chicago:20221012T213000
DTSTAMP:20260422T183434
CREATED:20220104T032239Z
LAST-MODIFIED:20220104T032239Z
UID:2879-1665603000-1665610200@exp.zrcdemo.com
SUMMARY:Pistols & Petticoats
DESCRIPTION:Mainstream and Plus Squares with Rounds between Tips
URL:https://exp.zrcdemo.com/events/pistols-petticoats-80/
LOCATION:Bartlett United Methodist Church\, 5676 Stage Rd.\, Bartlett\, 38134\, United States
CATEGORIES:Club Dance
END:VEVENT
BEGIN:VEVENT
DTSTART;TZID=America/Chicago:20221010T190000
DTEND;TZID=America/Chicago:20221010T210000
DTSTAMP:20260422T183434
CREATED:20220104T033645Z
LAST-MODIFIED:20220104T033645Z
UID:3039-1665428400-1665435600@exp.zrcdemo.com
SUMMARY:Pleasant Hill Promenaders
DESCRIPTION:Mainstream and Plus Squares with Rounds and Lines between Tips
URL:https://exp.zrcdemo.com/events/pleasant-hill-promenaders-133/
LOCATION:Graceland Christian Church\, 2126 Stateline Rd\, Southaven\, 38672\, United States
CATEGORIES:Club Dance
END:VEVENT
BEGIN:VEVENT
DTSTART;TZID=America/Chicago:20221010T190000
DTEND;TZID=America/Chicago:20221010T210000
DTSTAMP:20260422T183434
CREATED:20220104T033414Z
LAST-MODIFIED:20220104T033414Z
UID:2986-1665428400-1665435600@exp.zrcdemo.com
SUMMARY:Merry-Go-Rounds
DESCRIPTION:Phase II-VI
URL:https://exp.zrcdemo.com/events/merry-go-rounds-127/
LOCATION:Berclair Civic Club\, 743 Novarese Road\, Memphis\, TN\, 38122\, United States
CATEGORIES:Club Dance
END:VEVENT
BEGIN:VEVENT
DTSTART;TZID=America/Chicago:20221009T143000
DTEND;TZID=America/Chicago:20221009T163000
DTSTAMP:20260422T183434
CREATED:20220104T032511Z
LAST-MODIFIED:20220104T032511Z
UID:2931-1665325800-1665333000@exp.zrcdemo.com
SUMMARY:T-Squares
DESCRIPTION:Advanced Squares A2-C1
URL:https://exp.zrcdemo.com/events/t-squares-155/
LOCATION:Graceland Christian Church\, 2126 Stateline Rd\, Southaven\, 38672\, United States
CATEGORIES:Club Dance
END:VEVENT
BEGIN:VEVENT
DTSTART;TZID=America/Chicago:20221007T190000
DTEND;TZID=America/Chicago:20221007T210000
DTSTAMP:20260422T183434
CREATED:20220104T031709Z
LAST-MODIFIED:20220104T031709Z
UID:2768-1665169200-1665176400@exp.zrcdemo.com
SUMMARY:B&Bs
DESCRIPTION:Mainstream and Plus Squares with Rounds and Lines between Tips
URL:https://exp.zrcdemo.com/events/bbs-126/
LOCATION:Colonial Park United Methodist Church\, 5330 Park Avenue\, Memphis\, 38119\, United States
CATEGORIES:Club Dance
END:VEVENT
BEGIN:VEVENT
DTSTART;TZID=America/Chicago:20221006T190000
DTEND;TZID=America/Chicago:20221006T210000
DTSTAMP:20260422T183434
CREATED:20220104T031940Z
LAST-MODIFIED:20220104T031940Z
UID:2820-1665082800-1665090000@exp.zrcdemo.com
SUMMARY:Top Spinners
DESCRIPTION:Mainstream and Plus Squares with Lines between Tips
URL:https://exp.zrcdemo.com/events/top-spinners-121/
LOCATION:Eads Civic Center\, 12365 Washington Rd\, Eads\, 38028\, United States
CATEGORIES:Club Dance
END:VEVENT
BEGIN:VEVENT
DTSTART;TZID=America/Chicago:20221003T190000
DTEND;TZID=America/Chicago:20221003T210000
DTSTAMP:20260422T183434
CREATED:20220104T033644Z
LAST-MODIFIED:20220104T033644Z
UID:3038-1664823600-1664830800@exp.zrcdemo.com
SUMMARY:Pleasant Hill Promenaders
DESCRIPTION:Mainstream and Plus Squares with Rounds and Lines between Tips
URL:https://exp.zrcdemo.com/events/pleasant-hill-promenaders-132/
LOCATION:Graceland Christian Church\, 2126 Stateline Rd\, Southaven\, 38672\, United States
CATEGORIES:Club Dance
END:VEVENT
BEGIN:VEVENT
DTSTART;TZID=America/Chicago:20221003T190000
DTEND;TZID=America/Chicago:20221003T210000
DTSTAMP:20260422T183434
CREATED:20220104T033414Z
LAST-MODIFIED:20220104T033414Z
UID:2985-1664823600-1664830800@exp.zrcdemo.com
SUMMARY:Merry-Go-Rounds
DESCRIPTION:Phase II-VI
URL:https://exp.zrcdemo.com/events/merry-go-rounds-126/
LOCATION:Berclair Civic Club\, 743 Novarese Road\, Memphis\, TN\, 38122\, United States
CATEGORIES:Club Dance
END:VEVENT
BEGIN:VEVENT
DTSTART;TZID=America/Chicago:20221002T143000
DTEND;TZID=America/Chicago:20221002T163000
DTSTAMP:20260422T183434
CREATED:20220104T032511Z
LAST-MODIFIED:20220104T032511Z
UID:2930-1664721000-1664728200@exp.zrcdemo.com
SUMMARY:T-Squares
DESCRIPTION:Advanced Squares A2-C1
URL:https://exp.zrcdemo.com/events/t-squares-154/
LOCATION:Graceland Christian Church\, 2126 Stateline Rd\, Southaven\, 38672\, United States
CATEGORIES:Club Dance
END:VEVENT
BEGIN:VEVENT
DTSTART;TZID=America/Chicago:20220930T190000
DTEND;TZID=America/Chicago:20220930T210000
DTSTAMP:20260422T183434
CREATED:20220104T031709Z
LAST-MODIFIED:20220104T031709Z
UID:2767-1664564400-1664571600@exp.zrcdemo.com
SUMMARY:B&Bs
DESCRIPTION:Mainstream and Plus Squares with Rounds and Lines between Tips
URL:https://exp.zrcdemo.com/events/bbs-125/
LOCATION:Colonial Park United Methodist Church\, 5330 Park Avenue\, Memphis\, 38119\, United States
CATEGORIES:Club Dance
END:VEVENT
BEGIN:VEVENT
DTSTART;TZID=America/Chicago:20220929T190000
DTEND;TZID=America/Chicago:20220929T210000
DTSTAMP:20260422T183434
CREATED:20220104T031940Z
LAST-MODIFIED:20221026T201308Z
UID:2819-1664478000-1664485200@exp.zrcdemo.com
SUMMARY:Top Spinners
DESCRIPTION:Mainstream and Plus Squares with Lines between Tips
URL:https://exp.zrcdemo.com/events/top-spinners-120/
LOCATION:Eads Civic Center\, 12365 Washington Rd\, Eads\, 38028\, United States
CATEGORIES:Club Dance
END:VEVENT
BEGIN:VEVENT
DTSTART;TZID=America/Chicago:20220928T193000
DTEND;TZID=America/Chicago:20220928T213000
DTSTAMP:20260422T183434
CREATED:20220104T032239Z
LAST-MODIFIED:20220104T032239Z
UID:2877-1664393400-1664400600@exp.zrcdemo.com
SUMMARY:Pistols & Petticoats
DESCRIPTION:Mainstream and Plus Squares with Rounds between Tips
URL:https://exp.zrcdemo.com/events/pistols-petticoats-78/
LOCATION:Bartlett United Methodist Church\, 5676 Stage Rd.\, Bartlett\, 38134\, United States
CATEGORIES:Club Dance
END:VEVENT
BEGIN:VEVENT
DTSTART;TZID=America/Chicago:20220926T190000
DTEND;TZID=America/Chicago:20220926T210000
DTSTAMP:20260422T183434
CREATED:20220104T033644Z
LAST-MODIFIED:20220104T033644Z
UID:3037-1664218800-1664226000@exp.zrcdemo.com
SUMMARY:Pleasant Hill Promenaders
DESCRIPTION:Mainstream and Plus Squares with Rounds and Lines between Tips
URL:https://exp.zrcdemo.com/events/pleasant-hill-promenaders-131/
LOCATION:Graceland Christian Church\, 2126 Stateline Rd\, Southaven\, 38672\, United States
CATEGORIES:Club Dance
END:VEVENT
BEGIN:VEVENT
DTSTART;TZID=America/Chicago:20220926T190000
DTEND;TZID=America/Chicago:20220926T210000
DTSTAMP:20260422T183434
CREATED:20220104T033400Z
LAST-MODIFIED:20220104T033400Z
UID:2984-1664218800-1664226000@exp.zrcdemo.com
SUMMARY:Merry-Go-Rounds
DESCRIPTION:Phase II-VI
URL:https://exp.zrcdemo.com/events/merry-go-rounds-125/
LOCATION:Berclair Civic Club\, 743 Novarese Road\, Memphis\, TN\, 38122\, United States
CATEGORIES:Club Dance
END:VEVENT
BEGIN:VEVENT
DTSTART;TZID=America/Chicago:20220925T143000
DTEND;TZID=America/Chicago:20220925T163000
DTSTAMP:20260422T183434
CREATED:20220104T032510Z
LAST-MODIFIED:20220919T002510Z
UID:2929-1664116200-1664123400@exp.zrcdemo.com
SUMMARY:T-Squares CLOSED
DESCRIPTION:Advanced Squares A2-C1
URL:https://exp.zrcdemo.com/events/t-squares-153/
LOCATION:Graceland Christian Church\, 2126 Stateline Rd\, Southaven\, 38672\, United States
CATEGORIES:Club Dance
END:VEVENT
BEGIN:VEVENT
DTSTART;TZID=America/Chicago:20220922T190000
DTEND;TZID=America/Chicago:20220922T210000
DTSTAMP:20260422T183434
CREATED:20220104T031939Z
LAST-MODIFIED:20220104T031939Z
UID:2818-1663873200-1663880400@exp.zrcdemo.com
SUMMARY:Top Spinners
DESCRIPTION:Mainstream and Plus Squares with Lines between Tips
URL:https://exp.zrcdemo.com/events/top-spinners-119/
LOCATION:Eads Civic Center\, 12365 Washington Rd\, Eads\, 38028\, United States
CATEGORIES:Club Dance
END:VEVENT
BEGIN:VEVENT
DTSTART;TZID=America/Chicago:20220921T193000
DTEND;TZID=America/Chicago:20220921T213000
DTSTAMP:20260422T183434
CREATED:20220104T032225Z
LAST-MODIFIED:20220104T032225Z
UID:2876-1663788600-1663795800@exp.zrcdemo.com
SUMMARY:Pistols & Petticoats
DESCRIPTION:Mainstream and Plus Squares with Rounds between Tips
URL:https://exp.zrcdemo.com/events/pistols-petticoats-77/
LOCATION:Bartlett United Methodist Church\, 5676 Stage Rd.\, Bartlett\, 38134\, United States
CATEGORIES:Club Dance
END:VEVENT
BEGIN:VEVENT
DTSTART;TZID=America/Chicago:20220919T190000
DTEND;TZID=America/Chicago:20220919T210000
DTSTAMP:20260422T183434
CREATED:20220104T033644Z
LAST-MODIFIED:20220104T033644Z
UID:3036-1663614000-1663621200@exp.zrcdemo.com
SUMMARY:Pleasant Hill Promenaders
DESCRIPTION:Mainstream and Plus Squares with Rounds and Lines between Tips
URL:https://exp.zrcdemo.com/events/pleasant-hill-promenaders-130/
LOCATION:Graceland Christian Church\, 2126 Stateline Rd\, Southaven\, 38672\, United States
CATEGORIES:Club Dance
END:VEVENT
BEGIN:VEVENT
DTSTART;TZID=America/Chicago:20220919T190000
DTEND;TZID=America/Chicago:20220919T210000
DTSTAMP:20260422T183434
CREATED:20220104T033359Z
LAST-MODIFIED:20220104T033359Z
UID:2983-1663614000-1663621200@exp.zrcdemo.com
SUMMARY:Merry-Go-Rounds
DESCRIPTION:Phase II-VI
URL:https://exp.zrcdemo.com/events/merry-go-rounds-124/
LOCATION:Berclair Civic Club\, 743 Novarese Road\, Memphis\, TN\, 38122\, United States
CATEGORIES:Club Dance
END:VEVENT
END:VCALENDAR