BEGIN:VCALENDAR
VERSION:2.0
PRODID:-//Greater Memphis Square &amp; Round Dance Association - ECPv6.15.20//NONSGML v1.0//EN
CALSCALE:GREGORIAN
METHOD:PUBLISH
X-WR-CALNAME:Greater Memphis Square &amp; Round Dance Association
X-ORIGINAL-URL:https://exp.zrcdemo.com
X-WR-CALDESC:Events for Greater Memphis Square &amp; Round Dance Association
REFRESH-INTERVAL;VALUE=DURATION:PT1H
X-Robots-Tag:noindex
X-PUBLISHED-TTL:PT1H
BEGIN:VTIMEZONE
TZID:America/Chicago
BEGIN:DAYLIGHT
TZOFFSETFROM:-0600
TZOFFSETTO:-0500
TZNAME:CDT
DTSTART:20210314T080000
END:DAYLIGHT
BEGIN:STANDARD
TZOFFSETFROM:-0500
TZOFFSETTO:-0600
TZNAME:CST
DTSTART:20211107T070000
END:STANDARD
BEGIN:DAYLIGHT
TZOFFSETFROM:-0600
TZOFFSETTO:-0500
TZNAME:CDT
DTSTART:20220313T080000
END:DAYLIGHT
BEGIN:STANDARD
TZOFFSETFROM:-0500
TZOFFSETTO:-0600
TZNAME:CST
DTSTART:20221106T070000
END:STANDARD
BEGIN:DAYLIGHT
TZOFFSETFROM:-0600
TZOFFSETTO:-0500
TZNAME:CDT
DTSTART:20230312T080000
END:DAYLIGHT
BEGIN:STANDARD
TZOFFSETFROM:-0500
TZOFFSETTO:-0600
TZNAME:CST
DTSTART:20231105T070000
END:STANDARD
END:VTIMEZONE
BEGIN:VEVENT
DTSTART;TZID=America/Chicago:20220613T190000
DTEND;TZID=America/Chicago:20220613T210000
DTSTAMP:20260425T073915
CREATED:20220104T033559Z
LAST-MODIFIED:20220104T033559Z
UID:3021-1655146800-1655154000@exp.zrcdemo.com
SUMMARY:Pleasant Hill Promenaders
DESCRIPTION:Mainstream and Plus Squares with Rounds and Lines between Tips
URL:https://exp.zrcdemo.com/events/pleasant-hill-promenaders-118/
LOCATION:Graceland Christian Church\, 2126 Stateline Rd\, Southaven\, 38672\, United States
CATEGORIES:Club Dance
END:VEVENT
BEGIN:VEVENT
DTSTART;TZID=America/Chicago:20220613T190000
DTEND;TZID=America/Chicago:20220613T210000
DTSTAMP:20260425T073915
CREATED:20220104T032840Z
LAST-MODIFIED:20220104T032840Z
UID:2966-1655146800-1655154000@exp.zrcdemo.com
SUMMARY:Merry-Go-Rounds
DESCRIPTION:Phase II-VI
URL:https://exp.zrcdemo.com/events/merry-go-rounds-110/
LOCATION:Berclair Civic Club\, 743 Novarese Road\, Memphis\, TN\, 38122\, United States
CATEGORIES:Club Dance
END:VEVENT
BEGIN:VEVENT
DTSTART;TZID=America/Chicago:20220612T143000
DTEND;TZID=America/Chicago:20220612T163000
DTSTAMP:20260425T073915
CREATED:20220104T032425Z
LAST-MODIFIED:20220104T032425Z
UID:2914-1655044200-1655051400@exp.zrcdemo.com
SUMMARY:T-Squares
DESCRIPTION:Advanced Squares A2-C1
URL:https://exp.zrcdemo.com/events/t-squares-138/
LOCATION:Graceland Christian Church\, 2126 Stateline Rd\, Southaven\, 38672\, United States
CATEGORIES:Club Dance
END:VEVENT
BEGIN:VEVENT
DTSTART;TZID=America/Chicago:20220610T190000
DTEND;TZID=America/Chicago:20220610T210000
DTSTAMP:20260425T073915
CREATED:20220104T031610Z
LAST-MODIFIED:20220104T031610Z
UID:2751-1654887600-1654894800@exp.zrcdemo.com
SUMMARY:B&Bs
DESCRIPTION:Mainstream and Plus Squares with Rounds and Lines between Tips
URL:https://exp.zrcdemo.com/events/bbs-111/
LOCATION:Colonial Park United Methodist Church\, 5330 Park Avenue\, Memphis\, 38119\, United States
CATEGORIES:Club Dance
END:VEVENT
BEGIN:VEVENT
DTSTART;TZID=America/Chicago:20220609T190000
DTEND;TZID=America/Chicago:20220609T210000
DTSTAMP:20260425T073915
CREATED:20220104T031854Z
LAST-MODIFIED:20220104T031854Z
UID:2803-1654801200-1654808400@exp.zrcdemo.com
SUMMARY:Top Spinners
DESCRIPTION:Mainstream and Plus Squares with Lines between Tips
URL:https://exp.zrcdemo.com/events/top-spinners-106/
LOCATION:Eads Civic Center\, 12365 Washington Rd\, Eads\, 38028\, United States
CATEGORIES:Club Dance
END:VEVENT
BEGIN:VEVENT
DTSTART;TZID=America/Chicago:20220608T193000
DTEND;TZID=America/Chicago:20220608T213000
DTSTAMP:20260425T073915
CREATED:20220104T032140Z
LAST-MODIFIED:20220104T032140Z
UID:2861-1654716600-1654723800@exp.zrcdemo.com
SUMMARY:Pistols & Petticoats
DESCRIPTION:Mainstream and Plus Squares with Rounds between Tips
URL:https://exp.zrcdemo.com/events/pistols-petticoats-63/
LOCATION:Bartlett United Methodist Church\, 5676 Stage Rd.\, Bartlett\, 38134\, United States
CATEGORIES:Club Dance
END:VEVENT
BEGIN:VEVENT
DTSTART;TZID=America/Chicago:20220607T180000
DTEND;TZID=America/Chicago:20220607T200000
DTSTAMP:20260425T073915
CREATED:20220104T031340Z
LAST-MODIFIED:20220104T031340Z
UID:2699-1654624800-1654632000@exp.zrcdemo.com
SUMMARY:Southern Rounds
DESCRIPTION:Rounds 6:00-7:00; Lines 7:00-8:00
URL:https://exp.zrcdemo.com/events/southern-rounds-108/
LOCATION:Graceland Christian Church\, 2126 Stateline Rd\, Southaven\, 38672\, United States
CATEGORIES:Club Dance
END:VEVENT
BEGIN:VEVENT
DTSTART;TZID=America/Chicago:20220606T190000
DTEND;TZID=America/Chicago:20220606T210000
DTSTAMP:20260425T073915
CREATED:20220104T033559Z
LAST-MODIFIED:20220104T033559Z
UID:3020-1654542000-1654549200@exp.zrcdemo.com
SUMMARY:Pleasant Hill Promenaders
DESCRIPTION:Mainstream and Plus Squares with Rounds and Lines between Tips
URL:https://exp.zrcdemo.com/events/pleasant-hill-promenaders-117/
LOCATION:Graceland Christian Church\, 2126 Stateline Rd\, Southaven\, 38672\, United States
CATEGORIES:Club Dance
END:VEVENT
BEGIN:VEVENT
DTSTART;TZID=America/Chicago:20220606T190000
DTEND;TZID=America/Chicago:20220606T210000
DTSTAMP:20260425T073915
CREATED:20220104T032840Z
LAST-MODIFIED:20220104T032840Z
UID:2965-1654542000-1654549200@exp.zrcdemo.com
SUMMARY:Merry-Go-Rounds
DESCRIPTION:Phase II-VI
URL:https://exp.zrcdemo.com/events/merry-go-rounds-109/
LOCATION:Berclair Civic Club\, 743 Novarese Road\, Memphis\, TN\, 38122\, United States
CATEGORIES:Club Dance
END:VEVENT
BEGIN:VEVENT
DTSTART;TZID=America/Chicago:20220605T143000
DTEND;TZID=America/Chicago:20220605T163000
DTSTAMP:20260425T073915
CREATED:20220104T032424Z
LAST-MODIFIED:20220104T032424Z
UID:2913-1654439400-1654446600@exp.zrcdemo.com
SUMMARY:T-Squares
DESCRIPTION:Advanced Squares A2-C1
URL:https://exp.zrcdemo.com/events/t-squares-137/
LOCATION:Graceland Christian Church\, 2126 Stateline Rd\, Southaven\, 38672\, United States
CATEGORIES:Club Dance
END:VEVENT
BEGIN:VEVENT
DTSTART;TZID=America/Chicago:20220603T190000
DTEND;TZID=America/Chicago:20220603T210000
DTSTAMP:20260425T073915
CREATED:20220104T031610Z
LAST-MODIFIED:20220104T031610Z
UID:2750-1654282800-1654290000@exp.zrcdemo.com
SUMMARY:B&Bs
DESCRIPTION:Mainstream and Plus Squares with Rounds and Lines between Tips
URL:https://exp.zrcdemo.com/events/bbs-110/
LOCATION:Colonial Park United Methodist Church\, 5330 Park Avenue\, Memphis\, 38119\, United States
CATEGORIES:Club Dance
END:VEVENT
BEGIN:VEVENT
DTSTART;TZID=America/Chicago:20220602T190000
DTEND;TZID=America/Chicago:20220602T210000
DTSTAMP:20260425T073915
CREATED:20220104T031854Z
LAST-MODIFIED:20220104T031854Z
UID:2802-1654196400-1654203600@exp.zrcdemo.com
SUMMARY:Top Spinners
DESCRIPTION:Mainstream and Plus Squares with Lines between Tips
URL:https://exp.zrcdemo.com/events/top-spinners-105/
LOCATION:Eads Civic Center\, 12365 Washington Rd\, Eads\, 38028\, United States
CATEGORIES:Club Dance
END:VEVENT
BEGIN:VEVENT
DTSTART;TZID=America/Chicago:20220601T193000
DTEND;TZID=America/Chicago:20220601T213000
DTSTAMP:20260425T073915
CREATED:20220104T032140Z
LAST-MODIFIED:20220104T032140Z
UID:2860-1654111800-1654119000@exp.zrcdemo.com
SUMMARY:Pistols & Petticoats
DESCRIPTION:Mainstream and Plus Squares with Rounds between Tips
URL:https://exp.zrcdemo.com/events/pistols-petticoats-62/
LOCATION:Bartlett United Methodist Church\, 5676 Stage Rd.\, Bartlett\, 38134\, United States
CATEGORIES:Club Dance
END:VEVENT
BEGIN:VEVENT
DTSTART;TZID=America/Chicago:20220531T180000
DTEND;TZID=America/Chicago:20220531T200000
DTSTAMP:20260425T073915
CREATED:20220104T031339Z
LAST-MODIFIED:20220104T031339Z
UID:2698-1654020000-1654027200@exp.zrcdemo.com
SUMMARY:Southern Rounds
DESCRIPTION:Rounds 6:00-7:00; Lines 7:00-8:00
URL:https://exp.zrcdemo.com/events/southern-rounds-107/
LOCATION:Graceland Christian Church\, 2126 Stateline Rd\, Southaven\, 38672\, United States
CATEGORIES:Club Dance
END:VEVENT
BEGIN:VEVENT
DTSTART;TZID=America/Chicago:20220530T190000
DTEND;TZID=America/Chicago:20220530T210000
DTSTAMP:20260425T073915
CREATED:20220104T033544Z
LAST-MODIFIED:20220523T122043Z
UID:3019-1653937200-1653944400@exp.zrcdemo.com
SUMMARY:Pleasant Hill Promenaders CLOSED
DESCRIPTION:Mainstream and Plus Squares with Rounds and Lines between Tips
URL:https://exp.zrcdemo.com/events/pleasant-hill-promenaders-116/
LOCATION:Graceland Christian Church\, 2126 Stateline Rd\, Southaven\, 38672\, United States
CATEGORIES:Club Dance
END:VEVENT
BEGIN:VEVENT
DTSTART;TZID=America/Chicago:20220530T190000
DTEND;TZID=America/Chicago:20220530T210000
DTSTAMP:20260425T073915
CREATED:20220104T032840Z
LAST-MODIFIED:20220104T032840Z
UID:2964-1653937200-1653944400@exp.zrcdemo.com
SUMMARY:Merry-Go-Rounds
DESCRIPTION:Phase II-VI
URL:https://exp.zrcdemo.com/events/merry-go-rounds-108/
LOCATION:Berclair Civic Club\, 743 Novarese Road\, Memphis\, TN\, 38122\, United States
CATEGORIES:Club Dance
END:VEVENT
BEGIN:VEVENT
DTSTART;TZID=America/Chicago:20220529T143000
DTEND;TZID=America/Chicago:20220529T163000
DTSTAMP:20260425T073915
CREATED:20220104T032424Z
LAST-MODIFIED:20220524T213738Z
UID:2912-1653834600-1653841800@exp.zrcdemo.com
SUMMARY:T-Squares CLOSED
DESCRIPTION:Advanced Squares A2-C1
URL:https://exp.zrcdemo.com/events/t-squares-136/
LOCATION:Graceland Christian Church\, 2126 Stateline Rd\, Southaven\, 38672\, United States
CATEGORIES:Club Dance
END:VEVENT
BEGIN:VEVENT
DTSTART;TZID=America/Chicago:20220527T190000
DTEND;TZID=America/Chicago:20220527T210000
DTSTAMP:20260425T073915
CREATED:20220104T031609Z
LAST-MODIFIED:20220104T031609Z
UID:2749-1653678000-1653685200@exp.zrcdemo.com
SUMMARY:B&Bs
DESCRIPTION:Mainstream and Plus Squares with Rounds and Lines between Tips
URL:https://exp.zrcdemo.com/events/bbs-109/
LOCATION:Colonial Park United Methodist Church\, 5330 Park Avenue\, Memphis\, 38119\, United States
CATEGORIES:Club Dance
END:VEVENT
BEGIN:VEVENT
DTSTART;TZID=America/Chicago:20220526T190000
DTEND;TZID=America/Chicago:20220526T210000
DTSTAMP:20260425T073915
CREATED:20220104T031840Z
LAST-MODIFIED:20220104T031840Z
UID:2801-1653591600-1653598800@exp.zrcdemo.com
SUMMARY:Top Spinners
DESCRIPTION:Mainstream and Plus Squares with Lines between Tips
URL:https://exp.zrcdemo.com/events/top-spinners-104/
LOCATION:Eads Civic Center\, 12365 Washington Rd\, Eads\, 38028\, United States
CATEGORIES:Club Dance
END:VEVENT
BEGIN:VEVENT
DTSTART;TZID=America/Chicago:20220525T193000
DTEND;TZID=America/Chicago:20220525T213000
DTSTAMP:20260425T073915
CREATED:20220104T032139Z
LAST-MODIFIED:20220104T032139Z
UID:2859-1653507000-1653514200@exp.zrcdemo.com
SUMMARY:Pistols & Petticoats
DESCRIPTION:Mainstream and Plus Squares with Rounds between Tips
URL:https://exp.zrcdemo.com/events/pistols-petticoats-61/
LOCATION:Bartlett United Methodist Church\, 5676 Stage Rd.\, Bartlett\, 38134\, United States
CATEGORIES:Club Dance
END:VEVENT
BEGIN:VEVENT
DTSTART;TZID=America/Chicago:20220524T180000
DTEND;TZID=America/Chicago:20220524T200000
DTSTAMP:20260425T073915
CREATED:20220104T031339Z
LAST-MODIFIED:20220104T031339Z
UID:2697-1653415200-1653422400@exp.zrcdemo.com
SUMMARY:Southern Rounds
DESCRIPTION:Rounds 6:00-7:00; Lines 7:00-8:00
URL:https://exp.zrcdemo.com/events/southern-rounds-106/
LOCATION:Graceland Christian Church\, 2126 Stateline Rd\, Southaven\, 38672\, United States
CATEGORIES:Club Dance
END:VEVENT
BEGIN:VEVENT
DTSTART;TZID=America/Chicago:20220523T190000
DTEND;TZID=America/Chicago:20220523T210000
DTSTAMP:20260425T073915
CREATED:20220104T033544Z
LAST-MODIFIED:20220104T033544Z
UID:3018-1653332400-1653339600@exp.zrcdemo.com
SUMMARY:Pleasant Hill Promenaders
DESCRIPTION:Mainstream and Plus Squares with Rounds and Lines between Tips
URL:https://exp.zrcdemo.com/events/pleasant-hill-promenaders-115/
LOCATION:Graceland Christian Church\, 2126 Stateline Rd\, Southaven\, 38672\, United States
CATEGORIES:Club Dance
END:VEVENT
BEGIN:VEVENT
DTSTART;TZID=America/Chicago:20220523T190000
DTEND;TZID=America/Chicago:20220523T210000
DTSTAMP:20260425T073915
CREATED:20220104T032840Z
LAST-MODIFIED:20220104T032840Z
UID:2963-1653332400-1653339600@exp.zrcdemo.com
SUMMARY:Merry-Go-Rounds
DESCRIPTION:Phase II-VI
URL:https://exp.zrcdemo.com/events/merry-go-rounds-107/
LOCATION:Berclair Civic Club\, 743 Novarese Road\, Memphis\, TN\, 38122\, United States
CATEGORIES:Club Dance
END:VEVENT
BEGIN:VEVENT
DTSTART;TZID=America/Chicago:20220522T143000
DTEND;TZID=America/Chicago:20220522T163000
DTSTAMP:20260425T073915
CREATED:20220104T032410Z
LAST-MODIFIED:20220104T032410Z
UID:2911-1653229800-1653237000@exp.zrcdemo.com
SUMMARY:T-Squares
DESCRIPTION:Advanced Squares A2-C1
URL:https://exp.zrcdemo.com/events/t-squares-135/
LOCATION:Graceland Christian Church\, 2126 Stateline Rd\, Southaven\, 38672\, United States
CATEGORIES:Club Dance
END:VEVENT
BEGIN:VEVENT
DTSTART;TZID=America/Chicago:20220520T190000
DTEND;TZID=America/Chicago:20220520T210000
DTSTAMP:20260425T073915
CREATED:20220104T031609Z
LAST-MODIFIED:20220104T031609Z
UID:2748-1653073200-1653080400@exp.zrcdemo.com
SUMMARY:B&Bs
DESCRIPTION:Mainstream and Plus Squares with Rounds and Lines between Tips
URL:https://exp.zrcdemo.com/events/bbs-108/
LOCATION:Colonial Park United Methodist Church\, 5330 Park Avenue\, Memphis\, 38119\, United States
CATEGORIES:Club Dance
END:VEVENT
BEGIN:VEVENT
DTSTART;TZID=America/Chicago:20220519T190000
DTEND;TZID=America/Chicago:20220519T210000
DTSTAMP:20260425T073915
CREATED:20220104T031840Z
LAST-MODIFIED:20220104T031840Z
UID:2800-1652986800-1652994000@exp.zrcdemo.com
SUMMARY:Top Spinners
DESCRIPTION:Mainstream and Plus Squares with Lines between Tips
URL:https://exp.zrcdemo.com/events/top-spinners-103/
LOCATION:Eads Civic Center\, 12365 Washington Rd\, Eads\, 38028\, United States
CATEGORIES:Club Dance
END:VEVENT
BEGIN:VEVENT
DTSTART;TZID=America/Chicago:20220518T193000
DTEND;TZID=America/Chicago:20220518T213000
DTSTAMP:20260425T073915
CREATED:20220104T032139Z
LAST-MODIFIED:20220104T032139Z
UID:2858-1652902200-1652909400@exp.zrcdemo.com
SUMMARY:Pistols & Petticoats
DESCRIPTION:Mainstream and Plus Squares with Rounds between Tips
URL:https://exp.zrcdemo.com/events/pistols-petticoats-60/
LOCATION:Bartlett United Methodist Church\, 5676 Stage Rd.\, Bartlett\, 38134\, United States
CATEGORIES:Club Dance
END:VEVENT
BEGIN:VEVENT
DTSTART;TZID=America/Chicago:20220517T180000
DTEND;TZID=America/Chicago:20220517T200000
DTSTAMP:20260425T073915
CREATED:20220104T031325Z
LAST-MODIFIED:20220104T031325Z
UID:2696-1652810400-1652817600@exp.zrcdemo.com
SUMMARY:Southern Rounds
DESCRIPTION:Rounds 6:00-7:00; Lines 7:00-8:00
URL:https://exp.zrcdemo.com/events/southern-rounds-105/
LOCATION:Graceland Christian Church\, 2126 Stateline Rd\, Southaven\, 38672\, United States
CATEGORIES:Club Dance
END:VEVENT
BEGIN:VEVENT
DTSTART;TZID=America/Chicago:20220516T190000
DTEND;TZID=America/Chicago:20220516T210000
DTSTAMP:20260425T073915
CREATED:20220104T032839Z
LAST-MODIFIED:20220104T032839Z
UID:2962-1652727600-1652734800@exp.zrcdemo.com
SUMMARY:Merry-Go-Rounds
DESCRIPTION:Phase II-VI
URL:https://exp.zrcdemo.com/events/merry-go-rounds-106/
LOCATION:Berclair Civic Club\, 743 Novarese Road\, Memphis\, TN\, 38122\, United States
CATEGORIES:Club Dance
END:VEVENT
BEGIN:VEVENT
DTSTART;TZID=America/Chicago:20220515T143000
DTEND;TZID=America/Chicago:20220515T163000
DTSTAMP:20260425T073915
CREATED:20220104T032410Z
LAST-MODIFIED:20220104T032410Z
UID:2910-1652625000-1652632200@exp.zrcdemo.com
SUMMARY:T-Squares
DESCRIPTION:Advanced Squares A2-C1
URL:https://exp.zrcdemo.com/events/t-squares-134/
LOCATION:Graceland Christian Church\, 2126 Stateline Rd\, Southaven\, 38672\, United States
CATEGORIES:Club Dance
END:VEVENT
END:VCALENDAR