BEGIN:VCALENDAR
VERSION:2.0
PRODID:-//Greater Memphis Square &amp; Round Dance Association - ECPv6.15.20//NONSGML v1.0//EN
CALSCALE:GREGORIAN
METHOD:PUBLISH
X-ORIGINAL-URL:https://exp.zrcdemo.com
X-WR-CALDESC:Events for Greater Memphis Square &amp; Round Dance Association
REFRESH-INTERVAL;VALUE=DURATION:PT1H
X-Robots-Tag:noindex
X-PUBLISHED-TTL:PT1H
BEGIN:VTIMEZONE
TZID:America/Chicago
BEGIN:DAYLIGHT
TZOFFSETFROM:-0600
TZOFFSETTO:-0500
TZNAME:CDT
DTSTART:20210314T080000
END:DAYLIGHT
BEGIN:STANDARD
TZOFFSETFROM:-0500
TZOFFSETTO:-0600
TZNAME:CST
DTSTART:20211107T070000
END:STANDARD
BEGIN:DAYLIGHT
TZOFFSETFROM:-0600
TZOFFSETTO:-0500
TZNAME:CDT
DTSTART:20220313T080000
END:DAYLIGHT
BEGIN:STANDARD
TZOFFSETFROM:-0500
TZOFFSETTO:-0600
TZNAME:CST
DTSTART:20221106T070000
END:STANDARD
BEGIN:DAYLIGHT
TZOFFSETFROM:-0600
TZOFFSETTO:-0500
TZNAME:CDT
DTSTART:20230312T080000
END:DAYLIGHT
BEGIN:STANDARD
TZOFFSETFROM:-0500
TZOFFSETTO:-0600
TZNAME:CST
DTSTART:20231105T070000
END:STANDARD
END:VTIMEZONE
BEGIN:VEVENT
DTSTART;TZID=America/Chicago:20220513T190000
DTEND;TZID=America/Chicago:20220513T210000
DTSTAMP:20260425T130145
CREATED:20220104T031609Z
LAST-MODIFIED:20220104T031609Z
UID:2747-1652468400-1652475600@exp.zrcdemo.com
SUMMARY:B&Bs
DESCRIPTION:Mainstream and Plus Squares with Rounds and Lines between Tips
URL:https://exp.zrcdemo.com/events/bbs-107/
LOCATION:Colonial Park United Methodist Church\, 5330 Park Avenue\, Memphis\, 38119\, United States
CATEGORIES:Club Dance
END:VEVENT
BEGIN:VEVENT
DTSTART;TZID=America/Chicago:20220512T190000
DTEND;TZID=America/Chicago:20220512T210000
DTSTAMP:20260425T130145
CREATED:20220104T031839Z
LAST-MODIFIED:20220104T031839Z
UID:2799-1652382000-1652389200@exp.zrcdemo.com
SUMMARY:Top Spinners
DESCRIPTION:Mainstream and Plus Squares with Lines between Tips
URL:https://exp.zrcdemo.com/events/top-spinners-102/
LOCATION:Eads Civic Center\, 12365 Washington Rd\, Eads\, 38028\, United States
CATEGORIES:Club Dance
END:VEVENT
BEGIN:VEVENT
DTSTART;TZID=America/Chicago:20220511T193000
DTEND;TZID=America/Chicago:20220511T213000
DTSTAMP:20260425T130145
CREATED:20220104T032139Z
LAST-MODIFIED:20220104T032139Z
UID:2857-1652297400-1652304600@exp.zrcdemo.com
SUMMARY:Pistols & Petticoats
DESCRIPTION:Mainstream and Plus Squares with Rounds between Tips
URL:https://exp.zrcdemo.com/events/pistols-petticoats-59/
LOCATION:Bartlett United Methodist Church\, 5676 Stage Rd.\, Bartlett\, 38134\, United States
CATEGORIES:Club Dance
END:VEVENT
BEGIN:VEVENT
DTSTART;TZID=America/Chicago:20220510T180000
DTEND;TZID=America/Chicago:20220510T200000
DTSTAMP:20260425T130145
CREATED:20220104T031325Z
LAST-MODIFIED:20220104T031325Z
UID:2695-1652205600-1652212800@exp.zrcdemo.com
SUMMARY:Southern Rounds
DESCRIPTION:Rounds 6:00-7:00; Lines 7:00-8:00
URL:https://exp.zrcdemo.com/events/southern-rounds-104/
LOCATION:Graceland Christian Church\, 2126 Stateline Rd\, Southaven\, 38672\, United States
CATEGORIES:Club Dance
END:VEVENT
BEGIN:VEVENT
DTSTART;TZID=America/Chicago:20220509T190000
DTEND;TZID=America/Chicago:20220509T210000
DTSTAMP:20260425T130145
CREATED:20220104T033544Z
LAST-MODIFIED:20220425T185426Z
UID:3016-1652122800-1652130000@exp.zrcdemo.com
SUMMARY:Pleasant Hill Promenaders
DESCRIPTION:Mainstream and Plus Squares with Rounds and Lines between Tips
URL:https://exp.zrcdemo.com/events/pleasant-hill-promenaders-anniversary-dance-2/
LOCATION:Graceland Christian Church\, 2126 Stateline Rd\, Southaven\, 38672\, United States
CATEGORIES:Club Dance
END:VEVENT
BEGIN:VEVENT
DTSTART;TZID=America/Chicago:20220509T190000
DTEND;TZID=America/Chicago:20220509T210000
DTSTAMP:20260425T130145
CREATED:20220104T032825Z
LAST-MODIFIED:20220104T032825Z
UID:2961-1652122800-1652130000@exp.zrcdemo.com
SUMMARY:Merry-Go-Rounds
DESCRIPTION:Phase II-VI
URL:https://exp.zrcdemo.com/events/merry-go-rounds-105/
LOCATION:Berclair Civic Club\, 743 Novarese Road\, Memphis\, TN\, 38122\, United States
CATEGORIES:Club Dance
END:VEVENT
BEGIN:VEVENT
DTSTART;TZID=America/Chicago:20220508T143000
DTEND;TZID=America/Chicago:20220508T163000
DTSTAMP:20260425T130145
CREATED:20220104T032410Z
LAST-MODIFIED:20220104T032410Z
UID:2909-1652020200-1652027400@exp.zrcdemo.com
SUMMARY:T-Squares
DESCRIPTION:Advanced Squares A2-C1
URL:https://exp.zrcdemo.com/events/t-squares-133/
LOCATION:Graceland Christian Church\, 2126 Stateline Rd\, Southaven\, 38672\, United States
CATEGORIES:Club Dance
END:VEVENT
BEGIN:VEVENT
DTSTART;TZID=America/Chicago:20220506T190000
DTEND;TZID=America/Chicago:20220506T210000
DTSTAMP:20260425T130145
CREATED:20220104T031555Z
LAST-MODIFIED:20220104T031555Z
UID:2746-1651863600-1651870800@exp.zrcdemo.com
SUMMARY:B&Bs
DESCRIPTION:Mainstream and Plus Squares with Rounds and Lines between Tips
URL:https://exp.zrcdemo.com/events/bbs-106/
LOCATION:Colonial Park United Methodist Church\, 5330 Park Avenue\, Memphis\, 38119\, United States
CATEGORIES:Club Dance
END:VEVENT
BEGIN:VEVENT
DTSTART;TZID=America/Chicago:20220504T193000
DTEND;TZID=America/Chicago:20220504T213000
DTSTAMP:20260425T130145
CREATED:20220104T032125Z
LAST-MODIFIED:20220104T032125Z
UID:2856-1651692600-1651699800@exp.zrcdemo.com
SUMMARY:Pistols & Petticoats
DESCRIPTION:Mainstream and Plus Squares with Rounds between Tips
URL:https://exp.zrcdemo.com/events/pistols-petticoats-58/
LOCATION:Bartlett United Methodist Church\, 5676 Stage Rd.\, Bartlett\, 38134\, United States
CATEGORIES:Club Dance
END:VEVENT
BEGIN:VEVENT
DTSTART;TZID=America/Chicago:20220503T180000
DTEND;TZID=America/Chicago:20220503T200000
DTSTAMP:20260425T130145
CREATED:20220104T031324Z
LAST-MODIFIED:20220104T031324Z
UID:2694-1651600800-1651608000@exp.zrcdemo.com
SUMMARY:Southern Rounds
DESCRIPTION:Rounds 6:00-7:00; Lines 7:00-8:00
URL:https://exp.zrcdemo.com/events/southern-rounds-103/
LOCATION:Graceland Christian Church\, 2126 Stateline Rd\, Southaven\, 38672\, United States
CATEGORIES:Club Dance
END:VEVENT
BEGIN:VEVENT
DTSTART;TZID=America/Chicago:20220502T190000
DTEND;TZID=America/Chicago:20220502T210000
DTSTAMP:20260425T130145
CREATED:20220104T033544Z
LAST-MODIFIED:20220104T033544Z
UID:3015-1651518000-1651525200@exp.zrcdemo.com
SUMMARY:Pleasant Hill Promenaders
DESCRIPTION:Mainstream and Plus Squares with Rounds and Lines between Tips
URL:https://exp.zrcdemo.com/events/pleasant-hill-promenaders-113/
LOCATION:Graceland Christian Church\, 2126 Stateline Rd\, Southaven\, 38672\, United States
CATEGORIES:Club Dance
END:VEVENT
BEGIN:VEVENT
DTSTART;TZID=America/Chicago:20220502T190000
DTEND;TZID=America/Chicago:20220502T210000
DTSTAMP:20260425T130145
CREATED:20220104T032825Z
LAST-MODIFIED:20220104T032825Z
UID:2960-1651518000-1651525200@exp.zrcdemo.com
SUMMARY:Merry-Go-Rounds
DESCRIPTION:Phase II-VI
URL:https://exp.zrcdemo.com/events/merry-go-rounds-104/
LOCATION:Berclair Civic Club\, 743 Novarese Road\, Memphis\, TN\, 38122\, United States
CATEGORIES:Club Dance
END:VEVENT
BEGIN:VEVENT
DTSTART;TZID=America/Chicago:20220501T143000
DTEND;TZID=America/Chicago:20220501T163000
DTSTAMP:20260425T130145
CREATED:20220104T032409Z
LAST-MODIFIED:20220104T032409Z
UID:2908-1651415400-1651422600@exp.zrcdemo.com
SUMMARY:T-Squares
DESCRIPTION:Advanced Squares A2-C1
URL:https://exp.zrcdemo.com/events/t-squares-132/
LOCATION:Graceland Christian Church\, 2126 Stateline Rd\, Southaven\, 38672\, United States
CATEGORIES:Club Dance
END:VEVENT
BEGIN:VEVENT
DTSTART;TZID=America/Chicago:20220429T190000
DTEND;TZID=America/Chicago:20220429T210000
DTSTAMP:20260425T130145
CREATED:20220104T031555Z
LAST-MODIFIED:20220104T031555Z
UID:2745-1651258800-1651266000@exp.zrcdemo.com
SUMMARY:B&Bs
DESCRIPTION:Mainstream and Plus Squares with Rounds and Lines between Tips
URL:https://exp.zrcdemo.com/events/bbs-105/
LOCATION:Colonial Park United Methodist Church\, 5330 Park Avenue\, Memphis\, 38119\, United States
CATEGORIES:Club Dance
END:VEVENT
BEGIN:VEVENT
DTSTART;TZID=America/Chicago:20220428T190000
DTEND;TZID=America/Chicago:20220428T210000
DTSTAMP:20260425T130145
CREATED:20220104T031839Z
LAST-MODIFIED:20220104T031839Z
UID:2797-1651172400-1651179600@exp.zrcdemo.com
SUMMARY:Top Spinners
DESCRIPTION:Mainstream and Plus Squares with Lines between Tips
URL:https://exp.zrcdemo.com/events/top-spinners-100/
LOCATION:Eads Civic Center\, 12365 Washington Rd\, Eads\, 38028\, United States
CATEGORIES:Club Dance
END:VEVENT
BEGIN:VEVENT
DTSTART;TZID=America/Chicago:20220427T193000
DTEND;TZID=America/Chicago:20220427T213000
DTSTAMP:20260425T130145
CREATED:20220104T032125Z
LAST-MODIFIED:20220104T032125Z
UID:2855-1651087800-1651095000@exp.zrcdemo.com
SUMMARY:Pistols & Petticoats
DESCRIPTION:Mainstream and Plus Squares with Rounds between Tips
URL:https://exp.zrcdemo.com/events/pistols-petticoats-57/
LOCATION:Bartlett United Methodist Church\, 5676 Stage Rd.\, Bartlett\, 38134\, United States
CATEGORIES:Club Dance
END:VEVENT
BEGIN:VEVENT
DTSTART;TZID=America/Chicago:20220426T180000
DTEND;TZID=America/Chicago:20220426T200000
DTSTAMP:20260425T130145
CREATED:20220104T031324Z
LAST-MODIFIED:20220104T031324Z
UID:2693-1650996000-1651003200@exp.zrcdemo.com
SUMMARY:Southern Rounds
DESCRIPTION:Rounds 6:00-7:00; Lines 7:00-8:00
URL:https://exp.zrcdemo.com/events/southern-rounds-102/
LOCATION:Graceland Christian Church\, 2126 Stateline Rd\, Southaven\, 38672\, United States
CATEGORIES:Club Dance
END:VEVENT
BEGIN:VEVENT
DTSTART;TZID=America/Chicago:20220425T190000
DTEND;TZID=America/Chicago:20220425T210000
DTSTAMP:20260425T130145
CREATED:20220104T033530Z
LAST-MODIFIED:20220104T033530Z
UID:3014-1650913200-1650920400@exp.zrcdemo.com
SUMMARY:Pleasant Hill Promenaders
DESCRIPTION:Mainstream and Plus Squares with Rounds and Lines between Tips
URL:https://exp.zrcdemo.com/events/pleasant-hill-promenaders-112/
LOCATION:Graceland Christian Church\, 2126 Stateline Rd\, Southaven\, 38672\, United States
CATEGORIES:Club Dance
END:VEVENT
BEGIN:VEVENT
DTSTART;TZID=America/Chicago:20220425T190000
DTEND;TZID=America/Chicago:20220425T210000
DTSTAMP:20260425T130145
CREATED:20220104T032825Z
LAST-MODIFIED:20220104T032825Z
UID:2959-1650913200-1650920400@exp.zrcdemo.com
SUMMARY:Merry-Go-Rounds
DESCRIPTION:Phase II-VI
URL:https://exp.zrcdemo.com/events/merry-go-rounds-103/
LOCATION:Berclair Civic Club\, 743 Novarese Road\, Memphis\, TN\, 38122\, United States
CATEGORIES:Club Dance
END:VEVENT
BEGIN:VEVENT
DTSTART;TZID=America/Chicago:20220424T143000
DTEND;TZID=America/Chicago:20220424T163000
DTSTAMP:20260425T130145
CREATED:20220104T032409Z
LAST-MODIFIED:20220104T032409Z
UID:2907-1650810600-1650817800@exp.zrcdemo.com
SUMMARY:T-Squares
DESCRIPTION:Advanced Squares A2-C1
URL:https://exp.zrcdemo.com/events/t-squares-131/
LOCATION:Graceland Christian Church\, 2126 Stateline Rd\, Southaven\, 38672\, United States
CATEGORIES:Club Dance
END:VEVENT
BEGIN:VEVENT
DTSTART;TZID=America/Chicago:20220422T190000
DTEND;TZID=America/Chicago:20220422T210000
DTSTAMP:20260425T130145
CREATED:20220104T031555Z
LAST-MODIFIED:20220413T181230Z
UID:2744-1650654000-1650661200@exp.zrcdemo.com
SUMMARY:B&Bs After Tax Dance
DESCRIPTION:Mainstream and Plus Squares with Rounds and Lines between Tips
URL:https://exp.zrcdemo.com/events/bbs-104/
LOCATION:Colonial Park United Methodist Church\, 5330 Park Avenue\, Memphis\, 38119\, United States
CATEGORIES:Club Dance
END:VEVENT
BEGIN:VEVENT
DTSTART;TZID=America/Chicago:20220421T190000
DTEND;TZID=America/Chicago:20220421T210000
DTSTAMP:20260425T130145
CREATED:20220104T031825Z
LAST-MODIFIED:20220104T031825Z
UID:2796-1650567600-1650574800@exp.zrcdemo.com
SUMMARY:Top Spinners
DESCRIPTION:Mainstream and Plus Squares with Lines between Tips
URL:https://exp.zrcdemo.com/events/top-spinners-99/
LOCATION:Eads Civic Center\, 12365 Washington Rd\, Eads\, 38028\, United States
CATEGORIES:Club Dance
END:VEVENT
BEGIN:VEVENT
DTSTART;TZID=America/Chicago:20220420T193000
DTEND;TZID=America/Chicago:20220420T213000
DTSTAMP:20260425T130145
CREATED:20220104T032124Z
LAST-MODIFIED:20220104T032124Z
UID:2854-1650483000-1650490200@exp.zrcdemo.com
SUMMARY:Pistols & Petticoats
DESCRIPTION:Mainstream and Plus Squares with Rounds between Tips
URL:https://exp.zrcdemo.com/events/pistols-petticoats-56/
LOCATION:Bartlett United Methodist Church\, 5676 Stage Rd.\, Bartlett\, 38134\, United States
CATEGORIES:Club Dance
END:VEVENT
BEGIN:VEVENT
DTSTART;TZID=America/Chicago:20220419T180000
DTEND;TZID=America/Chicago:20220419T200000
DTSTAMP:20260425T130145
CREATED:20220104T031324Z
LAST-MODIFIED:20220104T031324Z
UID:2692-1650391200-1650398400@exp.zrcdemo.com
SUMMARY:Southern Rounds
DESCRIPTION:Rounds 6:00-7:00; Lines 7:00-8:00
URL:https://exp.zrcdemo.com/events/southern-rounds-101/
LOCATION:Graceland Christian Church\, 2126 Stateline Rd\, Southaven\, 38672\, United States
CATEGORIES:Club Dance
END:VEVENT
BEGIN:VEVENT
DTSTART;TZID=America/Chicago:20220418T190000
DTEND;TZID=America/Chicago:20220418T210000
DTSTAMP:20260425T130145
CREATED:20220104T033529Z
LAST-MODIFIED:20220104T033529Z
UID:3013-1650308400-1650315600@exp.zrcdemo.com
SUMMARY:Pleasant Hill Promenaders
DESCRIPTION:Mainstream and Plus Squares with Rounds and Lines between Tips
URL:https://exp.zrcdemo.com/events/pleasant-hill-promenaders-111/
LOCATION:Graceland Christian Church\, 2126 Stateline Rd\, Southaven\, 38672\, United States
CATEGORIES:Club Dance
END:VEVENT
BEGIN:VEVENT
DTSTART;TZID=America/Chicago:20220418T190000
DTEND;TZID=America/Chicago:20220418T210000
DTSTAMP:20260425T130145
CREATED:20220104T032825Z
LAST-MODIFIED:20220104T032825Z
UID:2958-1650308400-1650315600@exp.zrcdemo.com
SUMMARY:Merry-Go-Rounds
DESCRIPTION:Phase II-VI
URL:https://exp.zrcdemo.com/events/merry-go-rounds-102/
LOCATION:Berclair Civic Club\, 743 Novarese Road\, Memphis\, TN\, 38122\, United States
CATEGORIES:Club Dance
END:VEVENT
BEGIN:VEVENT
DTSTART;TZID=America/Chicago:20220417T143000
DTEND;TZID=America/Chicago:20220417T163000
DTSTAMP:20260425T130145
CREATED:20220104T032355Z
LAST-MODIFIED:20220104T032355Z
UID:2906-1650205800-1650213000@exp.zrcdemo.com
SUMMARY:T-Squares
DESCRIPTION:Advanced Squares A2-C1
URL:https://exp.zrcdemo.com/events/t-squares-130/
LOCATION:Graceland Christian Church\, 2126 Stateline Rd\, Southaven\, 38672\, United States
CATEGORIES:Club Dance
END:VEVENT
BEGIN:VEVENT
DTSTART;TZID=America/Chicago:20220415T190000
DTEND;TZID=America/Chicago:20220415T210000
DTSTAMP:20260425T130145
CREATED:20220104T031554Z
LAST-MODIFIED:20220413T181140Z
UID:2743-1650049200-1650056400@exp.zrcdemo.com
SUMMARY:B&Bs CLOSED
DESCRIPTION:Mainstream and Plus Squares with Rounds and Lines between Tips
URL:https://exp.zrcdemo.com/events/bbs-103/
LOCATION:Colonial Park United Methodist Church\, 5330 Park Avenue\, Memphis\, 38119\, United States
CATEGORIES:Club Dance
END:VEVENT
BEGIN:VEVENT
DTSTART;TZID=America/Chicago:20220414T190000
DTEND;TZID=America/Chicago:20220414T210000
DTSTAMP:20260425T130145
CREATED:20220104T031825Z
LAST-MODIFIED:20220104T031825Z
UID:2795-1649962800-1649970000@exp.zrcdemo.com
SUMMARY:Top Spinners
DESCRIPTION:Mainstream and Plus Squares with Lines between Tips
URL:https://exp.zrcdemo.com/events/top-spinners-98/
LOCATION:Eads Civic Center\, 12365 Washington Rd\, Eads\, 38028\, United States
CATEGORIES:Club Dance
END:VEVENT
BEGIN:VEVENT
DTSTART;TZID=America/Chicago:20220412T180000
DTEND;TZID=America/Chicago:20220412T200000
DTSTAMP:20260425T130145
CREATED:20220104T031310Z
LAST-MODIFIED:20220104T031310Z
UID:2691-1649786400-1649793600@exp.zrcdemo.com
SUMMARY:Southern Rounds
DESCRIPTION:Rounds 6:00-7:00; Lines 7:00-8:00
URL:https://exp.zrcdemo.com/events/southern-rounds-100/
LOCATION:Graceland Christian Church\, 2126 Stateline Rd\, Southaven\, 38672\, United States
CATEGORIES:Club Dance
END:VEVENT
END:VCALENDAR