BEGIN:VCALENDAR
VERSION:2.0
PRODID:-//Greater Memphis Square &amp; Round Dance Association - ECPv6.15.20//NONSGML v1.0//EN
CALSCALE:GREGORIAN
METHOD:PUBLISH
X-WR-CALNAME:Greater Memphis Square &amp; Round Dance Association
X-ORIGINAL-URL:https://exp.zrcdemo.com
X-WR-CALDESC:Events for Greater Memphis Square &amp; Round Dance Association
REFRESH-INTERVAL;VALUE=DURATION:PT1H
X-Robots-Tag:noindex
X-PUBLISHED-TTL:PT1H
BEGIN:VTIMEZONE
TZID:America/Chicago
BEGIN:DAYLIGHT
TZOFFSETFROM:-0600
TZOFFSETTO:-0500
TZNAME:CDT
DTSTART:20210314T080000
END:DAYLIGHT
BEGIN:STANDARD
TZOFFSETFROM:-0500
TZOFFSETTO:-0600
TZNAME:CST
DTSTART:20211107T070000
END:STANDARD
BEGIN:DAYLIGHT
TZOFFSETFROM:-0600
TZOFFSETTO:-0500
TZNAME:CDT
DTSTART:20220313T080000
END:DAYLIGHT
BEGIN:STANDARD
TZOFFSETFROM:-0500
TZOFFSETTO:-0600
TZNAME:CST
DTSTART:20221106T070000
END:STANDARD
BEGIN:DAYLIGHT
TZOFFSETFROM:-0600
TZOFFSETTO:-0500
TZNAME:CDT
DTSTART:20230312T080000
END:DAYLIGHT
BEGIN:STANDARD
TZOFFSETFROM:-0500
TZOFFSETTO:-0600
TZNAME:CST
DTSTART:20231105T070000
END:STANDARD
END:VTIMEZONE
BEGIN:VEVENT
DTSTART;TZID=America/Chicago:20220321T190000
DTEND;TZID=America/Chicago:20220321T210000
DTSTAMP:20260425T213639
CREATED:20220104T032810Z
LAST-MODIFIED:20220104T032810Z
UID:2954-1647889200-1647896400@exp.zrcdemo.com
SUMMARY:Merry-Go-Rounds
DESCRIPTION:Phase II-VI
URL:https://exp.zrcdemo.com/events/merry-go-rounds-98/
LOCATION:Berclair Civic Club\, 743 Novarese Road\, Memphis\, TN\, 38122\, United States
CATEGORIES:Club Dance
END:VEVENT
BEGIN:VEVENT
DTSTART;TZID=America/Chicago:20220320T143000
DTEND;TZID=America/Chicago:20220320T163000
DTSTAMP:20260425T213639
CREATED:20220104T032354Z
LAST-MODIFIED:20220104T032354Z
UID:2902-1647786600-1647793800@exp.zrcdemo.com
SUMMARY:T-Squares
DESCRIPTION:Advanced Squares A2-C1
URL:https://exp.zrcdemo.com/events/t-squares-126/
LOCATION:Graceland Christian Church\, 2126 Stateline Rd\, Southaven\, 38672\, United States
CATEGORIES:Club Dance
END:VEVENT
BEGIN:VEVENT
DTSTART;TZID=America/Chicago:20220316T193000
DTEND;TZID=America/Chicago:20220316T213000
DTSTAMP:20260425T213639
CREATED:20220104T032109Z
LAST-MODIFIED:20220104T032109Z
UID:2849-1647459000-1647466200@exp.zrcdemo.com
SUMMARY:Pistols & Petticoats
DESCRIPTION:Mainstream and Plus Squares with Rounds between Tips
URL:https://exp.zrcdemo.com/events/pistols-petticoats-51/
LOCATION:Bartlett United Methodist Church\, 5676 Stage Rd.\, Bartlett\, 38134\, United States
CATEGORIES:Club Dance
END:VEVENT
BEGIN:VEVENT
DTSTART;TZID=America/Chicago:20220315T180000
DTEND;TZID=America/Chicago:20220315T200000
DTSTAMP:20260425T213639
CREATED:20220104T031309Z
LAST-MODIFIED:20220104T031309Z
UID:2687-1647367200-1647374400@exp.zrcdemo.com
SUMMARY:Southern Rounds
DESCRIPTION:Rounds 6:00-7:00; Lines 7:00-8:00
URL:https://exp.zrcdemo.com/events/southern-rounds-96/
LOCATION:Graceland Christian Church\, 2126 Stateline Rd\, Southaven\, 38672\, United States
CATEGORIES:Club Dance
END:VEVENT
BEGIN:VEVENT
DTSTART;TZID=America/Chicago:20220314T190000
DTEND;TZID=America/Chicago:20220314T210000
DTSTAMP:20260425T213639
CREATED:20220104T033515Z
LAST-MODIFIED:20220104T033515Z
UID:3008-1647284400-1647291600@exp.zrcdemo.com
SUMMARY:Pleasant Hill Promenaders
DESCRIPTION:Mainstream and Plus Squares with Rounds and Lines between Tips
URL:https://exp.zrcdemo.com/events/pleasant-hill-promenaders-107/
LOCATION:Graceland Christian Church\, 2126 Stateline Rd\, Southaven\, 38672\, United States
CATEGORIES:Club Dance
END:VEVENT
BEGIN:VEVENT
DTSTART;TZID=America/Chicago:20220314T190000
DTEND;TZID=America/Chicago:20220314T210000
DTSTAMP:20260425T213639
CREATED:20220104T032810Z
LAST-MODIFIED:20220104T032810Z
UID:2953-1647284400-1647291600@exp.zrcdemo.com
SUMMARY:Merry-Go-Rounds
DESCRIPTION:Phase II-VI
URL:https://exp.zrcdemo.com/events/merry-go-rounds-97/
LOCATION:Berclair Civic Club\, 743 Novarese Road\, Memphis\, TN\, 38122\, United States
CATEGORIES:Club Dance
END:VEVENT
BEGIN:VEVENT
DTSTART;TZID=America/Chicago:20220313T143000
DTEND;TZID=America/Chicago:20220313T163000
DTSTAMP:20260425T213639
CREATED:20220104T032340Z
LAST-MODIFIED:20220104T032340Z
UID:2901-1647181800-1647189000@exp.zrcdemo.com
SUMMARY:T-Squares
DESCRIPTION:Advanced Squares A2-C1
URL:https://exp.zrcdemo.com/events/t-squares-125/
LOCATION:Graceland Christian Church\, 2126 Stateline Rd\, Southaven\, 38672\, United States
CATEGORIES:Club Dance
END:VEVENT
BEGIN:VEVENT
DTSTART;TZID=America/Chicago:20220311T190000
DTEND;TZID=America/Chicago:20220311T210000
DTSTAMP:20260425T213639
CREATED:20220104T031539Z
LAST-MODIFIED:20220311T230413Z
UID:2738-1647025200-1647032400@exp.zrcdemo.com
SUMMARY:B&Bs CLOSED
DESCRIPTION:Mainstream and Plus Squares with Rounds and Lines between Tips
URL:https://exp.zrcdemo.com/events/bbs-98/
LOCATION:Colonial Park United Methodist Church\, 5330 Park Avenue\, Memphis\, 38119\, United States
CATEGORIES:Club Dance
END:VEVENT
BEGIN:VEVENT
DTSTART;TZID=America/Chicago:20220309T193000
DTEND;TZID=America/Chicago:20220309T213000
DTSTAMP:20260425T213639
CREATED:20220104T032109Z
LAST-MODIFIED:20220104T032109Z
UID:2848-1646854200-1646861400@exp.zrcdemo.com
SUMMARY:Pistols & Petticoats
DESCRIPTION:Mainstream and Plus Squares with Rounds between Tips
URL:https://exp.zrcdemo.com/events/pistols-petticoats-50/
LOCATION:Bartlett United Methodist Church\, 5676 Stage Rd.\, Bartlett\, 38134\, United States
CATEGORIES:Club Dance
END:VEVENT
BEGIN:VEVENT
DTSTART;TZID=America/Chicago:20220308T180000
DTEND;TZID=America/Chicago:20220308T200000
DTSTAMP:20260425T213639
CREATED:20220104T031255Z
LAST-MODIFIED:20220104T031255Z
UID:2686-1646762400-1646769600@exp.zrcdemo.com
SUMMARY:Southern Rounds
DESCRIPTION:Rounds 6:00-7:00; Lines 7:00-8:00
URL:https://exp.zrcdemo.com/events/southern-rounds-95/
LOCATION:Graceland Christian Church\, 2126 Stateline Rd\, Southaven\, 38672\, United States
CATEGORIES:Club Dance
END:VEVENT
BEGIN:VEVENT
DTSTART;TZID=America/Chicago:20220307T190000
DTEND;TZID=America/Chicago:20220307T210000
DTSTAMP:20260425T213639
CREATED:20220104T033514Z
LAST-MODIFIED:20220104T033514Z
UID:3007-1646679600-1646686800@exp.zrcdemo.com
SUMMARY:Pleasant Hill Promenaders
DESCRIPTION:Mainstream and Plus Squares with Rounds and Lines between Tips
URL:https://exp.zrcdemo.com/events/pleasant-hill-promenaders-106/
LOCATION:Graceland Christian Church\, 2126 Stateline Rd\, Southaven\, 38672\, United States
CATEGORIES:Club Dance
END:VEVENT
BEGIN:VEVENT
DTSTART;TZID=America/Chicago:20220307T190000
DTEND;TZID=America/Chicago:20220307T210000
DTSTAMP:20260425T213639
CREATED:20220104T032809Z
LAST-MODIFIED:20220104T032809Z
UID:2952-1646679600-1646686800@exp.zrcdemo.com
SUMMARY:Merry-Go-Rounds
DESCRIPTION:Phase II-VI
URL:https://exp.zrcdemo.com/events/merry-go-rounds-96/
LOCATION:Berclair Civic Club\, 743 Novarese Road\, Memphis\, TN\, 38122\, United States
CATEGORIES:Club Dance
END:VEVENT
BEGIN:VEVENT
DTSTART;TZID=America/Chicago:20220306T143000
DTEND;TZID=America/Chicago:20220306T163000
DTSTAMP:20260425T213639
CREATED:20220104T032340Z
LAST-MODIFIED:20220104T032340Z
UID:2900-1646577000-1646584200@exp.zrcdemo.com
SUMMARY:T-Squares
DESCRIPTION:Advanced Squares A2-C1
URL:https://exp.zrcdemo.com/events/t-squares-124/
LOCATION:Graceland Christian Church\, 2126 Stateline Rd\, Southaven\, 38672\, United States
CATEGORIES:Club Dance
END:VEVENT
BEGIN:VEVENT
DTSTART;TZID=America/Chicago:20220304T190000
DTEND;TZID=America/Chicago:20220304T210000
DTSTAMP:20260425T213639
CREATED:20220104T031539Z
LAST-MODIFIED:20220227T224037Z
UID:2737-1646420400-1646427600@exp.zrcdemo.com
SUMMARY:B&Bs CLOSED
DESCRIPTION:Mainstream and Plus Squares with Rounds and Lines between Tips
URL:https://exp.zrcdemo.com/events/bbs-97/
LOCATION:Colonial Park United Methodist Church\, 5330 Park Avenue\, Memphis\, 38119\, United States
CATEGORIES:Club Dance
END:VEVENT
BEGIN:VEVENT
DTSTART;TZID=America/Chicago:20220303T190000
DTEND;TZID=America/Chicago:20220303T210000
DTSTAMP:20260425T213639
CREATED:20220104T031809Z
LAST-MODIFIED:20220104T031809Z
UID:2789-1646334000-1646341200@exp.zrcdemo.com
SUMMARY:Top Spinners
DESCRIPTION:Mainstream and Plus Squares with Lines between Tips
URL:https://exp.zrcdemo.com/events/top-spinners-92/
LOCATION:Eads Civic Center\, 12365 Washington Rd\, Eads\, 38028\, United States
CATEGORIES:Club Dance
END:VEVENT
BEGIN:VEVENT
DTSTART;TZID=America/Chicago:20220302T193000
DTEND;TZID=America/Chicago:20220302T213000
DTSTAMP:20260425T213639
CREATED:20220104T032109Z
LAST-MODIFIED:20220104T032109Z
UID:2847-1646249400-1646256600@exp.zrcdemo.com
SUMMARY:Pistols & Petticoats
DESCRIPTION:Mainstream and Plus Squares with Rounds between Tips
URL:https://exp.zrcdemo.com/events/pistols-petticoats-49/
LOCATION:Bartlett United Methodist Church\, 5676 Stage Rd.\, Bartlett\, 38134\, United States
CATEGORIES:Club Dance
END:VEVENT
BEGIN:VEVENT
DTSTART;TZID=America/Chicago:20220301T180000
DTEND;TZID=America/Chicago:20220301T200000
DTSTAMP:20260425T213639
CREATED:20220104T031254Z
LAST-MODIFIED:20220104T031254Z
UID:2685-1646157600-1646164800@exp.zrcdemo.com
SUMMARY:Southern Rounds
DESCRIPTION:Rounds 6:00-7:00; Lines 7:00-8:00
URL:https://exp.zrcdemo.com/events/southern-rounds-94/
LOCATION:Graceland Christian Church\, 2126 Stateline Rd\, Southaven\, 38672\, United States
CATEGORIES:Club Dance
END:VEVENT
BEGIN:VEVENT
DTSTART;TZID=America/Chicago:20220228T190000
DTEND;TZID=America/Chicago:20220228T210000
DTSTAMP:20260425T213639
CREATED:20220104T033514Z
LAST-MODIFIED:20220222T034801Z
UID:3006-1646074800-1646082000@exp.zrcdemo.com
SUMMARY:Pleasant Hill Promenaders CLOSED
DESCRIPTION:Mainstream and Plus Squares with Rounds and Lines between Tips
URL:https://exp.zrcdemo.com/events/pleasant-hill-promenaders-105/
LOCATION:Graceland Christian Church\, 2126 Stateline Rd\, Southaven\, 38672\, United States
CATEGORIES:Club Dance
END:VEVENT
BEGIN:VEVENT
DTSTART;TZID=America/Chicago:20220228T190000
DTEND;TZID=America/Chicago:20220228T210000
DTSTAMP:20260425T213639
CREATED:20220104T032755Z
LAST-MODIFIED:20220104T032755Z
UID:2951-1646074800-1646082000@exp.zrcdemo.com
SUMMARY:Merry-Go-Rounds
DESCRIPTION:Phase II-VI
URL:https://exp.zrcdemo.com/events/merry-go-rounds-95/
LOCATION:Berclair Civic Club\, 743 Novarese Road\, Memphis\, TN\, 38122\, United States
CATEGORIES:Club Dance
END:VEVENT
BEGIN:VEVENT
DTSTART;TZID=America/Chicago:20220227T143000
DTEND;TZID=America/Chicago:20220227T163000
DTSTAMP:20260425T213639
CREATED:20220104T032340Z
LAST-MODIFIED:20220104T032340Z
UID:2899-1645972200-1645979400@exp.zrcdemo.com
SUMMARY:T-Squares
DESCRIPTION:Advanced Squares A2-C1
URL:https://exp.zrcdemo.com/events/t-squares-123/
LOCATION:Graceland Christian Church\, 2126 Stateline Rd\, Southaven\, 38672\, United States
CATEGORIES:Club Dance
END:VEVENT
BEGIN:VEVENT
DTSTART;TZID=America/Chicago:20220225T190000
DTEND;TZID=America/Chicago:20220225T210000
DTSTAMP:20260425T213639
CREATED:20220104T031525Z
LAST-MODIFIED:20220104T031525Z
UID:2736-1645815600-1645822800@exp.zrcdemo.com
SUMMARY:B&Bs
DESCRIPTION:Mainstream and Plus Squares with Rounds and Lines between Tips
URL:https://exp.zrcdemo.com/events/bbs-96/
LOCATION:Colonial Park United Methodist Church\, 5330 Park Avenue\, Memphis\, 38119\, United States
CATEGORIES:Club Dance
END:VEVENT
BEGIN:VEVENT
DTSTART;TZID=America/Chicago:20220224T190000
DTEND;TZID=America/Chicago:20220224T210000
DTSTAMP:20260425T213639
CREATED:20220104T031809Z
LAST-MODIFIED:20220104T031809Z
UID:2788-1645729200-1645736400@exp.zrcdemo.com
SUMMARY:Top Spinners
DESCRIPTION:Mainstream and Plus Squares with Lines between Tips
URL:https://exp.zrcdemo.com/events/top-spinners-91/
LOCATION:Eads Civic Center\, 12365 Washington Rd\, Eads\, 38028\, United States
CATEGORIES:Club Dance
END:VEVENT
BEGIN:VEVENT
DTSTART;TZID=America/Chicago:20220223T193000
DTEND;TZID=America/Chicago:20220223T213000
DTSTAMP:20260425T213639
CREATED:20220104T032055Z
LAST-MODIFIED:20220104T032055Z
UID:2846-1645644600-1645651800@exp.zrcdemo.com
SUMMARY:Pistols & Petticoats
DESCRIPTION:Mainstream and Plus Squares with Rounds between Tips
URL:https://exp.zrcdemo.com/events/pistols-petticoats-48/
LOCATION:Bartlett United Methodist Church\, 5676 Stage Rd.\, Bartlett\, 38134\, United States
CATEGORIES:Club Dance
END:VEVENT
BEGIN:VEVENT
DTSTART;TZID=America/Chicago:20220222T180000
DTEND;TZID=America/Chicago:20220222T200000
DTSTAMP:20260425T213639
CREATED:20220104T031254Z
LAST-MODIFIED:20220104T031254Z
UID:2684-1645552800-1645560000@exp.zrcdemo.com
SUMMARY:Southern Rounds
DESCRIPTION:Rounds 6:00-7:00; Lines 7:00-8:00
URL:https://exp.zrcdemo.com/events/southern-rounds-93/
LOCATION:Graceland Christian Church\, 2126 Stateline Rd\, Southaven\, 38672\, United States
CATEGORIES:Club Dance
END:VEVENT
BEGIN:VEVENT
DTSTART;TZID=America/Chicago:20220221T190000
DTEND;TZID=America/Chicago:20220221T210000
DTSTAMP:20260425T213639
CREATED:20220104T033514Z
LAST-MODIFIED:20220104T033514Z
UID:3005-1645470000-1645477200@exp.zrcdemo.com
SUMMARY:Pleasant Hill Promenaders
DESCRIPTION:Mainstream and Plus Squares with Rounds and Lines between Tips
URL:https://exp.zrcdemo.com/events/pleasant-hill-promenaders-104/
LOCATION:Graceland Christian Church\, 2126 Stateline Rd\, Southaven\, 38672\, United States
CATEGORIES:Club Dance
END:VEVENT
BEGIN:VEVENT
DTSTART;TZID=America/Chicago:20220221T190000
DTEND;TZID=America/Chicago:20220221T210000
DTSTAMP:20260425T213639
CREATED:20220104T032755Z
LAST-MODIFIED:20220104T032755Z
UID:2950-1645470000-1645477200@exp.zrcdemo.com
SUMMARY:Merry-Go-Rounds
DESCRIPTION:Phase II-VI
URL:https://exp.zrcdemo.com/events/merry-go-rounds-94/
LOCATION:Berclair Civic Club\, 743 Novarese Road\, Memphis\, TN\, 38122\, United States
CATEGORIES:Club Dance
END:VEVENT
BEGIN:VEVENT
DTSTART;TZID=America/Chicago:20220220T143000
DTEND;TZID=America/Chicago:20220220T163000
DTSTAMP:20260425T213639
CREATED:20220104T032339Z
LAST-MODIFIED:20220104T032339Z
UID:2898-1645367400-1645374600@exp.zrcdemo.com
SUMMARY:T-Squares
DESCRIPTION:Advanced Squares A2-C1
URL:https://exp.zrcdemo.com/events/t-squares-122/
LOCATION:Graceland Christian Church\, 2126 Stateline Rd\, Southaven\, 38672\, United States
CATEGORIES:Club Dance
END:VEVENT
BEGIN:VEVENT
DTSTART;TZID=America/Chicago:20220218T190000
DTEND;TZID=America/Chicago:20220218T210000
DTSTAMP:20260425T213639
CREATED:20220104T031525Z
LAST-MODIFIED:20220104T031525Z
UID:2735-1645210800-1645218000@exp.zrcdemo.com
SUMMARY:B&Bs
DESCRIPTION:Mainstream and Plus Squares with Rounds and Lines between Tips
URL:https://exp.zrcdemo.com/events/bbs-95/
LOCATION:Colonial Park United Methodist Church\, 5330 Park Avenue\, Memphis\, 38119\, United States
CATEGORIES:Club Dance
END:VEVENT
BEGIN:VEVENT
DTSTART;TZID=America/Chicago:20220217T190000
DTEND;TZID=America/Chicago:20220217T210000
DTSTAMP:20260425T213639
CREATED:20220104T031809Z
LAST-MODIFIED:20220104T031809Z
UID:2787-1645124400-1645131600@exp.zrcdemo.com
SUMMARY:Top Spinners
DESCRIPTION:Mainstream and Plus Squares with Lines between Tips
URL:https://exp.zrcdemo.com/events/top-spinners-90/
LOCATION:Eads Civic Center\, 12365 Washington Rd\, Eads\, 38028\, United States
CATEGORIES:Club Dance
END:VEVENT
BEGIN:VEVENT
DTSTART;TZID=America/Chicago:20220216T193000
DTEND;TZID=America/Chicago:20220216T213000
DTSTAMP:20260425T213639
CREATED:20220104T032055Z
LAST-MODIFIED:20220104T032055Z
UID:2845-1645039800-1645047000@exp.zrcdemo.com
SUMMARY:Pistols & Petticoats
DESCRIPTION:Mainstream and Plus Squares with Rounds between Tips
URL:https://exp.zrcdemo.com/events/pistols-petticoats-47/
LOCATION:Bartlett United Methodist Church\, 5676 Stage Rd.\, Bartlett\, 38134\, United States
CATEGORIES:Club Dance
END:VEVENT
END:VCALENDAR