BEGIN:VCALENDAR
VERSION:2.0
PRODID:-//Greater Memphis Square &amp; Round Dance Association - ECPv6.15.20//NONSGML v1.0//EN
CALSCALE:GREGORIAN
METHOD:PUBLISH
X-ORIGINAL-URL:https://exp.zrcdemo.com
X-WR-CALDESC:Events for Greater Memphis Square &amp; Round Dance Association
REFRESH-INTERVAL;VALUE=DURATION:PT1H
X-Robots-Tag:noindex
X-PUBLISHED-TTL:PT1H
BEGIN:VTIMEZONE
TZID:America/Chicago
BEGIN:DAYLIGHT
TZOFFSETFROM:-0600
TZOFFSETTO:-0500
TZNAME:CDT
DTSTART:20180311T080000
END:DAYLIGHT
BEGIN:STANDARD
TZOFFSETFROM:-0500
TZOFFSETTO:-0600
TZNAME:CST
DTSTART:20181104T070000
END:STANDARD
BEGIN:DAYLIGHT
TZOFFSETFROM:-0600
TZOFFSETTO:-0500
TZNAME:CDT
DTSTART:20190310T080000
END:DAYLIGHT
BEGIN:STANDARD
TZOFFSETFROM:-0500
TZOFFSETTO:-0600
TZNAME:CST
DTSTART:20191103T070000
END:STANDARD
BEGIN:DAYLIGHT
TZOFFSETFROM:-0600
TZOFFSETTO:-0500
TZNAME:CDT
DTSTART:20200308T080000
END:DAYLIGHT
BEGIN:STANDARD
TZOFFSETFROM:-0500
TZOFFSETTO:-0600
TZNAME:CST
DTSTART:20201101T070000
END:STANDARD
BEGIN:DAYLIGHT
TZOFFSETFROM:-0600
TZOFFSETTO:-0500
TZNAME:CDT
DTSTART:20210314T080000
END:DAYLIGHT
BEGIN:STANDARD
TZOFFSETFROM:-0500
TZOFFSETTO:-0600
TZNAME:CST
DTSTART:20211107T070000
END:STANDARD
BEGIN:DAYLIGHT
TZOFFSETFROM:-0600
TZOFFSETTO:-0500
TZNAME:CDT
DTSTART:20220313T080000
END:DAYLIGHT
BEGIN:STANDARD
TZOFFSETFROM:-0500
TZOFFSETTO:-0600
TZNAME:CST
DTSTART:20221106T070000
END:STANDARD
BEGIN:DAYLIGHT
TZOFFSETFROM:-0600
TZOFFSETTO:-0500
TZNAME:CDT
DTSTART:20230312T080000
END:DAYLIGHT
BEGIN:STANDARD
TZOFFSETFROM:-0500
TZOFFSETTO:-0600
TZNAME:CST
DTSTART:20231105T070000
END:STANDARD
BEGIN:DAYLIGHT
TZOFFSETFROM:-0600
TZOFFSETTO:-0500
TZNAME:CDT
DTSTART:20240310T080000
END:DAYLIGHT
BEGIN:STANDARD
TZOFFSETFROM:-0500
TZOFFSETTO:-0600
TZNAME:CST
DTSTART:20241103T070000
END:STANDARD
BEGIN:DAYLIGHT
TZOFFSETFROM:-0600
TZOFFSETTO:-0500
TZNAME:CDT
DTSTART:20250309T080000
END:DAYLIGHT
BEGIN:STANDARD
TZOFFSETFROM:-0500
TZOFFSETTO:-0600
TZNAME:CST
DTSTART:20251102T070000
END:STANDARD
END:VTIMEZONE
BEGIN:VEVENT
DTSTART;TZID=America/Chicago:20240406T000000
DTEND;TZID=America/Chicago:20240406T235959
DTSTAMP:20260422T040353
CREATED:20240304T003221Z
LAST-MODIFIED:20241006T121159Z
UID:4863-1712361600-1712447999@exp.zrcdemo.com
SUMMARY:Mid-South Mini Fest
DESCRIPTION:Pre-Rounds\, Mainstream\, Plus & A2 Squares with Lines & Rounds between Tips
URL:https://exp.zrcdemo.com/events/mid-south-mini-fest/
LOCATION:Oak Lane Christian Church\, 10611 Collierville Rd\, Collierville\, Tennessee\, 38017
CATEGORIES:Festival
ATTACH;FMTTYPE=application/pdf:https://exp.zrcdemo.com/wp-content/uploads/2024/03/2024.04.06_Mid-South-Mini-Fest_ZR.pdf
END:VEVENT
BEGIN:VEVENT
DTSTART;TZID=America/Chicago:20201023T190000
DTEND;TZID=America/Chicago:20201024T230000
DTSTAMP:20260422T040353
CREATED:20191024T184857Z
LAST-MODIFIED:20200731T180811Z
UID:1485-1603479600-1603580400@exp.zrcdemo.com
SUMMARY:MidSouth Festival
DESCRIPTION:
URL:https://exp.zrcdemo.com/events/midsouth-festival-9/
LOCATION:St. Paul United Methodist CHurch\, 2949 Davies Plantation\, Lakeland\, TN\, 38002
CATEGORIES:Festival
ATTACH;FMTTYPE=application/pdf:https://exp.zrcdemo.com/wp-content/uploads/2019/10/Mid-South-Cancel.pdf
END:VEVENT
BEGIN:VEVENT
DTSTART;TZID=America/Chicago:20200806T200000
DTEND;TZID=America/Chicago:20200808T230000
DTSTAMP:20260422T040353
CREATED:20191022T151823Z
LAST-MODIFIED:20200607T222407Z
UID:1425-1596744000-1596927600@exp.zrcdemo.com
SUMMARY:Tennessee State Convention Cancelled due to Pandemic
DESCRIPTION:
URL:https://exp.zrcdemo.com/events/tennessee-state-convention-2/
LOCATION:Tennessee
CATEGORIES:Festival
END:VEVENT
BEGIN:VEVENT
DTSTART;TZID=America/Chicago:20191019T090000
DTEND;TZID=America/Chicago:20191019T230000
DTSTAMP:20260422T040353
CREATED:20190718T200657Z
LAST-MODIFIED:20190719T031651Z
UID:1252-1571475600-1571526000@exp.zrcdemo.com
SUMMARY:Midsouth Festival
DESCRIPTION:57th Midsouth Square & Round dance Festival \n\n\n\n2019MidSouthFestival-3Download
URL:https://exp.zrcdemo.com/events/midsouth-festival-8/
LOCATION:St. Paul United Methodist CHurch\, 2949 Davies Plantation\, Lakeland\, TN\, 38002
CATEGORIES:Festival
ATTACH;FMTTYPE=application/pdf:https://exp.zrcdemo.com/wp-content/uploads/2019/07/2019.10.18_MidSouthFront-1.pdf
END:VEVENT
BEGIN:VEVENT
DTSTART;TZID=America/Chicago:20191018T190000
DTEND;TZID=America/Chicago:20191018T230000
DTSTAMP:20260422T040353
CREATED:20190718T200325Z
LAST-MODIFIED:20190719T031452Z
UID:1249-1571425200-1571439600@exp.zrcdemo.com
SUMMARY:Midsouth Festival
DESCRIPTION:57th Midsouth Square & Round Dance Festival \n\n\n\n2019MidSouthFestival-2Download
URL:https://exp.zrcdemo.com/events/midsouth-festival-7/
LOCATION:St. Paul United Methodist CHurch\, 2949 Davies Plantation\, Lakeland\, TN\, 38002
CATEGORIES:Festival
ATTACH;FMTTYPE=application/pdf:https://exp.zrcdemo.com/wp-content/uploads/2019/07/2019.10.18_MidSouthFront.pdf
END:VEVENT
END:VCALENDAR