BEGIN:VCALENDAR
VERSION:2.0
PRODID:-//Greater Memphis Square &amp; Round Dance Association - ECPv6.15.20//NONSGML v1.0//EN
CALSCALE:GREGORIAN
METHOD:PUBLISH
X-ORIGINAL-URL:https://exp.zrcdemo.com
X-WR-CALDESC:Events for Greater Memphis Square &amp; Round Dance Association
REFRESH-INTERVAL;VALUE=DURATION:PT1H
X-Robots-Tag:noindex
X-PUBLISHED-TTL:PT1H
BEGIN:VTIMEZONE
TZID:America/Chicago
BEGIN:DAYLIGHT
TZOFFSETFROM:-0600
TZOFFSETTO:-0500
TZNAME:CDT
DTSTART:20220313T080000
END:DAYLIGHT
BEGIN:STANDARD
TZOFFSETFROM:-0500
TZOFFSETTO:-0600
TZNAME:CST
DTSTART:20221106T070000
END:STANDARD
BEGIN:DAYLIGHT
TZOFFSETFROM:-0600
TZOFFSETTO:-0500
TZNAME:CDT
DTSTART:20230312T080000
END:DAYLIGHT
BEGIN:STANDARD
TZOFFSETFROM:-0500
TZOFFSETTO:-0600
TZNAME:CST
DTSTART:20231105T070000
END:STANDARD
BEGIN:DAYLIGHT
TZOFFSETFROM:-0600
TZOFFSETTO:-0500
TZNAME:CDT
DTSTART:20240310T080000
END:DAYLIGHT
BEGIN:STANDARD
TZOFFSETFROM:-0500
TZOFFSETTO:-0600
TZNAME:CST
DTSTART:20241103T070000
END:STANDARD
END:VTIMEZONE
BEGIN:VEVENT
DTSTART;TZID=America/Chicago:20231013T190000
DTEND;TZID=America/Chicago:20231013T210000
DTSTAMP:20260421T195503
CREATED:20221206T001842Z
LAST-MODIFIED:20221206T001842Z
UID:3449-1697223600-1697230800@exp.zrcdemo.com
SUMMARY:B&Bs
DESCRIPTION:Mainstream and Plus Squares
URL:https://exp.zrcdemo.com/events/bbs-179/
LOCATION:Colonial Park United Methodist Church\, 5330 Park Avenue\, Memphis\, 38119\, United States
CATEGORIES:Club Dance
END:VEVENT
BEGIN:VEVENT
DTSTART;TZID=America/Chicago:20231012T200000
DTEND;TZID=America/Chicago:20231012T213000
DTSTAMP:20260421T195503
CREATED:20230303T195105Z
LAST-MODIFIED:20230303T195105Z
UID:3879-1697140800-1697146200@exp.zrcdemo.com
SUMMARY:Top Spinners
DESCRIPTION:Squares with Lines between tips
URL:https://exp.zrcdemo.com/events/top-spinners-166/
LOCATION:Eads Civic Center\, 12365 Washington Rd\, Eads\, 38028\, United States
CATEGORIES:Club Dance
END:VEVENT
BEGIN:VEVENT
DTSTART;TZID=America/Chicago:20231012T184500
DTEND;TZID=America/Chicago:20231012T200000
DTSTAMP:20260421T195503
CREATED:20230303T195020Z
LAST-MODIFIED:20230303T195020Z
UID:3866-1697136300-1697140800@exp.zrcdemo.com
SUMMARY:Top Spinners Class
DESCRIPTION:SSD Class
URL:https://exp.zrcdemo.com/events/top-spinners-class-20/
LOCATION:Eads Civic Center\, 12365 Washington Rd\, Eads\, 38028\, United States
CATEGORIES:Class
END:VEVENT
BEGIN:VEVENT
DTSTART;TZID=America/Chicago:20231011T200000
DTEND;TZID=America/Chicago:20231011T213000
DTSTAMP:20260421T195503
CREATED:20230711T172153Z
LAST-MODIFIED:20230711T172153Z
UID:4013-1697054400-1697059800@exp.zrcdemo.com
SUMMARY:Pistols & Petticoats
DESCRIPTION:Mainstream and Plus Squares with Rounds between Tips
URL:https://exp.zrcdemo.com/events/pistols-petticoats-124/
LOCATION:Bartlett United Methodist Church\, 5676 Stage Rd.\, Bartlett\, 38134\, United States
CATEGORIES:Club Dance
END:VEVENT
BEGIN:VEVENT
DTSTART;TZID=America/Chicago:20231011T190000
DTEND;TZID=America/Chicago:20231011T200000
DTSTAMP:20260421T195503
CREATED:20230711T172253Z
LAST-MODIFIED:20230711T172253Z
UID:4035-1697050800-1697054400@exp.zrcdemo.com
SUMMARY:Pistols & Petticoats (Class 10 of 14)
DESCRIPTION:Mainstream Class
URL:https://exp.zrcdemo.com/events/pistols-petticoats-class-10-of-14/
LOCATION:Bartlett United Methodist Church\, 5676 Stage Rd.\, Bartlett\, 38134\, United States
CATEGORIES:Class
END:VEVENT
BEGIN:VEVENT
DTSTART;TZID=America/Chicago:20231009T190000
DTEND;TZID=America/Chicago:20231009T210000
DTSTAMP:20260421T195503
CREATED:20221208T001325Z
LAST-MODIFIED:20221208T001325Z
UID:3746-1696878000-1696885200@exp.zrcdemo.com
SUMMARY:Merry-Go-Rounds
DESCRIPTION:Phase II-VI
URL:https://exp.zrcdemo.com/events/merry-go-rounds-179/
LOCATION:Berclair Civic Club\, 743 Novarese Road\, Memphis\, TN\, 38122\, United States
CATEGORIES:Club Dance
END:VEVENT
BEGIN:VEVENT
DTSTART;TZID=America/Chicago:20231009T190000
DTEND;TZID=America/Chicago:20231009T210000
DTSTAMP:20260421T195503
CREATED:20221207T235323Z
LAST-MODIFIED:20221207T235323Z
UID:3692-1696878000-1696885200@exp.zrcdemo.com
SUMMARY:Pleasant Hill Promenaders
DESCRIPTION:Mainstream and Plus Squares with Rounds and Lines between Tips
URL:https://exp.zrcdemo.com/events/pleasant-hill-promenaders-180/
LOCATION:Graceland Christian Church\, 2126 Stateline Rd\, Southaven\, 38672\, United States
CATEGORIES:Club Dance
END:VEVENT
BEGIN:VEVENT
DTSTART;TZID=America/Chicago:20231008T143000
DTEND;TZID=America/Chicago:20231008T163000
DTSTAMP:20260421T195503
CREATED:20221206T002146Z
LAST-MODIFIED:20221206T002146Z
UID:3503-1696775400-1696782600@exp.zrcdemo.com
SUMMARY:T-Squares
DESCRIPTION:Advanced Squares A2-C1
URL:https://exp.zrcdemo.com/events/t-squares-206/
LOCATION:Graceland Christian Church\, 2126 Stateline Rd\, Southaven\, 38672\, United States
CATEGORIES:Club Dance
END:VEVENT
BEGIN:VEVENT
DTSTART;TZID=America/Chicago:20231006T190000
DTEND;TZID=America/Chicago:20231006T210000
DTSTAMP:20260421T195503
CREATED:20221206T001828Z
LAST-MODIFIED:20221206T001828Z
UID:3448-1696618800-1696626000@exp.zrcdemo.com
SUMMARY:B&Bs
DESCRIPTION:Mainstream and Plus Squares
URL:https://exp.zrcdemo.com/events/bbs-178/
LOCATION:Colonial Park United Methodist Church\, 5330 Park Avenue\, Memphis\, 38119\, United States
CATEGORIES:Club Dance
END:VEVENT
BEGIN:VEVENT
DTSTART;TZID=America/Chicago:20231005T200000
DTEND;TZID=America/Chicago:20231005T213000
DTSTAMP:20260421T195503
CREATED:20230303T195105Z
LAST-MODIFIED:20230303T195105Z
UID:3878-1696536000-1696541400@exp.zrcdemo.com
SUMMARY:Top Spinners
DESCRIPTION:Squares with Lines between tips
URL:https://exp.zrcdemo.com/events/top-spinners-165/
LOCATION:Eads Civic Center\, 12365 Washington Rd\, Eads\, 38028\, United States
CATEGORIES:Club Dance
END:VEVENT
BEGIN:VEVENT
DTSTART;TZID=America/Chicago:20231005T184500
DTEND;TZID=America/Chicago:20231005T200000
DTSTAMP:20260421T195503
CREATED:20230303T195020Z
LAST-MODIFIED:20230303T195020Z
UID:3865-1696531500-1696536000@exp.zrcdemo.com
SUMMARY:Top Spinners Class
DESCRIPTION:SSD Class
URL:https://exp.zrcdemo.com/events/top-spinners-class-19/
LOCATION:Eads Civic Center\, 12365 Washington Rd\, Eads\, 38028\, United States
CATEGORIES:Class
END:VEVENT
BEGIN:VEVENT
DTSTART;TZID=America/Chicago:20231004T200000
DTEND;TZID=America/Chicago:20231004T213000
DTSTAMP:20260421T195503
CREATED:20230711T172139Z
LAST-MODIFIED:20230711T172139Z
UID:4012-1696449600-1696455000@exp.zrcdemo.com
SUMMARY:Pistols & Petticoats
DESCRIPTION:Mainstream and Plus Squares with Rounds between Tips
URL:https://exp.zrcdemo.com/events/pistols-petticoats-123/
LOCATION:Bartlett United Methodist Church\, 5676 Stage Rd.\, Bartlett\, 38134\, United States
CATEGORIES:Club Dance
END:VEVENT
BEGIN:VEVENT
DTSTART;TZID=America/Chicago:20231004T190000
DTEND;TZID=America/Chicago:20231004T200000
DTSTAMP:20260421T195503
CREATED:20230711T172253Z
LAST-MODIFIED:20230711T172253Z
UID:4034-1696446000-1696449600@exp.zrcdemo.com
SUMMARY:Pistols & Petticoats (Class 9 of 14)
DESCRIPTION:Mainstream Class
URL:https://exp.zrcdemo.com/events/pistols-petticoats-class-9-of-14/
LOCATION:Bartlett United Methodist Church\, 5676 Stage Rd.\, Bartlett\, 38134\, United States
CATEGORIES:Class
END:VEVENT
BEGIN:VEVENT
DTSTART;TZID=America/Chicago:20231002T190000
DTEND;TZID=America/Chicago:20231002T210000
DTSTAMP:20260421T195503
CREATED:20221208T001311Z
LAST-MODIFIED:20221208T001311Z
UID:3745-1696273200-1696280400@exp.zrcdemo.com
SUMMARY:Merry-Go-Rounds
DESCRIPTION:Phase II-VI
URL:https://exp.zrcdemo.com/events/merry-go-rounds-178/
LOCATION:Berclair Civic Club\, 743 Novarese Road\, Memphis\, TN\, 38122\, United States
CATEGORIES:Club Dance
END:VEVENT
BEGIN:VEVENT
DTSTART;TZID=America/Chicago:20231002T190000
DTEND;TZID=America/Chicago:20231002T210000
DTSTAMP:20260421T195503
CREATED:20221207T235309Z
LAST-MODIFIED:20221207T235309Z
UID:3691-1696273200-1696280400@exp.zrcdemo.com
SUMMARY:Pleasant Hill Promenaders
DESCRIPTION:Mainstream and Plus Squares with Rounds and Lines between Tips
URL:https://exp.zrcdemo.com/events/pleasant-hill-promenaders-179/
LOCATION:Graceland Christian Church\, 2126 Stateline Rd\, Southaven\, 38672\, United States
CATEGORIES:Club Dance
END:VEVENT
BEGIN:VEVENT
DTSTART;TZID=America/Chicago:20231001T143000
DTEND;TZID=America/Chicago:20231001T163000
DTSTAMP:20260421T195503
CREATED:20221206T002132Z
LAST-MODIFIED:20221206T002132Z
UID:3502-1696170600-1696177800@exp.zrcdemo.com
SUMMARY:T-Squares
DESCRIPTION:Advanced Squares A2-C1
URL:https://exp.zrcdemo.com/events/t-squares-205/
LOCATION:Graceland Christian Church\, 2126 Stateline Rd\, Southaven\, 38672\, United States
CATEGORIES:Club Dance
END:VEVENT
BEGIN:VEVENT
DTSTART;TZID=America/Chicago:20230929T190000
DTEND;TZID=America/Chicago:20230929T210000
DTSTAMP:20260421T195503
CREATED:20221206T001828Z
LAST-MODIFIED:20221206T001828Z
UID:3447-1696014000-1696021200@exp.zrcdemo.com
SUMMARY:B&Bs
DESCRIPTION:Mainstream and Plus Squares
URL:https://exp.zrcdemo.com/events/bbs-177/
LOCATION:Colonial Park United Methodist Church\, 5330 Park Avenue\, Memphis\, 38119\, United States
CATEGORIES:Club Dance
END:VEVENT
BEGIN:VEVENT
DTSTART;TZID=America/Chicago:20230928T200000
DTEND;TZID=America/Chicago:20230928T213000
DTSTAMP:20260421T195503
CREATED:20230303T195050Z
LAST-MODIFIED:20230303T195050Z
UID:3877-1695931200-1695936600@exp.zrcdemo.com
SUMMARY:Top Spinners
DESCRIPTION:Squares with Lines between tips
URL:https://exp.zrcdemo.com/events/top-spinners-164/
LOCATION:Eads Civic Center\, 12365 Washington Rd\, Eads\, 38028\, United States
CATEGORIES:Club Dance
END:VEVENT
BEGIN:VEVENT
DTSTART;TZID=America/Chicago:20230928T184500
DTEND;TZID=America/Chicago:20230928T200000
DTSTAMP:20260421T195503
CREATED:20230303T195020Z
LAST-MODIFIED:20230303T195020Z
UID:3864-1695926700-1695931200@exp.zrcdemo.com
SUMMARY:Top Spinners Class
DESCRIPTION:SSD Class
URL:https://exp.zrcdemo.com/events/top-spinners-class-18/
LOCATION:Eads Civic Center\, 12365 Washington Rd\, Eads\, 38028\, United States
CATEGORIES:Class
END:VEVENT
BEGIN:VEVENT
DTSTART;TZID=America/Chicago:20230927T200000
DTEND;TZID=America/Chicago:20230927T213000
DTSTAMP:20260421T195503
CREATED:20230711T172138Z
LAST-MODIFIED:20230711T172138Z
UID:4011-1695844800-1695850200@exp.zrcdemo.com
SUMMARY:Pistols & Petticoats
DESCRIPTION:Mainstream and Plus Squares with Rounds between Tips
URL:https://exp.zrcdemo.com/events/pistols-petticoats-122/
LOCATION:Bartlett United Methodist Church\, 5676 Stage Rd.\, Bartlett\, 38134\, United States
CATEGORIES:Club Dance
END:VEVENT
BEGIN:VEVENT
DTSTART;TZID=America/Chicago:20230927T190000
DTEND;TZID=America/Chicago:20230927T200000
DTSTAMP:20260421T195503
CREATED:20230711T172253Z
LAST-MODIFIED:20230711T172253Z
UID:4033-1695841200-1695844800@exp.zrcdemo.com
SUMMARY:Pistols & Petticoats (Class 8 of 14)
DESCRIPTION:Mainstream Class
URL:https://exp.zrcdemo.com/events/pistols-petticoats-class-8-of-14/
LOCATION:Bartlett United Methodist Church\, 5676 Stage Rd.\, Bartlett\, 38134\, United States
CATEGORIES:Class
END:VEVENT
BEGIN:VEVENT
DTSTART;TZID=America/Chicago:20230925T190000
DTEND;TZID=America/Chicago:20230925T210000
DTSTAMP:20260421T195503
CREATED:20221208T001310Z
LAST-MODIFIED:20221208T001310Z
UID:3744-1695668400-1695675600@exp.zrcdemo.com
SUMMARY:Merry-Go-Rounds
DESCRIPTION:Phase II-VI
URL:https://exp.zrcdemo.com/events/merry-go-rounds-177/
LOCATION:Berclair Civic Club\, 743 Novarese Road\, Memphis\, TN\, 38122\, United States
CATEGORIES:Club Dance
END:VEVENT
BEGIN:VEVENT
DTSTART;TZID=America/Chicago:20230925T190000
DTEND;TZID=America/Chicago:20230925T210000
DTSTAMP:20260421T195503
CREATED:20221207T235309Z
LAST-MODIFIED:20221207T235309Z
UID:3690-1695668400-1695675600@exp.zrcdemo.com
SUMMARY:Pleasant Hill Promenaders
DESCRIPTION:Mainstream and Plus Squares with Rounds and Lines between Tips
URL:https://exp.zrcdemo.com/events/pleasant-hill-promenaders-178/
LOCATION:Graceland Christian Church\, 2126 Stateline Rd\, Southaven\, 38672\, United States
CATEGORIES:Club Dance
END:VEVENT
BEGIN:VEVENT
DTSTART;TZID=America/Chicago:20230924T143000
DTEND;TZID=America/Chicago:20230924T163000
DTSTAMP:20260421T195503
CREATED:20221206T002132Z
LAST-MODIFIED:20221206T002132Z
UID:3501-1695565800-1695573000@exp.zrcdemo.com
SUMMARY:T-Squares
DESCRIPTION:Advanced Squares A2-C1
URL:https://exp.zrcdemo.com/events/t-squares-204/
LOCATION:Graceland Christian Church\, 2126 Stateline Rd\, Southaven\, 38672\, United States
CATEGORIES:Club Dance
END:VEVENT
BEGIN:VEVENT
DTSTART;TZID=America/Chicago:20230922T190000
DTEND;TZID=America/Chicago:20230922T210000
DTSTAMP:20260421T195503
CREATED:20221206T001828Z
LAST-MODIFIED:20221206T042232Z
UID:3446-1695409200-1695416400@exp.zrcdemo.com
SUMMARY:B&Bs Autumn Leaves
DESCRIPTION:Mainstream and Plus Squares
URL:https://exp.zrcdemo.com/events/bbs-176/
LOCATION:Colonial Park United Methodist Church\, 5330 Park Avenue\, Memphis\, 38119\, United States
CATEGORIES:Club Special
END:VEVENT
BEGIN:VEVENT
DTSTART;TZID=America/Chicago:20230921T200000
DTEND;TZID=America/Chicago:20230921T213000
DTSTAMP:20260421T195503
CREATED:20230303T195050Z
LAST-MODIFIED:20230920T200951Z
UID:3876-1695326400-1695331800@exp.zrcdemo.com
SUMMARY:Top Spinners 43rd Anniversary & Ice Cream Social
DESCRIPTION:Squares with Lines between tips
URL:https://exp.zrcdemo.com/events/top-spinners-43rd-anniversary-ice-cream-social/
LOCATION:Eads Civic Center\, 12365 Washington Rd\, Eads\, 38028\, United States
CATEGORIES:Club Special
ATTACH;FMTTYPE=image/jpeg:https://exp.zrcdemo.com/wp-content/uploads/2023/03/image.jpeg
END:VEVENT
BEGIN:VEVENT
DTSTART;TZID=America/Chicago:20230921T184500
DTEND;TZID=America/Chicago:20230921T200000
DTSTAMP:20260421T195503
CREATED:20230303T195020Z
LAST-MODIFIED:20230303T195020Z
UID:3863-1695321900-1695326400@exp.zrcdemo.com
SUMMARY:Top Spinners Class
DESCRIPTION:SSD Class
URL:https://exp.zrcdemo.com/events/top-spinners-class-17/
LOCATION:Eads Civic Center\, 12365 Washington Rd\, Eads\, 38028\, United States
CATEGORIES:Class
END:VEVENT
BEGIN:VEVENT
DTSTART;TZID=America/Chicago:20230920T200000
DTEND;TZID=America/Chicago:20230920T213000
DTSTAMP:20260421T195503
CREATED:20230711T172138Z
LAST-MODIFIED:20230711T172138Z
UID:4010-1695240000-1695245400@exp.zrcdemo.com
SUMMARY:Pistols & Petticoats
DESCRIPTION:Mainstream and Plus Squares with Rounds between Tips
URL:https://exp.zrcdemo.com/events/pistols-petticoats-121/
LOCATION:Bartlett United Methodist Church\, 5676 Stage Rd.\, Bartlett\, 38134\, United States
CATEGORIES:Club Dance
END:VEVENT
BEGIN:VEVENT
DTSTART;TZID=America/Chicago:20230920T190000
DTEND;TZID=America/Chicago:20230920T200000
DTSTAMP:20260421T195503
CREATED:20230711T172239Z
LAST-MODIFIED:20230711T172239Z
UID:4032-1695236400-1695240000@exp.zrcdemo.com
SUMMARY:Pistols & Petticoats (Class 7 of 14)
DESCRIPTION:Mainstream Class
URL:https://exp.zrcdemo.com/events/pistols-petticoats-class-7-of-14/
LOCATION:Bartlett United Methodist Church\, 5676 Stage Rd.\, Bartlett\, 38134\, United States
CATEGORIES:Class
END:VEVENT
BEGIN:VEVENT
DTSTART;TZID=America/Chicago:20230918T190000
DTEND;TZID=America/Chicago:20230918T210000
DTSTAMP:20260421T195503
CREATED:20221208T001310Z
LAST-MODIFIED:20221208T001310Z
UID:3743-1695063600-1695070800@exp.zrcdemo.com
SUMMARY:Merry-Go-Rounds
DESCRIPTION:Phase II-VI
URL:https://exp.zrcdemo.com/events/merry-go-rounds-176/
LOCATION:Berclair Civic Club\, 743 Novarese Road\, Memphis\, TN\, 38122\, United States
CATEGORIES:Club Dance
END:VEVENT
END:VCALENDAR