BEGIN:VCALENDAR
VERSION:2.0
PRODID:-//Greater Memphis Square &amp; Round Dance Association - ECPv6.15.20//NONSGML v1.0//EN
CALSCALE:GREGORIAN
METHOD:PUBLISH
X-ORIGINAL-URL:https://exp.zrcdemo.com
X-WR-CALDESC:Events for Greater Memphis Square &amp; Round Dance Association
REFRESH-INTERVAL;VALUE=DURATION:PT1H
X-Robots-Tag:noindex
X-PUBLISHED-TTL:PT1H
BEGIN:VTIMEZONE
TZID:America/Chicago
BEGIN:DAYLIGHT
TZOFFSETFROM:-0600
TZOFFSETTO:-0500
TZNAME:CDT
DTSTART:20220313T080000
END:DAYLIGHT
BEGIN:STANDARD
TZOFFSETFROM:-0500
TZOFFSETTO:-0600
TZNAME:CST
DTSTART:20221106T070000
END:STANDARD
BEGIN:DAYLIGHT
TZOFFSETFROM:-0600
TZOFFSETTO:-0500
TZNAME:CDT
DTSTART:20230312T080000
END:DAYLIGHT
BEGIN:STANDARD
TZOFFSETFROM:-0500
TZOFFSETTO:-0600
TZNAME:CST
DTSTART:20231105T070000
END:STANDARD
BEGIN:DAYLIGHT
TZOFFSETFROM:-0600
TZOFFSETTO:-0500
TZNAME:CDT
DTSTART:20240310T080000
END:DAYLIGHT
BEGIN:STANDARD
TZOFFSETFROM:-0500
TZOFFSETTO:-0600
TZNAME:CST
DTSTART:20241103T070000
END:STANDARD
END:VTIMEZONE
BEGIN:VEVENT
DTSTART;TZID=America/Chicago:20230831T184500
DTEND;TZID=America/Chicago:20230831T200000
DTSTAMP:20260422T040036
CREATED:20230303T195005Z
LAST-MODIFIED:20230303T195005Z
UID:3860-1693507500-1693512000@exp.zrcdemo.com
SUMMARY:Top Spinners Class
DESCRIPTION:SSD Class
URL:https://exp.zrcdemo.com/events/top-spinners-class-14/
LOCATION:Eads Civic Center\, 12365 Washington Rd\, Eads\, 38028\, United States
CATEGORIES:Class
END:VEVENT
BEGIN:VEVENT
DTSTART;TZID=America/Chicago:20230830T200000
DTEND;TZID=America/Chicago:20230830T213000
DTSTAMP:20260422T040036
CREATED:20230711T172136Z
LAST-MODIFIED:20230809T015712Z
UID:4007-1693425600-1693431000@exp.zrcdemo.com
SUMMARY:Pistols & Petticoats 50's Sock Hop & Root Beer Floats
DESCRIPTION:Mainstream and Plus Squares with Rounds between Tips
URL:https://exp.zrcdemo.com/events/pistols-petticoats-50s-sock-hop-root-beer-floats/
LOCATION:Bartlett United Methodist Church\, 5676 Stage Rd.\, Bartlett\, 38134\, United States
CATEGORIES:Club Special
ATTACH;FMTTYPE=application/pdf:https://exp.zrcdemo.com/wp-content/uploads/2023/07/2023.08.30_PP_Sock-Hop.pdf
END:VEVENT
BEGIN:VEVENT
DTSTART;TZID=America/Chicago:20230830T190000
DTEND;TZID=America/Chicago:20230830T200000
DTSTAMP:20260422T040036
CREATED:20230711T172239Z
LAST-MODIFIED:20230711T172239Z
UID:4029-1693422000-1693425600@exp.zrcdemo.com
SUMMARY:Pistols & Petticoats (Class 4 of 14)
DESCRIPTION:Mainstream Class
URL:https://exp.zrcdemo.com/events/pistols-petticoats-class-4-of-14/
LOCATION:Bartlett United Methodist Church\, 5676 Stage Rd.\, Bartlett\, 38134\, United States
CATEGORIES:Class
END:VEVENT
BEGIN:VEVENT
DTSTART;TZID=America/Chicago:20230828T190000
DTEND;TZID=America/Chicago:20230828T210000
DTSTAMP:20260422T040036
CREATED:20221208T001111Z
LAST-MODIFIED:20221208T001111Z
UID:3740-1693249200-1693256400@exp.zrcdemo.com
SUMMARY:Merry-Go-Rounds
DESCRIPTION:Phase II-VI
URL:https://exp.zrcdemo.com/events/merry-go-rounds-173/
LOCATION:Berclair Civic Club\, 743 Novarese Road\, Memphis\, TN\, 38122\, United States
CATEGORIES:Club Dance
END:VEVENT
BEGIN:VEVENT
DTSTART;TZID=America/Chicago:20230828T190000
DTEND;TZID=America/Chicago:20230828T210000
DTSTAMP:20260422T040036
CREATED:20221207T235254Z
LAST-MODIFIED:20221207T235254Z
UID:3686-1693249200-1693256400@exp.zrcdemo.com
SUMMARY:Pleasant Hill Promenaders
DESCRIPTION:Mainstream and Plus Squares with Rounds and Lines between Tips
URL:https://exp.zrcdemo.com/events/pleasant-hill-promenaders-174/
LOCATION:Graceland Christian Church\, 2126 Stateline Rd\, Southaven\, 38672\, United States
CATEGORIES:Club Dance
END:VEVENT
BEGIN:VEVENT
DTSTART;TZID=America/Chicago:20230827T143000
DTEND;TZID=America/Chicago:20230827T163000
DTSTAMP:20260422T040036
CREATED:20221206T002117Z
LAST-MODIFIED:20221206T002117Z
UID:3497-1693146600-1693153800@exp.zrcdemo.com
SUMMARY:T-Squares
DESCRIPTION:Advanced Squares A2-C1
URL:https://exp.zrcdemo.com/events/t-squares-200/
LOCATION:Graceland Christian Church\, 2126 Stateline Rd\, Southaven\, 38672\, United States
CATEGORIES:Club Dance
END:VEVENT
BEGIN:VEVENT
DTSTART;TZID=America/Chicago:20230825T190000
DTEND;TZID=America/Chicago:20230825T210000
DTSTAMP:20260422T040036
CREATED:20221206T001813Z
LAST-MODIFIED:20221206T001813Z
UID:3442-1692990000-1692997200@exp.zrcdemo.com
SUMMARY:B&Bs
DESCRIPTION:Mainstream and Plus Squares
URL:https://exp.zrcdemo.com/events/bbs-172/
LOCATION:Colonial Park United Methodist Church\, 5330 Park Avenue\, Memphis\, 38119\, United States
CATEGORIES:Club Dance
END:VEVENT
BEGIN:VEVENT
DTSTART;TZID=America/Chicago:20230824T200000
DTEND;TZID=America/Chicago:20230824T213000
DTSTAMP:20260422T040036
CREATED:20230303T195036Z
LAST-MODIFIED:20230303T195036Z
UID:3872-1692907200-1692912600@exp.zrcdemo.com
SUMMARY:Top Spinners
DESCRIPTION:Squares with Lines between tips
URL:https://exp.zrcdemo.com/events/top-spinners-160/
LOCATION:Eads Civic Center\, 12365 Washington Rd\, Eads\, 38028\, United States
CATEGORIES:Club Dance
END:VEVENT
BEGIN:VEVENT
DTSTART;TZID=America/Chicago:20230824T184500
DTEND;TZID=America/Chicago:20230824T200000
DTSTAMP:20260422T040036
CREATED:20230303T195005Z
LAST-MODIFIED:20230817T151417Z
UID:3859-1692902700-1692907200@exp.zrcdemo.com
SUMMARY:Top Spinners Class
DESCRIPTION:SSD Class
URL:https://exp.zrcdemo.com/events/top-spinners-class-13/
LOCATION:Eads Civic Center\, 12365 Washington Rd\, Eads\, 38028\, United States
CATEGORIES:Class
ATTACH;FMTTYPE=image/jpeg:https://exp.zrcdemo.com/wp-content/uploads/2023/03/2023.08.24_Top-Spinners-12-Week.jpg
END:VEVENT
BEGIN:VEVENT
DTSTART;TZID=America/Chicago:20230823T200000
DTEND;TZID=America/Chicago:20230823T213000
DTSTAMP:20260422T040036
CREATED:20230711T172136Z
LAST-MODIFIED:20230711T172136Z
UID:4006-1692820800-1692826200@exp.zrcdemo.com
SUMMARY:Pistols & Petticoats
DESCRIPTION:Mainstream and Plus Squares with Rounds between Tips
URL:https://exp.zrcdemo.com/events/pistols-petticoats-118/
LOCATION:Bartlett United Methodist Church\, 5676 Stage Rd.\, Bartlett\, 38134\, United States
CATEGORIES:Club Dance
END:VEVENT
BEGIN:VEVENT
DTSTART;TZID=America/Chicago:20230823T190000
DTEND;TZID=America/Chicago:20230823T200000
DTSTAMP:20260422T040036
CREATED:20230711T172238Z
LAST-MODIFIED:20230711T172238Z
UID:4028-1692817200-1692820800@exp.zrcdemo.com
SUMMARY:Pistols & Petticoats (Class 3 of 14)
DESCRIPTION:Mainstream Class
URL:https://exp.zrcdemo.com/events/pistols-petticoats-class-3-of-14/
LOCATION:Bartlett United Methodist Church\, 5676 Stage Rd.\, Bartlett\, 38134\, United States
CATEGORIES:Class
END:VEVENT
BEGIN:VEVENT
DTSTART;TZID=America/Chicago:20230821T190000
DTEND;TZID=America/Chicago:20230821T210000
DTSTAMP:20260422T040036
CREATED:20221208T001110Z
LAST-MODIFIED:20221208T001110Z
UID:3739-1692644400-1692651600@exp.zrcdemo.com
SUMMARY:Merry-Go-Rounds
DESCRIPTION:Phase II-VI
URL:https://exp.zrcdemo.com/events/merry-go-rounds-172/
LOCATION:Berclair Civic Club\, 743 Novarese Road\, Memphis\, TN\, 38122\, United States
CATEGORIES:Club Dance
END:VEVENT
BEGIN:VEVENT
DTSTART;TZID=America/Chicago:20230821T190000
DTEND;TZID=America/Chicago:20230821T210000
DTSTAMP:20260422T040036
CREATED:20221207T235254Z
LAST-MODIFIED:20230819T180439Z
UID:3685-1692644400-1692651600@exp.zrcdemo.com
SUMMARY:Pleasant Hill Promenaders CLOSED
DESCRIPTION:Mainstream and Plus Squares with Rounds and Lines between Tips
URL:https://exp.zrcdemo.com/events/pleasant-hill-promenaders-173/
LOCATION:Graceland Christian Church\, 2126 Stateline Rd\, Southaven\, 38672\, United States
CATEGORIES:Club Dance
END:VEVENT
BEGIN:VEVENT
DTSTART;TZID=America/Chicago:20230820T143000
DTEND;TZID=America/Chicago:20230820T163000
DTSTAMP:20260422T040036
CREATED:20221206T002117Z
LAST-MODIFIED:20230814T151822Z
UID:3496-1692541800-1692549000@exp.zrcdemo.com
SUMMARY:T-Squares CLOSED
DESCRIPTION:Advanced Squares A2-C1
URL:https://exp.zrcdemo.com/events/t-squares-199/
LOCATION:Graceland Christian Church\, 2126 Stateline Rd\, Southaven\, 38672\, United States
CATEGORIES:Club Dance
END:VEVENT
BEGIN:VEVENT
DTSTART;TZID=America/Chicago:20230818T190000
DTEND;TZID=America/Chicago:20230818T210000
DTSTAMP:20260422T040036
CREATED:20221206T001813Z
LAST-MODIFIED:20221206T042127Z
UID:3441-1692385200-1692392400@exp.zrcdemo.com
SUMMARY:B&Bs Anniversary Dance
DESCRIPTION:Mainstream and Plus Squares
URL:https://exp.zrcdemo.com/events/bbs-171/
LOCATION:Colonial Park United Methodist Church\, 5330 Park Avenue\, Memphis\, 38119\, United States
CATEGORIES:Club Special
END:VEVENT
BEGIN:VEVENT
DTSTART;TZID=America/Chicago:20230817T190000
DTEND;TZID=America/Chicago:20230817T213000
DTSTAMP:20260422T040036
CREATED:20230303T195005Z
LAST-MODIFIED:20230817T151304Z
UID:3858-1692298800-1692307800@exp.zrcdemo.com
SUMMARY:Top Spinners FREE TN Dance Sampler & Fayette Cares Food Drive
DESCRIPTION:Free for Beginners 7:00-8:00
URL:https://exp.zrcdemo.com/events/top-spinners-free-tn-dance-sampler-fayette-cares-food-drive/
LOCATION:Eads Civic Center\, 12365 Washington Rd\, Eads\, 38028\, United States
CATEGORIES:Club Special
ATTACH;FMTTYPE=image/jpeg:https://exp.zrcdemo.com/wp-content/uploads/2023/03/2023.08.17_TS_Lets-Dance-Square-Line-Dance-for-Fayette-Cares-2023.jpg
END:VEVENT
BEGIN:VEVENT
DTSTART;TZID=America/Chicago:20230816T200000
DTEND;TZID=America/Chicago:20230816T213000
DTSTAMP:20260422T040036
CREATED:20230711T172136Z
LAST-MODIFIED:20230711T172136Z
UID:4005-1692216000-1692221400@exp.zrcdemo.com
SUMMARY:Pistols & Petticoats
DESCRIPTION:Mainstream and Plus Squares with Rounds between Tips
URL:https://exp.zrcdemo.com/events/pistols-petticoats-117/
LOCATION:Bartlett United Methodist Church\, 5676 Stage Rd.\, Bartlett\, 38134\, United States
CATEGORIES:Club Dance
END:VEVENT
BEGIN:VEVENT
DTSTART;TZID=America/Chicago:20230816T190000
DTEND;TZID=America/Chicago:20230816T200000
DTSTAMP:20260422T040036
CREATED:20230711T172224Z
LAST-MODIFIED:20230711T172224Z
UID:4027-1692212400-1692216000@exp.zrcdemo.com
SUMMARY:Pistols & Petticoats (Class 2 of 14)
DESCRIPTION:Mainstream Class
URL:https://exp.zrcdemo.com/events/pistols-petticoats-class-2-of-14/
LOCATION:Bartlett United Methodist Church\, 5676 Stage Rd.\, Bartlett\, 38134\, United States
CATEGORIES:Class
END:VEVENT
BEGIN:VEVENT
DTSTART;TZID=America/Chicago:20230814T190000
DTEND;TZID=America/Chicago:20230814T210000
DTSTAMP:20260422T040036
CREATED:20221208T001110Z
LAST-MODIFIED:20221208T001110Z
UID:3738-1692039600-1692046800@exp.zrcdemo.com
SUMMARY:Merry-Go-Rounds
DESCRIPTION:Phase II-VI
URL:https://exp.zrcdemo.com/events/merry-go-rounds-171/
LOCATION:Berclair Civic Club\, 743 Novarese Road\, Memphis\, TN\, 38122\, United States
CATEGORIES:Club Dance
END:VEVENT
BEGIN:VEVENT
DTSTART;TZID=America/Chicago:20230814T190000
DTEND;TZID=America/Chicago:20230814T210000
DTSTAMP:20260422T040036
CREATED:20221207T235254Z
LAST-MODIFIED:20221207T235254Z
UID:3684-1692039600-1692046800@exp.zrcdemo.com
SUMMARY:Pleasant Hill Promenaders
DESCRIPTION:Mainstream and Plus Squares with Rounds and Lines between Tips
URL:https://exp.zrcdemo.com/events/pleasant-hill-promenaders-172/
LOCATION:Graceland Christian Church\, 2126 Stateline Rd\, Southaven\, 38672\, United States
CATEGORIES:Club Dance
END:VEVENT
BEGIN:VEVENT
DTSTART;TZID=America/Chicago:20230813T143000
DTEND;TZID=America/Chicago:20230813T163000
DTSTAMP:20260422T040036
CREATED:20221206T002116Z
LAST-MODIFIED:20221206T002116Z
UID:3495-1691937000-1691944200@exp.zrcdemo.com
SUMMARY:T-Squares
DESCRIPTION:Come Join Us at the State Convention
URL:https://exp.zrcdemo.com/events/t-squares-198/
LOCATION:Graceland Christian Church\, 2126 Stateline Rd\, Southaven\, 38672\, United States
CATEGORIES:Club Dance
END:VEVENT
BEGIN:VEVENT
DTSTART;TZID=America/Chicago:20230811T190000
DTEND;TZID=America/Chicago:20230811T210000
DTSTAMP:20260422T040036
CREATED:20221206T001813Z
LAST-MODIFIED:20230715T013020Z
UID:3440-1691780400-1691787600@exp.zrcdemo.com
SUMMARY:B&Bs Beginner Class
DESCRIPTION:Mainstream and Plus Squares
URL:https://exp.zrcdemo.com/events/bbs-170/
LOCATION:Colonial Park United Methodist Church\, 5330 Park Avenue\, Memphis\, 38119\, United States
CATEGORIES:Class,Club Dance
ATTACH;FMTTYPE=image/png:https://exp.zrcdemo.com/wp-content/uploads/2022/12/2023.08.11_BNB_Class.png
END:VEVENT
BEGIN:VEVENT
DTSTART;TZID=America/Chicago:20230810T190000
DTEND;TZID=America/Chicago:20230810T213000
DTSTAMP:20260422T040036
CREATED:20230303T194950Z
LAST-MODIFIED:20230303T194950Z
UID:3857-1691694000-1691703000@exp.zrcdemo.com
SUMMARY:Top Spinners
DESCRIPTION:Squares with Lines between tips
URL:https://exp.zrcdemo.com/events/top-spinners-159/
LOCATION:Eads Civic Center\, 12365 Washington Rd\, Eads\, 38028\, United States
CATEGORIES:Club Dance
END:VEVENT
BEGIN:VEVENT
DTSTART;TZID=America/Chicago:20230809T200000
DTEND;TZID=America/Chicago:20230809T213000
DTSTAMP:20260422T040036
CREATED:20230711T172135Z
LAST-MODIFIED:20230711T172135Z
UID:4004-1691611200-1691616600@exp.zrcdemo.com
SUMMARY:Pistols & Petticoats
DESCRIPTION:Mainstream and Plus Squares with Rounds between Tips
URL:https://exp.zrcdemo.com/events/pistols-petticoats-116/
LOCATION:Bartlett United Methodist Church\, 5676 Stage Rd.\, Bartlett\, 38134\, United States
CATEGORIES:Club Dance
END:VEVENT
BEGIN:VEVENT
DTSTART;TZID=America/Chicago:20230809T190000
DTEND;TZID=America/Chicago:20230809T200000
DTSTAMP:20260422T040036
CREATED:20230711T172224Z
LAST-MODIFIED:20230711T172224Z
UID:4026-1691607600-1691611200@exp.zrcdemo.com
SUMMARY:Pistols & Petticoats (Class 1 of 14)
DESCRIPTION:Mainstream Class
URL:https://exp.zrcdemo.com/events/pistols-petticoats-class-1-of-14/
LOCATION:Bartlett United Methodist Church\, 5676 Stage Rd.\, Bartlett\, 38134\, United States
CATEGORIES:Class
END:VEVENT
BEGIN:VEVENT
DTSTART;TZID=America/Chicago:20230807T190000
DTEND;TZID=America/Chicago:20230807T210000
DTSTAMP:20260422T040036
CREATED:20221208T001110Z
LAST-MODIFIED:20221208T001110Z
UID:3737-1691434800-1691442000@exp.zrcdemo.com
SUMMARY:Merry-Go-Rounds
DESCRIPTION:Phase II-VI
URL:https://exp.zrcdemo.com/events/merry-go-rounds-170/
LOCATION:Berclair Civic Club\, 743 Novarese Road\, Memphis\, TN\, 38122\, United States
CATEGORIES:Club Dance
END:VEVENT
BEGIN:VEVENT
DTSTART;TZID=America/Chicago:20230807T190000
DTEND;TZID=America/Chicago:20230807T210000
DTSTAMP:20260422T040036
CREATED:20221207T235253Z
LAST-MODIFIED:20221207T235253Z
UID:3683-1691434800-1691442000@exp.zrcdemo.com
SUMMARY:Pleasant Hill Promenaders
DESCRIPTION:Mainstream and Plus Squares with Rounds and Lines between Tips
URL:https://exp.zrcdemo.com/events/pleasant-hill-promenaders-171/
LOCATION:Graceland Christian Church\, 2126 Stateline Rd\, Southaven\, 38672\, United States
CATEGORIES:Club Dance
END:VEVENT
BEGIN:VEVENT
DTSTART;TZID=America/Chicago:20230806T143000
DTEND;TZID=America/Chicago:20230806T163000
DTSTAMP:20260422T040036
CREATED:20221206T002116Z
LAST-MODIFIED:20221206T002116Z
UID:3494-1691332200-1691339400@exp.zrcdemo.com
SUMMARY:T-Squares
DESCRIPTION:Advanced Squares A2-C1
URL:https://exp.zrcdemo.com/events/t-squares-197/
LOCATION:Graceland Christian Church\, 2126 Stateline Rd\, Southaven\, 38672\, United States
CATEGORIES:Closed
END:VEVENT
BEGIN:VEVENT
DTSTART;TZID=America/Chicago:20230804T190000
DTEND;TZID=America/Chicago:20230804T210000
DTSTAMP:20260422T040036
CREATED:20221206T001812Z
LAST-MODIFIED:20221206T042014Z
UID:3439-1691175600-1691182800@exp.zrcdemo.com
SUMMARY:B&Bs CLOSED
DESCRIPTION:Come Join Us At the State Convention!
URL:https://exp.zrcdemo.com/events/bbs-169/
LOCATION:Colonial Park United Methodist Church\, 5330 Park Avenue\, Memphis\, 38119\, United States
CATEGORIES:Closed
END:VEVENT
BEGIN:VEVENT
DTSTART;TZID=America/Chicago:20230803T120000
DTEND;TZID=America/Chicago:20230805T120000
DTSTAMP:20260422T040036
CREATED:20221128T005558Z
LAST-MODIFIED:20221128T010245Z
UID:3393-1691064000-1691236800@exp.zrcdemo.com
SUMMARY:Tennessee State Convention
DESCRIPTION:
URL:https://exp.zrcdemo.com/events/tennessee-state-convention-3/
LOCATION:TN
CATEGORIES:Convention
ATTACH;FMTTYPE=application/pdf:https://exp.zrcdemo.com/wp-content/uploads/2022/11/2023.03_TNState.pdf
END:VEVENT
END:VCALENDAR