BEGIN:VCALENDAR
VERSION:2.0
PRODID:-//Greater Memphis Square &amp; Round Dance Association - ECPv6.15.20//NONSGML v1.0//EN
CALSCALE:GREGORIAN
METHOD:PUBLISH
X-ORIGINAL-URL:https://exp.zrcdemo.com
X-WR-CALDESC:Events for Greater Memphis Square &amp; Round Dance Association
REFRESH-INTERVAL;VALUE=DURATION:PT1H
X-Robots-Tag:noindex
X-PUBLISHED-TTL:PT1H
BEGIN:VTIMEZONE
TZID:America/Chicago
BEGIN:DAYLIGHT
TZOFFSETFROM:-0600
TZOFFSETTO:-0500
TZNAME:CDT
DTSTART:20220313T080000
END:DAYLIGHT
BEGIN:STANDARD
TZOFFSETFROM:-0500
TZOFFSETTO:-0600
TZNAME:CST
DTSTART:20221106T070000
END:STANDARD
BEGIN:DAYLIGHT
TZOFFSETFROM:-0600
TZOFFSETTO:-0500
TZNAME:CDT
DTSTART:20230312T080000
END:DAYLIGHT
BEGIN:STANDARD
TZOFFSETFROM:-0500
TZOFFSETTO:-0600
TZNAME:CST
DTSTART:20231105T070000
END:STANDARD
BEGIN:DAYLIGHT
TZOFFSETFROM:-0600
TZOFFSETTO:-0500
TZNAME:CDT
DTSTART:20240310T080000
END:DAYLIGHT
BEGIN:STANDARD
TZOFFSETFROM:-0500
TZOFFSETTO:-0600
TZNAME:CST
DTSTART:20241103T070000
END:STANDARD
END:VTIMEZONE
BEGIN:VEVENT
DTSTART;TZID=America/Chicago:20230629T190000
DTEND;TZID=America/Chicago:20230629T213000
DTSTAMP:20260422T124243
CREATED:20230303T194934Z
LAST-MODIFIED:20230629T192809Z
UID:3851-1688065200-1688074200@exp.zrcdemo.com
SUMMARY:Top Spinners CLOSED
DESCRIPTION:Squares with Lines between tips
URL:https://exp.zrcdemo.com/events/top-spinners-155/
LOCATION:Eads Civic Center\, 12365 Washington Rd\, Eads\, 38028\, United States
CATEGORIES:Club Dance
END:VEVENT
BEGIN:VEVENT
DTSTART;TZID=America/Chicago:20230628T190000
DTEND;TZID=America/Chicago:20230628T210000
DTSTAMP:20260422T124243
CREATED:20230303T194132Z
LAST-MODIFIED:20230303T194132Z
UID:3836-1687978800-1687986000@exp.zrcdemo.com
SUMMARY:Pistols & Petticoats
DESCRIPTION:Mainstream and Plus Squares with Rounds between Tips
URL:https://exp.zrcdemo.com/events/pistols-petticoats-111/
LOCATION:Bartlett United Methodist Church\, 5676 Stage Rd.\, Bartlett\, 38134\, United States
CATEGORIES:Club Dance
END:VEVENT
BEGIN:VEVENT
DTSTART;TZID=America/Chicago:20230626T190000
DTEND;TZID=America/Chicago:20230626T210000
DTSTAMP:20260422T124243
CREATED:20221208T000910Z
LAST-MODIFIED:20221208T000910Z
UID:3731-1687806000-1687813200@exp.zrcdemo.com
SUMMARY:Merry-Go-Rounds
DESCRIPTION:Phase II-VI
URL:https://exp.zrcdemo.com/events/merry-go-rounds-164/
LOCATION:Berclair Civic Club\, 743 Novarese Road\, Memphis\, TN\, 38122\, United States
CATEGORIES:Club Dance
END:VEVENT
BEGIN:VEVENT
DTSTART;TZID=America/Chicago:20230626T190000
DTEND;TZID=America/Chicago:20230626T210000
DTSTAMP:20260422T124243
CREATED:20221207T235238Z
LAST-MODIFIED:20221207T235238Z
UID:3677-1687806000-1687813200@exp.zrcdemo.com
SUMMARY:Pleasant Hill Promenaders
DESCRIPTION:Mainstream and Plus Squares with Rounds and Lines between Tips
URL:https://exp.zrcdemo.com/events/pleasant-hill-promenaders-165/
LOCATION:Graceland Christian Church\, 2126 Stateline Rd\, Southaven\, 38672\, United States
CATEGORIES:Club Dance
END:VEVENT
BEGIN:VEVENT
DTSTART;TZID=America/Chicago:20230625T143000
DTEND;TZID=America/Chicago:20230625T163000
DTSTAMP:20260422T124243
CREATED:20221206T002101Z
LAST-MODIFIED:20230605T012659Z
UID:3488-1687703400-1687710600@exp.zrcdemo.com
SUMMARY:T-Squares CLOSED
DESCRIPTION:Advanced Squares A2-C1
URL:https://exp.zrcdemo.com/events/t-squares-191/
LOCATION:Graceland Christian Church\, 2126 Stateline Rd\, Southaven\, 38672\, United States
CATEGORIES:Closed
END:VEVENT
BEGIN:VEVENT
DTSTART;TZID=America/Chicago:20230623T190000
DTEND;TZID=America/Chicago:20230623T210000
DTSTAMP:20260422T124243
CREATED:20221206T001743Z
LAST-MODIFIED:20221206T041655Z
UID:3433-1687546800-1687554000@exp.zrcdemo.com
SUMMARY:B&Bs CLOSED
DESCRIPTION:Come Join Us At the National Convention!
URL:https://exp.zrcdemo.com/events/bbs-163/
LOCATION:Colonial Park United Methodist Church\, 5330 Park Avenue\, Memphis\, 38119\, United States
CATEGORIES:Closed
END:VEVENT
BEGIN:VEVENT
DTSTART;TZID=America/Chicago:20230622T000000
DTEND;TZID=America/Chicago:20230622T000000
DTSTAMP:20260422T124243
CREATED:20230303T194934Z
LAST-MODIFIED:20230523T142657Z
UID:3850-1687392000-1687392000@exp.zrcdemo.com
SUMMARY:Top Spinners CLOSED
DESCRIPTION:Come join us at the National Convention!
URL:https://exp.zrcdemo.com/events/top-spinners-154/
LOCATION:Eads Civic Center\, 12365 Washington Rd\, Eads\, 38028\, United States
CATEGORIES:Closed
END:VEVENT
BEGIN:VEVENT
DTSTART;TZID=America/Chicago:20230621T120000
DTEND;TZID=America/Chicago:20230624T120000
DTSTAMP:20260422T124243
CREATED:20221128T011327Z
LAST-MODIFIED:20221128T012346Z
UID:3397-1687348800-1687608000@exp.zrcdemo.com
SUMMARY:72nd National Square Dance Convention
DESCRIPTION:
URL:https://exp.zrcdemo.com/events/72nd-national-square-dance-convention/
CATEGORIES:Convention
END:VEVENT
BEGIN:VEVENT
DTSTART;TZID=America/Chicago:20230621T000000
DTEND;TZID=America/Chicago:20230621T000000
DTSTAMP:20260422T124243
CREATED:20230303T194132Z
LAST-MODIFIED:20230303T194132Z
UID:3835-1687305600-1687305600@exp.zrcdemo.com
SUMMARY:Pistols & Petticoats CLOSED
DESCRIPTION:Come Join Us At the National Convention!
URL:https://exp.zrcdemo.com/events/pistols-petticoats-closed-3/
LOCATION:Bartlett United Methodist Church\, 5676 Stage Rd.\, Bartlett\, 38134\, United States
CATEGORIES:Closed
END:VEVENT
BEGIN:VEVENT
DTSTART;TZID=America/Chicago:20230619T190000
DTEND;TZID=America/Chicago:20230619T210000
DTSTAMP:20260422T124243
CREATED:20221208T000711Z
LAST-MODIFIED:20221208T000711Z
UID:3730-1687201200-1687208400@exp.zrcdemo.com
SUMMARY:Merry-Go-Rounds
DESCRIPTION:Phase II-VI
URL:https://exp.zrcdemo.com/events/merry-go-rounds-163/
LOCATION:Berclair Civic Club\, 743 Novarese Road\, Memphis\, TN\, 38122\, United States
CATEGORIES:Club Dance
END:VEVENT
BEGIN:VEVENT
DTSTART;TZID=America/Chicago:20230619T190000
DTEND;TZID=America/Chicago:20230619T210000
DTSTAMP:20260422T124243
CREATED:20221207T235224Z
LAST-MODIFIED:20230517T201456Z
UID:3676-1687201200-1687208400@exp.zrcdemo.com
SUMMARY:Pleasant Hill Promenaders Barnyard Party Trail Thru Dance
DESCRIPTION:Mainstream and Plus Squares with Rounds and Lines between Tips
URL:https://exp.zrcdemo.com/events/pleasant-hill-promenaders-down-on-the-farm-trail-thru-dance/
LOCATION:Graceland Christian Church\, 2126 Stateline Rd\, Southaven\, 38672\, United States
CATEGORIES:Club Special
ATTACH;FMTTYPE=image/jpeg:https://exp.zrcdemo.com/wp-content/uploads/2022/12/2023.06.19_PHP_TrailThru.jpg
END:VEVENT
BEGIN:VEVENT
DTSTART;TZID=America/Chicago:20230618T143000
DTEND;TZID=America/Chicago:20230618T163000
DTSTAMP:20260422T124243
CREATED:20221206T002047Z
LAST-MODIFIED:20230605T012628Z
UID:3487-1687098600-1687105800@exp.zrcdemo.com
SUMMARY:T-Squares CLOSED
DESCRIPTION:Advanced Squares A2-C1
URL:https://exp.zrcdemo.com/events/t-squares-190/
LOCATION:Graceland Christian Church\, 2126 Stateline Rd\, Southaven\, 38672\, United States
CATEGORIES:Club Dance
END:VEVENT
BEGIN:VEVENT
DTSTART;TZID=America/Chicago:20230616T190000
DTEND;TZID=America/Chicago:20230616T210000
DTSTAMP:20260422T124243
CREATED:20221206T001743Z
LAST-MODIFIED:20230608T130554Z
UID:3432-1686942000-1686949200@exp.zrcdemo.com
SUMMARY:B&Bs
DESCRIPTION:Mainstream and Plus Squares
URL:https://exp.zrcdemo.com/events/bbs-162/
LOCATION:Colonial Park United Methodist Church\, 5330 Park Avenue\, Memphis\, 38119\, United States
CATEGORIES:Club Dance
END:VEVENT
BEGIN:VEVENT
DTSTART;TZID=America/Chicago:20230615T190000
DTEND;TZID=America/Chicago:20230615T213000
DTSTAMP:20260422T124243
CREATED:20230303T194934Z
LAST-MODIFIED:20230503T220658Z
UID:3849-1686855600-1686864600@exp.zrcdemo.com
SUMMARY:Top Spinners Trail Thru with Bear Miller
DESCRIPTION:Squares with Lines between tips
URL:https://exp.zrcdemo.com/events/top-spinners-153/
LOCATION:Eads Civic Center\, 12365 Washington Rd\, Eads\, 38028\, United States
CATEGORIES:Club Special
ATTACH;FMTTYPE=image/jpeg:https://exp.zrcdemo.com/wp-content/uploads/2023/03/2023.06.15_TS_Trail-Thru-Dance-with-Bear-Miller-scaled.jpg
END:VEVENT
BEGIN:VEVENT
DTSTART;TZID=America/Chicago:20230614T190000
DTEND;TZID=America/Chicago:20230614T210000
DTSTAMP:20260422T124243
CREATED:20230303T194131Z
LAST-MODIFIED:20230605T012730Z
UID:3834-1686769200-1686776400@exp.zrcdemo.com
SUMMARY:Pistols & Petticoats CLOSED
DESCRIPTION:Mainstream and Plus Squares with Rounds between Tips
URL:https://exp.zrcdemo.com/events/pistols-petticoats-hawaiian-luau-dance-2/
LOCATION:Bartlett United Methodist Church\, 5676 Stage Rd.\, Bartlett\, 38134\, United States
CATEGORIES:Club Dance
END:VEVENT
BEGIN:VEVENT
DTSTART;TZID=America/Chicago:20230612T190000
DTEND;TZID=America/Chicago:20230612T210000
DTSTAMP:20260422T124243
CREATED:20221208T000710Z
LAST-MODIFIED:20221208T000710Z
UID:3729-1686596400-1686603600@exp.zrcdemo.com
SUMMARY:Merry-Go-Rounds
DESCRIPTION:Phase II-VI
URL:https://exp.zrcdemo.com/events/merry-go-rounds-162/
LOCATION:Berclair Civic Club\, 743 Novarese Road\, Memphis\, TN\, 38122\, United States
CATEGORIES:Club Dance
END:VEVENT
BEGIN:VEVENT
DTSTART;TZID=America/Chicago:20230612T190000
DTEND;TZID=America/Chicago:20230612T210000
DTSTAMP:20260422T124243
CREATED:20221207T235224Z
LAST-MODIFIED:20221207T235224Z
UID:3675-1686596400-1686603600@exp.zrcdemo.com
SUMMARY:Pleasant Hill Promenaders
DESCRIPTION:Mainstream and Plus Squares with Rounds and Lines between Tips
URL:https://exp.zrcdemo.com/events/pleasant-hill-promenaders-164/
LOCATION:Graceland Christian Church\, 2126 Stateline Rd\, Southaven\, 38672\, United States
CATEGORIES:Club Dance
END:VEVENT
BEGIN:VEVENT
DTSTART;TZID=America/Chicago:20230611T143000
DTEND;TZID=America/Chicago:20230611T163000
DTSTAMP:20260422T124243
CREATED:20221206T002047Z
LAST-MODIFIED:20221206T002047Z
UID:3486-1686493800-1686501000@exp.zrcdemo.com
SUMMARY:T-Squares
DESCRIPTION:Advanced Squares A2-C1
URL:https://exp.zrcdemo.com/events/t-squares-189/
LOCATION:Graceland Christian Church\, 2126 Stateline Rd\, Southaven\, 38672\, United States
CATEGORIES:Club Dance
END:VEVENT
BEGIN:VEVENT
DTSTART;TZID=America/Chicago:20230609T190000
DTEND;TZID=America/Chicago:20230609T210000
DTSTAMP:20260422T124243
CREATED:20221206T001743Z
LAST-MODIFIED:20221206T001743Z
UID:3431-1686337200-1686344400@exp.zrcdemo.com
SUMMARY:B&Bs
DESCRIPTION:Mainstream and Plus Squares
URL:https://exp.zrcdemo.com/events/bbs-161/
LOCATION:Colonial Park United Methodist Church\, 5330 Park Avenue\, Memphis\, 38119\, United States
CATEGORIES:Club Dance
END:VEVENT
BEGIN:VEVENT
DTSTART;TZID=America/Chicago:20230608T190000
DTEND;TZID=America/Chicago:20230608T213000
DTSTAMP:20260422T124243
CREATED:20230303T194934Z
LAST-MODIFIED:20230303T194934Z
UID:3848-1686250800-1686259800@exp.zrcdemo.com
SUMMARY:Top Spinners
DESCRIPTION:Squares with Lines between tips
URL:https://exp.zrcdemo.com/events/top-spinners-152/
LOCATION:Eads Civic Center\, 12365 Washington Rd\, Eads\, 38028\, United States
CATEGORIES:Club Dance
END:VEVENT
BEGIN:VEVENT
DTSTART;TZID=America/Chicago:20230607T190000
DTEND;TZID=America/Chicago:20230607T210000
DTSTAMP:20260422T124243
CREATED:20230303T194130Z
LAST-MODIFIED:20230303T194130Z
UID:3833-1686164400-1686171600@exp.zrcdemo.com
SUMMARY:Pistols & Petticoats
DESCRIPTION:Mainstream and Plus Squares with Rounds between Tips
URL:https://exp.zrcdemo.com/events/pistols-petticoats-110/
LOCATION:Bartlett United Methodist Church\, 5676 Stage Rd.\, Bartlett\, 38134\, United States
CATEGORIES:Club Dance
END:VEVENT
BEGIN:VEVENT
DTSTART;TZID=America/Chicago:20230605T190000
DTEND;TZID=America/Chicago:20230605T210000
DTSTAMP:20260422T124243
CREATED:20221208T000710Z
LAST-MODIFIED:20221208T000710Z
UID:3728-1685991600-1685998800@exp.zrcdemo.com
SUMMARY:Merry-Go-Rounds
DESCRIPTION:Phase II-VI
URL:https://exp.zrcdemo.com/events/merry-go-rounds-161/
LOCATION:Berclair Civic Club\, 743 Novarese Road\, Memphis\, TN\, 38122\, United States
CATEGORIES:Club Dance
END:VEVENT
BEGIN:VEVENT
DTSTART;TZID=America/Chicago:20230605T190000
DTEND;TZID=America/Chicago:20230605T210000
DTSTAMP:20260422T124243
CREATED:20221207T235223Z
LAST-MODIFIED:20221207T235223Z
UID:3674-1685991600-1685998800@exp.zrcdemo.com
SUMMARY:Pleasant Hill Promenaders
DESCRIPTION:Mainstream and Plus Squares with Rounds and Lines between Tips
URL:https://exp.zrcdemo.com/events/pleasant-hill-promenaders-163/
LOCATION:Graceland Christian Church\, 2126 Stateline Rd\, Southaven\, 38672\, United States
CATEGORIES:Club Dance
END:VEVENT
BEGIN:VEVENT
DTSTART;TZID=America/Chicago:20230604T143000
DTEND;TZID=America/Chicago:20230604T163000
DTSTAMP:20260422T124243
CREATED:20221206T002046Z
LAST-MODIFIED:20221206T002046Z
UID:3485-1685889000-1685896200@exp.zrcdemo.com
SUMMARY:T-Squares
DESCRIPTION:Advanced Squares A2-C1
URL:https://exp.zrcdemo.com/events/t-squares-188/
LOCATION:Graceland Christian Church\, 2126 Stateline Rd\, Southaven\, 38672\, United States
CATEGORIES:Club Dance
END:VEVENT
BEGIN:VEVENT
DTSTART;TZID=America/Chicago:20230603T190000
DTEND;TZID=America/Chicago:20230603T210000
DTSTAMP:20260422T124243
CREATED:20230503T221128Z
LAST-MODIFIED:20230523T142943Z
UID:3931-1685818800-1685826000@exp.zrcdemo.com
SUMMARY:Pistols & Petticoats Hawaiian Luau
DESCRIPTION:
URL:https://exp.zrcdemo.com/events/pistols-petticoats-hawaiian-luau/
LOCATION:Bartlett United Methodist Church\, 5676 Stage Rd.\, Bartlett\, 38134\, United States
CATEGORIES:Club Special
ATTACH;FMTTYPE=application/pdf:https://exp.zrcdemo.com/wp-content/uploads/2023/05/2023.06.03_PP_Hawaiian-Luau-flyer.pdf
END:VEVENT
BEGIN:VEVENT
DTSTART;TZID=America/Chicago:20230602T190000
DTEND;TZID=America/Chicago:20230602T210000
DTSTAMP:20260422T124243
CREATED:20221206T001743Z
LAST-MODIFIED:20221206T001743Z
UID:3430-1685732400-1685739600@exp.zrcdemo.com
SUMMARY:B&Bs
DESCRIPTION:Mainstream and Plus Squares
URL:https://exp.zrcdemo.com/events/bbs-160/
LOCATION:Colonial Park United Methodist Church\, 5330 Park Avenue\, Memphis\, 38119\, United States
CATEGORIES:Club Dance
END:VEVENT
BEGIN:VEVENT
DTSTART;TZID=America/Chicago:20230601T190000
DTEND;TZID=America/Chicago:20230601T213000
DTSTAMP:20260422T124243
CREATED:20230303T194932Z
LAST-MODIFIED:20230303T194932Z
UID:3847-1685646000-1685655000@exp.zrcdemo.com
SUMMARY:Top Spinners
DESCRIPTION:Squares with Lines between tips
URL:https://exp.zrcdemo.com/events/top-spinners-151/
LOCATION:Eads Civic Center\, 12365 Washington Rd\, Eads\, 38028\, United States
CATEGORIES:Club Dance
END:VEVENT
BEGIN:VEVENT
DTSTART;TZID=America/Chicago:20230531T190000
DTEND;TZID=America/Chicago:20230531T210000
DTSTAMP:20260422T124243
CREATED:20230303T194130Z
LAST-MODIFIED:20230303T194130Z
UID:3832-1685559600-1685566800@exp.zrcdemo.com
SUMMARY:Pistols & Petticoats
DESCRIPTION:Mainstream and Plus Squares with Rounds between Tips
URL:https://exp.zrcdemo.com/events/pistols-petticoats-109/
LOCATION:Bartlett United Methodist Church\, 5676 Stage Rd.\, Bartlett\, 38134\, United States
CATEGORIES:Club Dance
END:VEVENT
BEGIN:VEVENT
DTSTART;TZID=America/Chicago:20230529T190000
DTEND;TZID=America/Chicago:20230529T210000
DTSTAMP:20260422T124243
CREATED:20221208T000710Z
LAST-MODIFIED:20221208T000710Z
UID:3727-1685386800-1685394000@exp.zrcdemo.com
SUMMARY:Merry-Go-Rounds
DESCRIPTION:Phase II-VI
URL:https://exp.zrcdemo.com/events/merry-go-rounds-160/
LOCATION:Berclair Civic Club\, 743 Novarese Road\, Memphis\, TN\, 38122\, United States
CATEGORIES:Club Dance
END:VEVENT
BEGIN:VEVENT
DTSTART;TZID=America/Chicago:20230529T190000
DTEND;TZID=America/Chicago:20230529T210000
DTSTAMP:20260422T124243
CREATED:20221207T235223Z
LAST-MODIFIED:20230512T161913Z
UID:3673-1685386800-1685394000@exp.zrcdemo.com
SUMMARY:Pleasant Hill Promenaders CLOSED
DESCRIPTION:Mainstream and Plus Squares with Rounds and Lines between Tips
URL:https://exp.zrcdemo.com/events/pleasant-hill-promenaders-162/
LOCATION:Graceland Christian Church\, 2126 Stateline Rd\, Southaven\, 38672\, United States
CATEGORIES:Club Dance
END:VEVENT
END:VCALENDAR