BEGIN:VCALENDAR
VERSION:2.0
PRODID:-//Greater Memphis Square &amp; Round Dance Association - ECPv6.15.20//NONSGML v1.0//EN
CALSCALE:GREGORIAN
METHOD:PUBLISH
X-WR-CALNAME:Greater Memphis Square &amp; Round Dance Association
X-ORIGINAL-URL:https://exp.zrcdemo.com
X-WR-CALDESC:Events for Greater Memphis Square &amp; Round Dance Association
REFRESH-INTERVAL;VALUE=DURATION:PT1H
X-Robots-Tag:noindex
X-PUBLISHED-TTL:PT1H
BEGIN:VTIMEZONE
TZID:America/Chicago
BEGIN:DAYLIGHT
TZOFFSETFROM:-0600
TZOFFSETTO:-0500
TZNAME:CDT
DTSTART:20220313T080000
END:DAYLIGHT
BEGIN:STANDARD
TZOFFSETFROM:-0500
TZOFFSETTO:-0600
TZNAME:CST
DTSTART:20221106T070000
END:STANDARD
BEGIN:DAYLIGHT
TZOFFSETFROM:-0600
TZOFFSETTO:-0500
TZNAME:CDT
DTSTART:20230312T080000
END:DAYLIGHT
BEGIN:STANDARD
TZOFFSETFROM:-0500
TZOFFSETTO:-0600
TZNAME:CST
DTSTART:20231105T070000
END:STANDARD
BEGIN:DAYLIGHT
TZOFFSETFROM:-0600
TZOFFSETTO:-0500
TZNAME:CDT
DTSTART:20240310T080000
END:DAYLIGHT
BEGIN:STANDARD
TZOFFSETFROM:-0500
TZOFFSETTO:-0600
TZNAME:CST
DTSTART:20241103T070000
END:STANDARD
END:VTIMEZONE
BEGIN:VEVENT
DTSTART;TZID=America/Chicago:20230607T190000
DTEND;TZID=America/Chicago:20230607T210000
DTSTAMP:20260422T155840
CREATED:20230303T194130Z
LAST-MODIFIED:20230303T194130Z
UID:3833-1686164400-1686171600@exp.zrcdemo.com
SUMMARY:Pistols & Petticoats
DESCRIPTION:Mainstream and Plus Squares with Rounds between Tips
URL:https://exp.zrcdemo.com/events/pistols-petticoats-110/
LOCATION:Bartlett United Methodist Church\, 5676 Stage Rd.\, Bartlett\, 38134\, United States
CATEGORIES:Club Dance
END:VEVENT
BEGIN:VEVENT
DTSTART;TZID=America/Chicago:20230605T190000
DTEND;TZID=America/Chicago:20230605T210000
DTSTAMP:20260422T155840
CREATED:20221208T000710Z
LAST-MODIFIED:20221208T000710Z
UID:3728-1685991600-1685998800@exp.zrcdemo.com
SUMMARY:Merry-Go-Rounds
DESCRIPTION:Phase II-VI
URL:https://exp.zrcdemo.com/events/merry-go-rounds-161/
LOCATION:Berclair Civic Club\, 743 Novarese Road\, Memphis\, TN\, 38122\, United States
CATEGORIES:Club Dance
END:VEVENT
BEGIN:VEVENT
DTSTART;TZID=America/Chicago:20230605T190000
DTEND;TZID=America/Chicago:20230605T210000
DTSTAMP:20260422T155840
CREATED:20221207T235223Z
LAST-MODIFIED:20221207T235223Z
UID:3674-1685991600-1685998800@exp.zrcdemo.com
SUMMARY:Pleasant Hill Promenaders
DESCRIPTION:Mainstream and Plus Squares with Rounds and Lines between Tips
URL:https://exp.zrcdemo.com/events/pleasant-hill-promenaders-163/
LOCATION:Graceland Christian Church\, 2126 Stateline Rd\, Southaven\, 38672\, United States
CATEGORIES:Club Dance
END:VEVENT
BEGIN:VEVENT
DTSTART;TZID=America/Chicago:20230604T143000
DTEND;TZID=America/Chicago:20230604T163000
DTSTAMP:20260422T155840
CREATED:20221206T002046Z
LAST-MODIFIED:20221206T002046Z
UID:3485-1685889000-1685896200@exp.zrcdemo.com
SUMMARY:T-Squares
DESCRIPTION:Advanced Squares A2-C1
URL:https://exp.zrcdemo.com/events/t-squares-188/
LOCATION:Graceland Christian Church\, 2126 Stateline Rd\, Southaven\, 38672\, United States
CATEGORIES:Club Dance
END:VEVENT
BEGIN:VEVENT
DTSTART;TZID=America/Chicago:20230603T190000
DTEND;TZID=America/Chicago:20230603T210000
DTSTAMP:20260422T155840
CREATED:20230503T221128Z
LAST-MODIFIED:20230523T142943Z
UID:3931-1685818800-1685826000@exp.zrcdemo.com
SUMMARY:Pistols & Petticoats Hawaiian Luau
DESCRIPTION:
URL:https://exp.zrcdemo.com/events/pistols-petticoats-hawaiian-luau/
LOCATION:Bartlett United Methodist Church\, 5676 Stage Rd.\, Bartlett\, 38134\, United States
CATEGORIES:Club Special
ATTACH;FMTTYPE=application/pdf:https://exp.zrcdemo.com/wp-content/uploads/2023/05/2023.06.03_PP_Hawaiian-Luau-flyer.pdf
END:VEVENT
BEGIN:VEVENT
DTSTART;TZID=America/Chicago:20230602T190000
DTEND;TZID=America/Chicago:20230602T210000
DTSTAMP:20260422T155840
CREATED:20221206T001743Z
LAST-MODIFIED:20221206T001743Z
UID:3430-1685732400-1685739600@exp.zrcdemo.com
SUMMARY:B&Bs
DESCRIPTION:Mainstream and Plus Squares
URL:https://exp.zrcdemo.com/events/bbs-160/
LOCATION:Colonial Park United Methodist Church\, 5330 Park Avenue\, Memphis\, 38119\, United States
CATEGORIES:Club Dance
END:VEVENT
BEGIN:VEVENT
DTSTART;TZID=America/Chicago:20230601T190000
DTEND;TZID=America/Chicago:20230601T213000
DTSTAMP:20260422T155840
CREATED:20230303T194932Z
LAST-MODIFIED:20230303T194932Z
UID:3847-1685646000-1685655000@exp.zrcdemo.com
SUMMARY:Top Spinners
DESCRIPTION:Squares with Lines between tips
URL:https://exp.zrcdemo.com/events/top-spinners-151/
LOCATION:Eads Civic Center\, 12365 Washington Rd\, Eads\, 38028\, United States
CATEGORIES:Club Dance
END:VEVENT
BEGIN:VEVENT
DTSTART;TZID=America/Chicago:20230531T190000
DTEND;TZID=America/Chicago:20230531T210000
DTSTAMP:20260422T155840
CREATED:20230303T194130Z
LAST-MODIFIED:20230303T194130Z
UID:3832-1685559600-1685566800@exp.zrcdemo.com
SUMMARY:Pistols & Petticoats
DESCRIPTION:Mainstream and Plus Squares with Rounds between Tips
URL:https://exp.zrcdemo.com/events/pistols-petticoats-109/
LOCATION:Bartlett United Methodist Church\, 5676 Stage Rd.\, Bartlett\, 38134\, United States
CATEGORIES:Club Dance
END:VEVENT
BEGIN:VEVENT
DTSTART;TZID=America/Chicago:20230529T190000
DTEND;TZID=America/Chicago:20230529T210000
DTSTAMP:20260422T155840
CREATED:20221208T000710Z
LAST-MODIFIED:20221208T000710Z
UID:3727-1685386800-1685394000@exp.zrcdemo.com
SUMMARY:Merry-Go-Rounds
DESCRIPTION:Phase II-VI
URL:https://exp.zrcdemo.com/events/merry-go-rounds-160/
LOCATION:Berclair Civic Club\, 743 Novarese Road\, Memphis\, TN\, 38122\, United States
CATEGORIES:Club Dance
END:VEVENT
BEGIN:VEVENT
DTSTART;TZID=America/Chicago:20230529T190000
DTEND;TZID=America/Chicago:20230529T210000
DTSTAMP:20260422T155840
CREATED:20221207T235223Z
LAST-MODIFIED:20230512T161913Z
UID:3673-1685386800-1685394000@exp.zrcdemo.com
SUMMARY:Pleasant Hill Promenaders CLOSED
DESCRIPTION:Mainstream and Plus Squares with Rounds and Lines between Tips
URL:https://exp.zrcdemo.com/events/pleasant-hill-promenaders-162/
LOCATION:Graceland Christian Church\, 2126 Stateline Rd\, Southaven\, 38672\, United States
CATEGORIES:Club Dance
END:VEVENT
BEGIN:VEVENT
DTSTART;TZID=America/Chicago:20230528T143000
DTEND;TZID=America/Chicago:20230528T163000
DTSTAMP:20260422T155840
CREATED:20221206T002046Z
LAST-MODIFIED:20230508T140716Z
UID:3484-1685284200-1685291400@exp.zrcdemo.com
SUMMARY:T-Squares CLOSED
DESCRIPTION:Advanced Squares A2-C1
URL:https://exp.zrcdemo.com/events/t-squares-187/
LOCATION:Graceland Christian Church\, 2126 Stateline Rd\, Southaven\, 38672\, United States
CATEGORIES:Club Dance
END:VEVENT
BEGIN:VEVENT
DTSTART;TZID=America/Chicago:20230526T190000
DTEND;TZID=America/Chicago:20230526T210000
DTSTAMP:20260422T155840
CREATED:20221206T001743Z
LAST-MODIFIED:20230522T024331Z
UID:3429-1685127600-1685134800@exp.zrcdemo.com
SUMMARY:B&Bs CLOSED
DESCRIPTION:Mainstream and Plus Squares
URL:https://exp.zrcdemo.com/events/bbs-159/
LOCATION:Colonial Park United Methodist Church\, 5330 Park Avenue\, Memphis\, 38119\, United States
CATEGORIES:Club Dance
END:VEVENT
BEGIN:VEVENT
DTSTART;TZID=America/Chicago:20230525T190000
DTEND;TZID=America/Chicago:20230525T213000
DTSTAMP:20260422T155840
CREATED:20230303T194932Z
LAST-MODIFIED:20230303T194932Z
UID:3846-1685041200-1685050200@exp.zrcdemo.com
SUMMARY:Top Spinners
DESCRIPTION:Squares with Lines between tips
URL:https://exp.zrcdemo.com/events/top-spinners-150/
LOCATION:Eads Civic Center\, 12365 Washington Rd\, Eads\, 38028\, United States
CATEGORIES:Club Dance
END:VEVENT
BEGIN:VEVENT
DTSTART;TZID=America/Chicago:20230524T190000
DTEND;TZID=America/Chicago:20230524T213000
DTSTAMP:20260422T155840
CREATED:20230303T194130Z
LAST-MODIFIED:20230508T140223Z
UID:3830-1684954800-1684963800@exp.zrcdemo.com
SUMMARY:Pistols & Petticoats Class Graduation
DESCRIPTION:Mainstream and Plus Squares with Rounds between Tips
URL:https://exp.zrcdemo.com/events/pistols-petticoats-107/
LOCATION:Bartlett United Methodist Church\, 5676 Stage Rd.\, Bartlett\, 38134\, United States
CATEGORIES:Club Dance
END:VEVENT
BEGIN:VEVENT
DTSTART;TZID=America/Chicago:20230522T190000
DTEND;TZID=America/Chicago:20230522T210000
DTSTAMP:20260422T155840
CREATED:20221208T000710Z
LAST-MODIFIED:20221208T000710Z
UID:3726-1684782000-1684789200@exp.zrcdemo.com
SUMMARY:Merry-Go-Rounds
DESCRIPTION:Phase II-VI
URL:https://exp.zrcdemo.com/events/merry-go-rounds-159/
LOCATION:Berclair Civic Club\, 743 Novarese Road\, Memphis\, TN\, 38122\, United States
CATEGORIES:Club Dance
END:VEVENT
BEGIN:VEVENT
DTSTART;TZID=America/Chicago:20230522T190000
DTEND;TZID=America/Chicago:20230522T210000
DTSTAMP:20260422T155840
CREATED:20221207T235223Z
LAST-MODIFIED:20230512T180310Z
UID:3672-1684782000-1684789200@exp.zrcdemo.com
SUMMARY:Pleasant Hill Promenaders Anniversary Dance
DESCRIPTION:Mainstream and Plus Squares with Rounds and Lines between Tips
URL:https://exp.zrcdemo.com/events/pleasant-hill-promenaders-anniversary-dance-3/
LOCATION:Graceland Christian Church\, 2126 Stateline Rd\, Southaven\, 38672\, United States
CATEGORIES:Club Special
ATTACH;FMTTYPE=application/pdf:https://exp.zrcdemo.com/wp-content/uploads/2022/12/2023.05.22_PHPAnniversary.pdf
END:VEVENT
BEGIN:VEVENT
DTSTART;TZID=America/Chicago:20230521T143000
DTEND;TZID=America/Chicago:20230521T163000
DTSTAMP:20260422T155841
CREATED:20221206T002046Z
LAST-MODIFIED:20221206T002046Z
UID:3483-1684679400-1684686600@exp.zrcdemo.com
SUMMARY:T-Squares
DESCRIPTION:Advanced Squares A2-C1
URL:https://exp.zrcdemo.com/events/t-squares-186/
LOCATION:Graceland Christian Church\, 2126 Stateline Rd\, Southaven\, 38672\, United States
CATEGORIES:Club Dance
END:VEVENT
BEGIN:VEVENT
DTSTART;TZID=America/Chicago:20230519T190000
DTEND;TZID=America/Chicago:20230519T210000
DTSTAMP:20260422T155841
CREATED:20221206T001728Z
LAST-MODIFIED:20221206T001728Z
UID:3428-1684522800-1684530000@exp.zrcdemo.com
SUMMARY:B&Bs
DESCRIPTION:Mainstream and Plus Squares
URL:https://exp.zrcdemo.com/events/bbs-158/
LOCATION:Colonial Park United Methodist Church\, 5330 Park Avenue\, Memphis\, 38119\, United States
CATEGORIES:Club Dance
END:VEVENT
BEGIN:VEVENT
DTSTART;TZID=America/Chicago:20230518T190000
DTEND;TZID=America/Chicago:20230518T213000
DTSTAMP:20260422T155841
CREATED:20230303T194932Z
LAST-MODIFIED:20230303T194932Z
UID:3845-1684436400-1684445400@exp.zrcdemo.com
SUMMARY:Top Spinners
DESCRIPTION:Squares with Lines between tips
URL:https://exp.zrcdemo.com/events/top-spinners-149/
LOCATION:Eads Civic Center\, 12365 Washington Rd\, Eads\, 38028\, United States
CATEGORIES:Club Dance
END:VEVENT
BEGIN:VEVENT
DTSTART;TZID=America/Chicago:20230517T190000
DTEND;TZID=America/Chicago:20230517T200000
DTSTAMP:20260422T155841
CREATED:20230420T145950Z
LAST-MODIFIED:20230420T145951Z
UID:3916-1684350000-1684353600@exp.zrcdemo.com
SUMMARY:Pistols & Petticoats Class (14 of 14)
DESCRIPTION:
URL:https://exp.zrcdemo.com/events/pistols-petticoats-class-14-of-14-2/
LOCATION:Bartlett United Methodist Church\, 5676 Stage Rd.\, Bartlett\, 38134\, United States
END:VEVENT
BEGIN:VEVENT
DTSTART;TZID=America/Chicago:20230515T190000
DTEND;TZID=America/Chicago:20230515T210000
DTSTAMP:20260422T155841
CREATED:20221208T000510Z
LAST-MODIFIED:20221208T000510Z
UID:3725-1684177200-1684184400@exp.zrcdemo.com
SUMMARY:Merry-Go-Rounds
DESCRIPTION:Phase II-VI
URL:https://exp.zrcdemo.com/events/merry-go-rounds-158/
LOCATION:Berclair Civic Club\, 743 Novarese Road\, Memphis\, TN\, 38122\, United States
CATEGORIES:Club Dance
END:VEVENT
BEGIN:VEVENT
DTSTART;TZID=America/Chicago:20230515T190000
DTEND;TZID=America/Chicago:20230515T210000
DTSTAMP:20260422T155841
CREATED:20221207T235209Z
LAST-MODIFIED:20221207T235209Z
UID:3671-1684177200-1684184400@exp.zrcdemo.com
SUMMARY:Pleasant Hill Promenaders
DESCRIPTION:Mainstream and Plus Squares with Rounds and Lines between Tips
URL:https://exp.zrcdemo.com/events/pleasant-hill-promenaders-161/
LOCATION:Graceland Christian Church\, 2126 Stateline Rd\, Southaven\, 38672\, United States
CATEGORIES:Club Dance
END:VEVENT
BEGIN:VEVENT
DTSTART;TZID=America/Chicago:20230514T143000
DTEND;TZID=America/Chicago:20230514T163000
DTSTAMP:20260422T155841
CREATED:20221206T002032Z
LAST-MODIFIED:20230508T140643Z
UID:3482-1684074600-1684081800@exp.zrcdemo.com
SUMMARY:T-Squares CLOSED
DESCRIPTION:Advanced Squares A2-C1
URL:https://exp.zrcdemo.com/events/t-squares-185/
LOCATION:Graceland Christian Church\, 2126 Stateline Rd\, Southaven\, 38672\, United States
CATEGORIES:Club Dance
END:VEVENT
BEGIN:VEVENT
DTSTART;TZID=America/Chicago:20230512T190000
DTEND;TZID=America/Chicago:20230512T210000
DTSTAMP:20260422T155841
CREATED:20221206T001728Z
LAST-MODIFIED:20221206T001728Z
UID:3427-1683918000-1683925200@exp.zrcdemo.com
SUMMARY:B&Bs
DESCRIPTION:Mainstream and Plus Squares
URL:https://exp.zrcdemo.com/events/bbs-157/
LOCATION:Colonial Park United Methodist Church\, 5330 Park Avenue\, Memphis\, 38119\, United States
CATEGORIES:Club Dance
END:VEVENT
BEGIN:VEVENT
DTSTART;TZID=America/Chicago:20230511T190000
DTEND;TZID=America/Chicago:20230511T213000
DTSTAMP:20260422T155841
CREATED:20230303T194932Z
LAST-MODIFIED:20230303T194932Z
UID:3844-1683831600-1683840600@exp.zrcdemo.com
SUMMARY:Top Spinners
DESCRIPTION:Squares with Lines between tips
URL:https://exp.zrcdemo.com/events/top-spinners-148/
LOCATION:Eads Civic Center\, 12365 Washington Rd\, Eads\, 38028\, United States
CATEGORIES:Club Dance
END:VEVENT
BEGIN:VEVENT
DTSTART;TZID=America/Chicago:20230510T190000
DTEND;TZID=America/Chicago:20230510T213000
DTSTAMP:20260422T155841
CREATED:20230126T154037Z
LAST-MODIFIED:20230126T155133Z
UID:3799-1683745200-1683754200@exp.zrcdemo.com
SUMMARY:GMS&RDA Memphis in May
DESCRIPTION:Advanced\, Mainstream and Plus Squares with Rounds and Lines between tips \n\n\n\nCaller Darryl Lipscomb
URL:https://exp.zrcdemo.com/events/gmsrda-memphis-in-may/
LOCATION:Bartlett United Methodist Church\, 5676 Stage Rd.\, Bartlett\, 38134\, United States
CATEGORIES:Special
ATTACH;FMTTYPE=application/pdf:https://exp.zrcdemo.com/wp-content/uploads/2023/01/2023.05.10_MemphisinMay_Lipscomb.pdf
END:VEVENT
BEGIN:VEVENT
DTSTART;TZID=America/Chicago:20230508T190000
DTEND;TZID=America/Chicago:20230508T210000
DTSTAMP:20260422T155841
CREATED:20221208T000510Z
LAST-MODIFIED:20221208T000510Z
UID:3724-1683572400-1683579600@exp.zrcdemo.com
SUMMARY:Merry-Go-Rounds
DESCRIPTION:Phase II-VI
URL:https://exp.zrcdemo.com/events/merry-go-rounds-157/
LOCATION:Berclair Civic Club\, 743 Novarese Road\, Memphis\, TN\, 38122\, United States
CATEGORIES:Club Dance
END:VEVENT
BEGIN:VEVENT
DTSTART;TZID=America/Chicago:20230508T190000
DTEND;TZID=America/Chicago:20230508T210000
DTSTAMP:20260422T155841
CREATED:20221207T235209Z
LAST-MODIFIED:20221207T235209Z
UID:3670-1683572400-1683579600@exp.zrcdemo.com
SUMMARY:Pleasant Hill Promenaders
DESCRIPTION:Mainstream and Plus Squares with Rounds and Lines between Tips
URL:https://exp.zrcdemo.com/events/pleasant-hill-promenaders-160/
LOCATION:Graceland Christian Church\, 2126 Stateline Rd\, Southaven\, 38672\, United States
CATEGORIES:Club Dance
END:VEVENT
BEGIN:VEVENT
DTSTART;TZID=America/Chicago:20230507T143000
DTEND;TZID=America/Chicago:20230507T163000
DTSTAMP:20260422T155841
CREATED:20221206T002032Z
LAST-MODIFIED:20221206T002032Z
UID:3481-1683469800-1683477000@exp.zrcdemo.com
SUMMARY:T-Squares
DESCRIPTION:Advanced Squares A2-C1
URL:https://exp.zrcdemo.com/events/t-squares-184/
LOCATION:Graceland Christian Church\, 2126 Stateline Rd\, Southaven\, 38672\, United States
CATEGORIES:Club Dance
END:VEVENT
BEGIN:VEVENT
DTSTART;TZID=America/Chicago:20230505T190000
DTEND;TZID=America/Chicago:20230505T210000
DTSTAMP:20260422T155841
CREATED:20221206T001728Z
LAST-MODIFIED:20230503T215939Z
UID:3426-1683313200-1683320400@exp.zrcdemo.com
SUMMARY:B&Bs Cinco de Mayo
DESCRIPTION:Mainstream and Plus Squares with Rounds and Lines between tips
URL:https://exp.zrcdemo.com/events/bbs-156/
LOCATION:Colonial Park United Methodist Church\, 5330 Park Avenue\, Memphis\, 38119\, United States
CATEGORIES:Club Special
ATTACH;FMTTYPE=image/jpeg:https://exp.zrcdemo.com/wp-content/uploads/2022/12/2023.05.05CincodeMayo-rotated.jpeg
END:VEVENT
END:VCALENDAR