BEGIN:VCALENDAR
VERSION:2.0
PRODID:-//Greater Memphis Square &amp; Round Dance Association - ECPv6.15.20//NONSGML v1.0//EN
CALSCALE:GREGORIAN
METHOD:PUBLISH
X-WR-CALNAME:Greater Memphis Square &amp; Round Dance Association
X-ORIGINAL-URL:https://exp.zrcdemo.com
X-WR-CALDESC:Events for Greater Memphis Square &amp; Round Dance Association
REFRESH-INTERVAL;VALUE=DURATION:PT1H
X-Robots-Tag:noindex
X-PUBLISHED-TTL:PT1H
BEGIN:VTIMEZONE
TZID:America/Chicago
BEGIN:DAYLIGHT
TZOFFSETFROM:-0600
TZOFFSETTO:-0500
TZNAME:CDT
DTSTART:20220313T080000
END:DAYLIGHT
BEGIN:STANDARD
TZOFFSETFROM:-0500
TZOFFSETTO:-0600
TZNAME:CST
DTSTART:20221106T070000
END:STANDARD
BEGIN:DAYLIGHT
TZOFFSETFROM:-0600
TZOFFSETTO:-0500
TZNAME:CDT
DTSTART:20230312T080000
END:DAYLIGHT
BEGIN:STANDARD
TZOFFSETFROM:-0500
TZOFFSETTO:-0600
TZNAME:CST
DTSTART:20231105T070000
END:STANDARD
BEGIN:DAYLIGHT
TZOFFSETFROM:-0600
TZOFFSETTO:-0500
TZNAME:CDT
DTSTART:20240310T080000
END:DAYLIGHT
BEGIN:STANDARD
TZOFFSETFROM:-0500
TZOFFSETTO:-0600
TZNAME:CST
DTSTART:20241103T070000
END:STANDARD
END:VTIMEZONE
BEGIN:VEVENT
DTSTART;TZID=America/Chicago:20230515T190000
DTEND;TZID=America/Chicago:20230515T210000
DTSTAMP:20260422T190025
CREATED:20221208T000510Z
LAST-MODIFIED:20221208T000510Z
UID:3725-1684177200-1684184400@exp.zrcdemo.com
SUMMARY:Merry-Go-Rounds
DESCRIPTION:Phase II-VI
URL:https://exp.zrcdemo.com/events/merry-go-rounds-158/
LOCATION:Berclair Civic Club\, 743 Novarese Road\, Memphis\, TN\, 38122\, United States
CATEGORIES:Club Dance
END:VEVENT
BEGIN:VEVENT
DTSTART;TZID=America/Chicago:20230515T190000
DTEND;TZID=America/Chicago:20230515T210000
DTSTAMP:20260422T190025
CREATED:20221207T235209Z
LAST-MODIFIED:20221207T235209Z
UID:3671-1684177200-1684184400@exp.zrcdemo.com
SUMMARY:Pleasant Hill Promenaders
DESCRIPTION:Mainstream and Plus Squares with Rounds and Lines between Tips
URL:https://exp.zrcdemo.com/events/pleasant-hill-promenaders-161/
LOCATION:Graceland Christian Church\, 2126 Stateline Rd\, Southaven\, 38672\, United States
CATEGORIES:Club Dance
END:VEVENT
BEGIN:VEVENT
DTSTART;TZID=America/Chicago:20230514T143000
DTEND;TZID=America/Chicago:20230514T163000
DTSTAMP:20260422T190025
CREATED:20221206T002032Z
LAST-MODIFIED:20230508T140643Z
UID:3482-1684074600-1684081800@exp.zrcdemo.com
SUMMARY:T-Squares CLOSED
DESCRIPTION:Advanced Squares A2-C1
URL:https://exp.zrcdemo.com/events/t-squares-185/
LOCATION:Graceland Christian Church\, 2126 Stateline Rd\, Southaven\, 38672\, United States
CATEGORIES:Club Dance
END:VEVENT
BEGIN:VEVENT
DTSTART;TZID=America/Chicago:20230512T190000
DTEND;TZID=America/Chicago:20230512T210000
DTSTAMP:20260422T190025
CREATED:20221206T001728Z
LAST-MODIFIED:20221206T001728Z
UID:3427-1683918000-1683925200@exp.zrcdemo.com
SUMMARY:B&Bs
DESCRIPTION:Mainstream and Plus Squares
URL:https://exp.zrcdemo.com/events/bbs-157/
LOCATION:Colonial Park United Methodist Church\, 5330 Park Avenue\, Memphis\, 38119\, United States
CATEGORIES:Club Dance
END:VEVENT
BEGIN:VEVENT
DTSTART;TZID=America/Chicago:20230511T190000
DTEND;TZID=America/Chicago:20230511T213000
DTSTAMP:20260422T190025
CREATED:20230303T194932Z
LAST-MODIFIED:20230303T194932Z
UID:3844-1683831600-1683840600@exp.zrcdemo.com
SUMMARY:Top Spinners
DESCRIPTION:Squares with Lines between tips
URL:https://exp.zrcdemo.com/events/top-spinners-148/
LOCATION:Eads Civic Center\, 12365 Washington Rd\, Eads\, 38028\, United States
CATEGORIES:Club Dance
END:VEVENT
BEGIN:VEVENT
DTSTART;TZID=America/Chicago:20230510T190000
DTEND;TZID=America/Chicago:20230510T213000
DTSTAMP:20260422T190025
CREATED:20230126T154037Z
LAST-MODIFIED:20230126T155133Z
UID:3799-1683745200-1683754200@exp.zrcdemo.com
SUMMARY:GMS&RDA Memphis in May
DESCRIPTION:Advanced\, Mainstream and Plus Squares with Rounds and Lines between tips \n\n\n\nCaller Darryl Lipscomb
URL:https://exp.zrcdemo.com/events/gmsrda-memphis-in-may/
LOCATION:Bartlett United Methodist Church\, 5676 Stage Rd.\, Bartlett\, 38134\, United States
CATEGORIES:Special
ATTACH;FMTTYPE=application/pdf:https://exp.zrcdemo.com/wp-content/uploads/2023/01/2023.05.10_MemphisinMay_Lipscomb.pdf
END:VEVENT
BEGIN:VEVENT
DTSTART;TZID=America/Chicago:20230508T190000
DTEND;TZID=America/Chicago:20230508T210000
DTSTAMP:20260422T190025
CREATED:20221208T000510Z
LAST-MODIFIED:20221208T000510Z
UID:3724-1683572400-1683579600@exp.zrcdemo.com
SUMMARY:Merry-Go-Rounds
DESCRIPTION:Phase II-VI
URL:https://exp.zrcdemo.com/events/merry-go-rounds-157/
LOCATION:Berclair Civic Club\, 743 Novarese Road\, Memphis\, TN\, 38122\, United States
CATEGORIES:Club Dance
END:VEVENT
BEGIN:VEVENT
DTSTART;TZID=America/Chicago:20230508T190000
DTEND;TZID=America/Chicago:20230508T210000
DTSTAMP:20260422T190025
CREATED:20221207T235209Z
LAST-MODIFIED:20221207T235209Z
UID:3670-1683572400-1683579600@exp.zrcdemo.com
SUMMARY:Pleasant Hill Promenaders
DESCRIPTION:Mainstream and Plus Squares with Rounds and Lines between Tips
URL:https://exp.zrcdemo.com/events/pleasant-hill-promenaders-160/
LOCATION:Graceland Christian Church\, 2126 Stateline Rd\, Southaven\, 38672\, United States
CATEGORIES:Club Dance
END:VEVENT
BEGIN:VEVENT
DTSTART;TZID=America/Chicago:20230507T143000
DTEND;TZID=America/Chicago:20230507T163000
DTSTAMP:20260422T190025
CREATED:20221206T002032Z
LAST-MODIFIED:20221206T002032Z
UID:3481-1683469800-1683477000@exp.zrcdemo.com
SUMMARY:T-Squares
DESCRIPTION:Advanced Squares A2-C1
URL:https://exp.zrcdemo.com/events/t-squares-184/
LOCATION:Graceland Christian Church\, 2126 Stateline Rd\, Southaven\, 38672\, United States
CATEGORIES:Club Dance
END:VEVENT
BEGIN:VEVENT
DTSTART;TZID=America/Chicago:20230505T190000
DTEND;TZID=America/Chicago:20230505T210000
DTSTAMP:20260422T190025
CREATED:20221206T001728Z
LAST-MODIFIED:20230503T215939Z
UID:3426-1683313200-1683320400@exp.zrcdemo.com
SUMMARY:B&Bs Cinco de Mayo
DESCRIPTION:Mainstream and Plus Squares with Rounds and Lines between tips
URL:https://exp.zrcdemo.com/events/bbs-156/
LOCATION:Colonial Park United Methodist Church\, 5330 Park Avenue\, Memphis\, 38119\, United States
CATEGORIES:Club Special
ATTACH;FMTTYPE=image/jpeg:https://exp.zrcdemo.com/wp-content/uploads/2022/12/2023.05.05CincodeMayo-rotated.jpeg
END:VEVENT
BEGIN:VEVENT
DTSTART;TZID=America/Chicago:20230504T190000
DTEND;TZID=America/Chicago:20230504T213000
DTSTAMP:20260422T190025
CREATED:20230303T194931Z
LAST-MODIFIED:20230503T220345Z
UID:3843-1683226800-1683235800@exp.zrcdemo.com
SUMMARY:Top Spinners May the Fourth Dance & SSD Graduation
DESCRIPTION:Squares with Lines between tips
URL:https://exp.zrcdemo.com/events/top-spinners-may-the-fourth-dance-ssd-graduation/
LOCATION:Eads Civic Center\, 12365 Washington Rd\, Eads\, 38028\, United States
CATEGORIES:Club Special
ATTACH;FMTTYPE=image/jpeg:https://exp.zrcdemo.com/wp-content/uploads/2023/03/2023.05.04_TS_Star-Wars-May-4th-Dance-.jpg
END:VEVENT
BEGIN:VEVENT
DTSTART;TZID=America/Chicago:20230503T190000
DTEND;TZID=America/Chicago:20230503T200000
DTSTAMP:20260422T190025
CREATED:20221207T225825Z
LAST-MODIFIED:20230420T145611Z
UID:3648-1683140400-1683144000@exp.zrcdemo.com
SUMMARY:Pistols & Petticoats Class (13 of 14)
DESCRIPTION:Mainstream Class
URL:https://exp.zrcdemo.com/events/pistols-petticoats-class-14-of-14/
LOCATION:Bartlett United Methodist Church\, 5676 Stage Rd.\, Bartlett\, 38134\, United States
CATEGORIES:Class
END:VEVENT
BEGIN:VEVENT
DTSTART;TZID=America/Chicago:20230501T190000
DTEND;TZID=America/Chicago:20230501T210000
DTSTAMP:20260422T190025
CREATED:20221208T000510Z
LAST-MODIFIED:20221208T000510Z
UID:3723-1682967600-1682974800@exp.zrcdemo.com
SUMMARY:Merry-Go-Rounds
DESCRIPTION:Phase II-VI
URL:https://exp.zrcdemo.com/events/merry-go-rounds-156/
LOCATION:Berclair Civic Club\, 743 Novarese Road\, Memphis\, TN\, 38122\, United States
CATEGORIES:Club Dance
END:VEVENT
BEGIN:VEVENT
DTSTART;TZID=America/Chicago:20230501T190000
DTEND;TZID=America/Chicago:20230501T210000
DTSTAMP:20260422T190025
CREATED:20221207T235209Z
LAST-MODIFIED:20221207T235209Z
UID:3669-1682967600-1682974800@exp.zrcdemo.com
SUMMARY:Pleasant Hill Promenaders
DESCRIPTION:Mainstream and Plus Squares with Rounds and Lines between Tips
URL:https://exp.zrcdemo.com/events/pleasant-hill-promenaders-159/
LOCATION:Graceland Christian Church\, 2126 Stateline Rd\, Southaven\, 38672\, United States
CATEGORIES:Club Dance
END:VEVENT
BEGIN:VEVENT
DTSTART;TZID=America/Chicago:20230430T143000
DTEND;TZID=America/Chicago:20230430T163000
DTSTAMP:20260422T190025
CREATED:20221206T002031Z
LAST-MODIFIED:20221206T002031Z
UID:3480-1682865000-1682872200@exp.zrcdemo.com
SUMMARY:T-Squares
DESCRIPTION:Advanced Squares A2-C1
URL:https://exp.zrcdemo.com/events/t-squares-183/
LOCATION:Graceland Christian Church\, 2126 Stateline Rd\, Southaven\, 38672\, United States
CATEGORIES:Club Dance
END:VEVENT
BEGIN:VEVENT
DTSTART;TZID=America/Chicago:20230429T133000
DTEND;TZID=America/Chicago:20230429T213000
DTSTAMP:20260422T190025
CREATED:20230420T145314Z
LAST-MODIFIED:20230420T145416Z
UID:3910-1682775000-1682803800@exp.zrcdemo.com
SUMMARY:Paris Squares Fish Fry Dance
DESCRIPTION:
URL:https://exp.zrcdemo.com/events/paris-squares-fish-fry-dance/
ATTACH;FMTTYPE=application/pdf:https://exp.zrcdemo.com/wp-content/uploads/2023/04/fishfryflyer2023g.pdf
END:VEVENT
BEGIN:VEVENT
DTSTART;TZID=America/Chicago:20230428T190000
DTEND;TZID=America/Chicago:20230428T210000
DTSTAMP:20260422T190025
CREATED:20221206T001728Z
LAST-MODIFIED:20221206T001728Z
UID:3425-1682708400-1682715600@exp.zrcdemo.com
SUMMARY:B&Bs
DESCRIPTION:Mainstream and Plus Squares
URL:https://exp.zrcdemo.com/events/bbs-155/
LOCATION:Colonial Park United Methodist Church\, 5330 Park Avenue\, Memphis\, 38119\, United States
CATEGORIES:Club Dance
END:VEVENT
BEGIN:VEVENT
DTSTART;TZID=America/Chicago:20230427T200000
DTEND;TZID=America/Chicago:20230427T213000
DTSTAMP:20260422T190025
CREATED:20221206T010948Z
LAST-MODIFIED:20221206T010948Z
UID:3547-1682625600-1682631000@exp.zrcdemo.com
SUMMARY:Top Spinners
DESCRIPTION:Squares with Lines between tips
URL:https://exp.zrcdemo.com/events/top-spinners-147/
LOCATION:Eads Civic Center\, 12365 Washington Rd\, Eads\, 38028\, United States
CATEGORIES:Club Dance
END:VEVENT
BEGIN:VEVENT
DTSTART;TZID=America/Chicago:20230427T184500
DTEND;TZID=America/Chicago:20230427T200000
DTSTAMP:20260422T190025
CREATED:20221206T010918Z
LAST-MODIFIED:20221206T010918Z
UID:3535-1682621100-1682625600@exp.zrcdemo.com
SUMMARY:Top Spinners Class
DESCRIPTION:SSD Class
URL:https://exp.zrcdemo.com/events/top-spinners-class-12/
LOCATION:Eads Civic Center\, 12365 Washington Rd\, Eads\, 38028\, United States
CATEGORIES:Class
END:VEVENT
BEGIN:VEVENT
DTSTART;TZID=America/Chicago:20230426T200000
DTEND;TZID=America/Chicago:20230426T213000
DTSTAMP:20260422T190025
CREATED:20221206T035849Z
LAST-MODIFIED:20221206T035849Z
UID:3573-1682539200-1682544600@exp.zrcdemo.com
SUMMARY:Pistols & Petticoats
DESCRIPTION:Mainstream and Plus Squares with Rounds between Tips
URL:https://exp.zrcdemo.com/events/pistols-petticoats-106/
LOCATION:Bartlett United Methodist Church\, 5676 Stage Rd.\, Bartlett\, 38134\, United States
CATEGORIES:Club Dance
END:VEVENT
BEGIN:VEVENT
DTSTART;TZID=America/Chicago:20230426T190000
DTEND;TZID=America/Chicago:20230426T200000
DTSTAMP:20260422T190025
CREATED:20221206T035919Z
LAST-MODIFIED:20221230T183323Z
UID:3586-1682535600-1682539200@exp.zrcdemo.com
SUMMARY:Pistols & Petticoats Class (13 of 14)
DESCRIPTION:Mainstream Class
URL:https://exp.zrcdemo.com/events/pistols-petticoats-class-13/
LOCATION:Bartlett United Methodist Church\, 5676 Stage Rd.\, Bartlett\, 38134\, United States
CATEGORIES:Class
END:VEVENT
BEGIN:VEVENT
DTSTART;TZID=America/Chicago:20230424T190000
DTEND;TZID=America/Chicago:20230424T210000
DTSTAMP:20260422T190025
CREATED:20221208T000510Z
LAST-MODIFIED:20221208T000510Z
UID:3722-1682362800-1682370000@exp.zrcdemo.com
SUMMARY:Merry-Go-Rounds
DESCRIPTION:Phase II-VI
URL:https://exp.zrcdemo.com/events/merry-go-rounds-155/
LOCATION:Berclair Civic Club\, 743 Novarese Road\, Memphis\, TN\, 38122\, United States
CATEGORIES:Club Dance
END:VEVENT
BEGIN:VEVENT
DTSTART;TZID=America/Chicago:20230424T190000
DTEND;TZID=America/Chicago:20230424T210000
DTSTAMP:20260422T190025
CREATED:20221207T235209Z
LAST-MODIFIED:20221207T235209Z
UID:3668-1682362800-1682370000@exp.zrcdemo.com
SUMMARY:Pleasant Hill Promenaders
DESCRIPTION:Mainstream and Plus Squares with Rounds and Lines between Tips
URL:https://exp.zrcdemo.com/events/pleasant-hill-promenaders-158/
LOCATION:Graceland Christian Church\, 2126 Stateline Rd\, Southaven\, 38672\, United States
CATEGORIES:Club Dance
END:VEVENT
BEGIN:VEVENT
DTSTART;TZID=America/Chicago:20230423T143000
DTEND;TZID=America/Chicago:20230423T163000
DTSTAMP:20260422T190025
CREATED:20221206T002031Z
LAST-MODIFIED:20221206T002031Z
UID:3479-1682260200-1682267400@exp.zrcdemo.com
SUMMARY:T-Squares
DESCRIPTION:Advanced Squares A2-C1
URL:https://exp.zrcdemo.com/events/t-squares-182/
LOCATION:Graceland Christian Church\, 2126 Stateline Rd\, Southaven\, 38672\, United States
CATEGORIES:Club Dance
END:VEVENT
BEGIN:VEVENT
DTSTART;TZID=America/Chicago:20230421T190000
DTEND;TZID=America/Chicago:20230421T210000
DTSTAMP:20260422T190025
CREATED:20221206T001727Z
LAST-MODIFIED:20221206T041410Z
UID:3424-1682103600-1682110800@exp.zrcdemo.com
SUMMARY:B&Bs After Tax Dance
DESCRIPTION:Mainstream and Plus Squares
URL:https://exp.zrcdemo.com/events/bbs-154/
LOCATION:Colonial Park United Methodist Church\, 5330 Park Avenue\, Memphis\, 38119\, United States
CATEGORIES:Club Special
END:VEVENT
BEGIN:VEVENT
DTSTART;TZID=America/Chicago:20230420T200000
DTEND;TZID=America/Chicago:20230420T213000
DTSTAMP:20260422T190025
CREATED:20221206T010948Z
LAST-MODIFIED:20221206T010948Z
UID:3546-1682020800-1682026200@exp.zrcdemo.com
SUMMARY:Top Spinners
DESCRIPTION:Squares with Lines between tips
URL:https://exp.zrcdemo.com/events/top-spinners-146/
LOCATION:Eads Civic Center\, 12365 Washington Rd\, Eads\, 38028\, United States
CATEGORIES:Club Dance
END:VEVENT
BEGIN:VEVENT
DTSTART;TZID=America/Chicago:20230420T184500
DTEND;TZID=America/Chicago:20230420T200000
DTSTAMP:20260422T190025
CREATED:20221206T010918Z
LAST-MODIFIED:20221206T010918Z
UID:3534-1682016300-1682020800@exp.zrcdemo.com
SUMMARY:Top Spinners Class
DESCRIPTION:SSD Class
URL:https://exp.zrcdemo.com/events/top-spinners-class-11/
LOCATION:Eads Civic Center\, 12365 Washington Rd\, Eads\, 38028\, United States
CATEGORIES:Class
END:VEVENT
BEGIN:VEVENT
DTSTART;TZID=America/Chicago:20230419T200000
DTEND;TZID=America/Chicago:20230419T213000
DTSTAMP:20260422T190025
CREATED:20221206T035849Z
LAST-MODIFIED:20221206T035849Z
UID:3572-1681934400-1681939800@exp.zrcdemo.com
SUMMARY:Pistols & Petticoats
DESCRIPTION:Mainstream and Plus Squares with Rounds between Tips
URL:https://exp.zrcdemo.com/events/pistols-petticoats-105/
LOCATION:Bartlett United Methodist Church\, 5676 Stage Rd.\, Bartlett\, 38134\, United States
CATEGORIES:Club Dance
END:VEVENT
BEGIN:VEVENT
DTSTART;TZID=America/Chicago:20230419T190000
DTEND;TZID=America/Chicago:20230419T200000
DTSTAMP:20260422T190025
CREATED:20221206T035919Z
LAST-MODIFIED:20221230T183127Z
UID:3585-1681930800-1681934400@exp.zrcdemo.com
SUMMARY:Pistols & Petticoats Class (12 of 14)
DESCRIPTION:Mainstream Class
URL:https://exp.zrcdemo.com/events/pistols-petticoats-class-12/
LOCATION:Bartlett United Methodist Church\, 5676 Stage Rd.\, Bartlett\, 38134\, United States
CATEGORIES:Class
END:VEVENT
BEGIN:VEVENT
DTSTART;TZID=America/Chicago:20230417T190000
DTEND;TZID=America/Chicago:20230417T210000
DTSTAMP:20260422T190025
CREATED:20221208T000510Z
LAST-MODIFIED:20230320T011643Z
UID:3721-1681758000-1681765200@exp.zrcdemo.com
SUMMARY:Merry-Go-Rounds
DESCRIPTION:Phase II-VI
URL:https://exp.zrcdemo.com/events/merry-go-rounds-154/
LOCATION:Berclair Civic Club\, 743 Novarese Road\, Memphis\, TN\, 38122\, United States
CATEGORIES:Class,Club Dance
ATTACH;FMTTYPE=application/pdf:https://exp.zrcdemo.com/wp-content/uploads/2022/12/2023.04.17_ChoreographedBallroomDancingBeginnerTwo-Step.pdf
END:VEVENT
END:VCALENDAR