BEGIN:VCALENDAR
VERSION:2.0
PRODID:-//Greater Memphis Square &amp; Round Dance Association - ECPv6.15.20//NONSGML v1.0//EN
CALSCALE:GREGORIAN
METHOD:PUBLISH
X-WR-CALNAME:Greater Memphis Square &amp; Round Dance Association
X-ORIGINAL-URL:https://exp.zrcdemo.com
X-WR-CALDESC:Events for Greater Memphis Square &amp; Round Dance Association
REFRESH-INTERVAL;VALUE=DURATION:PT1H
X-Robots-Tag:noindex
X-PUBLISHED-TTL:PT1H
BEGIN:VTIMEZONE
TZID:America/Chicago
BEGIN:DAYLIGHT
TZOFFSETFROM:-0600
TZOFFSETTO:-0500
TZNAME:CDT
DTSTART:20210314T080000
END:DAYLIGHT
BEGIN:STANDARD
TZOFFSETFROM:-0500
TZOFFSETTO:-0600
TZNAME:CST
DTSTART:20211107T070000
END:STANDARD
BEGIN:DAYLIGHT
TZOFFSETFROM:-0600
TZOFFSETTO:-0500
TZNAME:CDT
DTSTART:20220313T080000
END:DAYLIGHT
BEGIN:STANDARD
TZOFFSETFROM:-0500
TZOFFSETTO:-0600
TZNAME:CST
DTSTART:20221106T070000
END:STANDARD
BEGIN:DAYLIGHT
TZOFFSETFROM:-0600
TZOFFSETTO:-0500
TZNAME:CDT
DTSTART:20230312T080000
END:DAYLIGHT
BEGIN:STANDARD
TZOFFSETFROM:-0500
TZOFFSETTO:-0600
TZNAME:CST
DTSTART:20231105T070000
END:STANDARD
END:VTIMEZONE
BEGIN:VEVENT
DTSTART;TZID=America/Chicago:20221225T000000
DTEND;TZID=America/Chicago:20221225T000000
DTSTAMP:20260425T192047
CREATED:20220104T032739Z
LAST-MODIFIED:20220104T032739Z
UID:2942-1671926400-1671926400@exp.zrcdemo.com
SUMMARY:T-Squares CLOSED
DESCRIPTION:
URL:https://exp.zrcdemo.com/events/t-squares-closed-15/
LOCATION:Graceland Christian Church\, 2126 Stateline Rd\, Southaven\, 38672\, United States
CATEGORIES:Closed
END:VEVENT
BEGIN:VEVENT
DTSTART;TZID=America/Chicago:20221223T190000
DTEND;TZID=America/Chicago:20221223T210000
DTSTAMP:20260425T192047
CREATED:20220104T031739Z
LAST-MODIFIED:20220203T173031Z
UID:2779-1671822000-1671829200@exp.zrcdemo.com
SUMMARY:B&Bs CLOSED
DESCRIPTION:Mainstream and Plus Squares with Rounds and Lines between Tips
URL:https://exp.zrcdemo.com/events/bbs-137/
LOCATION:Colonial Park United Methodist Church\, 5330 Park Avenue\, Memphis\, 38119\, United States
CATEGORIES:Closed
END:VEVENT
BEGIN:VEVENT
DTSTART;TZID=America/Chicago:20221222T190000
DTEND;TZID=America/Chicago:20221222T210000
DTSTAMP:20260425T192047
CREATED:20220104T032011Z
LAST-MODIFIED:20220203T172943Z
UID:2831-1671735600-1671742800@exp.zrcdemo.com
SUMMARY:Top Spinners CLOSED
DESCRIPTION:Mainstream and Plus Squares with Lines between Tips
URL:https://exp.zrcdemo.com/events/top-spinners-131/
LOCATION:Eads Civic Center\, 12365 Washington Rd\, Eads\, 38028\, United States
CATEGORIES:Closed
END:VEVENT
BEGIN:VEVENT
DTSTART;TZID=America/Chicago:20221221T193000
DTEND;TZID=America/Chicago:20221221T213000
DTSTAMP:20260425T192047
CREATED:20220104T032309Z
LAST-MODIFIED:20220104T032309Z
UID:2889-1671651000-1671658200@exp.zrcdemo.com
SUMMARY:Pistols & Petticoats
DESCRIPTION:Mainstream and Plus Squares with Rounds between Tips
URL:https://exp.zrcdemo.com/events/pistols-petticoats-90/
LOCATION:Bartlett United Methodist Church\, 5676 Stage Rd.\, Bartlett\, 38134\, United States
CATEGORIES:Club Dance
END:VEVENT
BEGIN:VEVENT
DTSTART;TZID=America/Chicago:20221220T180000
DTEND;TZID=America/Chicago:20221220T200000
DTSTAMP:20260425T192047
CREATED:20220104T031511Z
LAST-MODIFIED:20220104T031511Z
UID:2727-1671559200-1671566400@exp.zrcdemo.com
SUMMARY:Southern Rounds
DESCRIPTION:Rounds 6:00-7:00; Lines 7:00-8:00
URL:https://exp.zrcdemo.com/events/southern-rounds-136/
LOCATION:Graceland Christian Church\, 2126 Stateline Rd\, Southaven\, 38672\, United States
CATEGORIES:Club Dance
END:VEVENT
BEGIN:VEVENT
DTSTART;TZID=America/Chicago:20221219T190000
DTEND;TZID=America/Chicago:20221219T210000
DTSTAMP:20260425T192047
CREATED:20220104T033715Z
LAST-MODIFIED:20220104T033715Z
UID:3049-1671476400-1671483600@exp.zrcdemo.com
SUMMARY:Pleasant Hill Promenaders
DESCRIPTION:Mainstream and Plus Squares with Rounds and Lines between Tips
URL:https://exp.zrcdemo.com/events/pleasant-hill-promenaders-141/
LOCATION:Graceland Christian Church\, 2126 Stateline Rd\, Southaven\, 38672\, United States
CATEGORIES:Club Dance
END:VEVENT
BEGIN:VEVENT
DTSTART;TZID=America/Chicago:20221219T190000
DTEND;TZID=America/Chicago:20221219T210000
DTSTAMP:20260425T192047
CREATED:20220104T033444Z
LAST-MODIFIED:20220104T033444Z
UID:2996-1671476400-1671483600@exp.zrcdemo.com
SUMMARY:Merry-Go-Rounds
DESCRIPTION:Phase II-VI
URL:https://exp.zrcdemo.com/events/merry-go-rounds-137/
LOCATION:Berclair Civic Club\, 743 Novarese Road\, Memphis\, TN\, 38122\, United States
CATEGORIES:Club Dance
END:VEVENT
BEGIN:VEVENT
DTSTART;TZID=America/Chicago:20221218T143000
DTEND;TZID=America/Chicago:20221218T163000
DTSTAMP:20260425T192047
CREATED:20220104T032540Z
LAST-MODIFIED:20220104T032540Z
UID:2941-1671373800-1671381000@exp.zrcdemo.com
SUMMARY:T-Squares
DESCRIPTION:Advanced Squares A2-C1
URL:https://exp.zrcdemo.com/events/t-squares-165/
LOCATION:Graceland Christian Church\, 2126 Stateline Rd\, Southaven\, 38672\, United States
CATEGORIES:Club Dance
END:VEVENT
BEGIN:VEVENT
DTSTART;TZID=America/Chicago:20221216T190000
DTEND;TZID=America/Chicago:20221216T210000
DTSTAMP:20260425T192047
CREATED:20220104T031739Z
LAST-MODIFIED:20221216T150735Z
UID:2778-1671217200-1671224400@exp.zrcdemo.com
SUMMARY:B&Bs CLOSED
DESCRIPTION:Mainstream and Plus Squares with Rounds and Lines between Tips
URL:https://exp.zrcdemo.com/events/bbs-136/
LOCATION:Colonial Park United Methodist Church\, 5330 Park Avenue\, Memphis\, 38119\, United States
CATEGORIES:Closed
END:VEVENT
BEGIN:VEVENT
DTSTART;TZID=America/Chicago:20221215T190000
DTEND;TZID=America/Chicago:20221215T210000
DTSTAMP:20260425T192047
CREATED:20220104T032011Z
LAST-MODIFIED:20220104T032011Z
UID:2830-1671130800-1671138000@exp.zrcdemo.com
SUMMARY:Top Spinners
DESCRIPTION:Mainstream and Plus Squares with Lines between Tips
URL:https://exp.zrcdemo.com/events/top-spinners-130/
LOCATION:Eads Civic Center\, 12365 Washington Rd\, Eads\, 38028\, United States
CATEGORIES:Club Dance
END:VEVENT
BEGIN:VEVENT
DTSTART;TZID=America/Chicago:20221214T193000
DTEND;TZID=America/Chicago:20221214T213000
DTSTAMP:20260425T192047
CREATED:20220104T032309Z
LAST-MODIFIED:20221207T205133Z
UID:2888-1671046200-1671053400@exp.zrcdemo.com
SUMMARY:Pistols & Petticoats CLOSED
DESCRIPTION:Mainstream and Plus Squares with Rounds between Tips
URL:https://exp.zrcdemo.com/events/pistols-petticoats-89/
LOCATION:Bartlett United Methodist Church\, 5676 Stage Rd.\, Bartlett\, 38134\, United States
CATEGORIES:Club Dance
END:VEVENT
BEGIN:VEVENT
DTSTART;TZID=America/Chicago:20221213T180000
DTEND;TZID=America/Chicago:20221213T200000
DTSTAMP:20260425T192047
CREATED:20220104T031455Z
LAST-MODIFIED:20220104T031455Z
UID:2726-1670954400-1670961600@exp.zrcdemo.com
SUMMARY:Southern Rounds
DESCRIPTION:Rounds 6:00-7:00; Lines 7:00-8:00
URL:https://exp.zrcdemo.com/events/southern-rounds-135/
LOCATION:Graceland Christian Church\, 2126 Stateline Rd\, Southaven\, 38672\, United States
CATEGORIES:Club Dance
END:VEVENT
BEGIN:VEVENT
DTSTART;TZID=America/Chicago:20221212T190000
DTEND;TZID=America/Chicago:20221212T210000
DTSTAMP:20260425T192047
CREATED:20220104T033714Z
LAST-MODIFIED:20221212T183042Z
UID:3048-1670871600-1670878800@exp.zrcdemo.com
SUMMARY:Pleasant Hill Promenaders Winter Wonderland Dance
DESCRIPTION:Mainstream and Plus Squares with Rounds and Lines between Tips
URL:https://exp.zrcdemo.com/events/pleasant-hill-promenaders-winter-wonderland-dance/
LOCATION:Graceland Christian Church\, 2126 Stateline Rd\, Southaven\, 38672\, United States
CATEGORIES:Club Special
ATTACH;FMTTYPE=application/pdf:https://exp.zrcdemo.com/wp-content/uploads/2022/01/2022.12.12_PHP_WINTER-WONDERLAND.pdf
END:VEVENT
BEGIN:VEVENT
DTSTART;TZID=America/Chicago:20221212T190000
DTEND;TZID=America/Chicago:20221212T210000
DTSTAMP:20260425T192047
CREATED:20220104T033444Z
LAST-MODIFIED:20220104T033444Z
UID:2995-1670871600-1670878800@exp.zrcdemo.com
SUMMARY:Merry-Go-Rounds
DESCRIPTION:Phase II-VI
URL:https://exp.zrcdemo.com/events/merry-go-rounds-136/
LOCATION:Berclair Civic Club\, 743 Novarese Road\, Memphis\, TN\, 38122\, United States
CATEGORIES:Club Dance
END:VEVENT
BEGIN:VEVENT
DTSTART;TZID=America/Chicago:20221211T143000
DTEND;TZID=America/Chicago:20221211T163000
DTSTAMP:20260425T192047
CREATED:20220104T032540Z
LAST-MODIFIED:20220104T032540Z
UID:2940-1670769000-1670776200@exp.zrcdemo.com
SUMMARY:T-Squares
DESCRIPTION:Advanced Squares A2-C1
URL:https://exp.zrcdemo.com/events/t-squares-164/
LOCATION:Graceland Christian Church\, 2126 Stateline Rd\, Southaven\, 38672\, United States
CATEGORIES:Club Dance
END:VEVENT
BEGIN:VEVENT
DTSTART;TZID=America/Chicago:20221209T190000
DTEND;TZID=America/Chicago:20221209T210000
DTSTAMP:20260425T192047
CREATED:20220104T031739Z
LAST-MODIFIED:20220203T172841Z
UID:2777-1670612400-1670619600@exp.zrcdemo.com
SUMMARY:B&Bs Christmas Party
DESCRIPTION:Mainstream and Plus Squares with Rounds and Lines between Tips
URL:https://exp.zrcdemo.com/events/bbs-135/
LOCATION:Colonial Park United Methodist Church\, 5330 Park Avenue\, Memphis\, 38119\, United States
CATEGORIES:Club Special
END:VEVENT
BEGIN:VEVENT
DTSTART;TZID=America/Chicago:20221208T190000
DTEND;TZID=America/Chicago:20221208T210000
DTSTAMP:20260425T192047
CREATED:20220104T032010Z
LAST-MODIFIED:20220104T032010Z
UID:2829-1670526000-1670533200@exp.zrcdemo.com
SUMMARY:Top Spinners
DESCRIPTION:Mainstream and Plus Squares with Lines between Tips
URL:https://exp.zrcdemo.com/events/top-spinners-129/
LOCATION:Eads Civic Center\, 12365 Washington Rd\, Eads\, 38028\, United States
CATEGORIES:Club Dance
END:VEVENT
BEGIN:VEVENT
DTSTART;TZID=America/Chicago:20221207T193000
DTEND;TZID=America/Chicago:20221207T213000
DTSTAMP:20260425T192047
CREATED:20220104T032309Z
LAST-MODIFIED:20220104T032309Z
UID:2887-1670441400-1670448600@exp.zrcdemo.com
SUMMARY:Pistols & Petticoats
DESCRIPTION:Mainstream and Plus Squares with Rounds between Tips
URL:https://exp.zrcdemo.com/events/pistols-petticoats-88/
LOCATION:Bartlett United Methodist Church\, 5676 Stage Rd.\, Bartlett\, 38134\, United States
CATEGORIES:Club Dance
END:VEVENT
BEGIN:VEVENT
DTSTART;TZID=America/Chicago:20221206T180000
DTEND;TZID=America/Chicago:20221206T200000
DTSTAMP:20260425T192047
CREATED:20220104T031455Z
LAST-MODIFIED:20220104T031455Z
UID:2725-1670349600-1670356800@exp.zrcdemo.com
SUMMARY:Southern Rounds
DESCRIPTION:Rounds 6:00-7:00; Lines 7:00-8:00
URL:https://exp.zrcdemo.com/events/southern-rounds-134/
LOCATION:Graceland Christian Church\, 2126 Stateline Rd\, Southaven\, 38672\, United States
CATEGORIES:Club Dance
END:VEVENT
BEGIN:VEVENT
DTSTART;TZID=America/Chicago:20221205T190000
DTEND;TZID=America/Chicago:20221205T210000
DTSTAMP:20260425T192047
CREATED:20220104T033714Z
LAST-MODIFIED:20220104T033714Z
UID:3047-1670266800-1670274000@exp.zrcdemo.com
SUMMARY:Pleasant Hill Promenaders
DESCRIPTION:Mainstream and Plus Squares with Rounds and Lines between Tips
URL:https://exp.zrcdemo.com/events/pleasant-hill-promenaders-140/
LOCATION:Graceland Christian Church\, 2126 Stateline Rd\, Southaven\, 38672\, United States
CATEGORIES:Club Dance
END:VEVENT
BEGIN:VEVENT
DTSTART;TZID=America/Chicago:20221205T190000
DTEND;TZID=America/Chicago:20221205T210000
DTSTAMP:20260425T192047
CREATED:20220104T033430Z
LAST-MODIFIED:20220104T033430Z
UID:2994-1670266800-1670274000@exp.zrcdemo.com
SUMMARY:Merry-Go-Rounds
DESCRIPTION:Phase II-VI
URL:https://exp.zrcdemo.com/events/merry-go-rounds-135/
LOCATION:Berclair Civic Club\, 743 Novarese Road\, Memphis\, TN\, 38122\, United States
CATEGORIES:Club Dance
END:VEVENT
BEGIN:VEVENT
DTSTART;TZID=America/Chicago:20221205T190000
DTEND;TZID=America/Chicago:20221205T200000
DTSTAMP:20260425T192047
CREATED:20220810T205516Z
LAST-MODIFIED:20220810T205516Z
UID:3341-1670266800-1670270400@exp.zrcdemo.com
SUMMARY:Pleasant Hill Promenaders (Class 12 of 12)
DESCRIPTION:Class 7:00-8:00.
URL:https://exp.zrcdemo.com/events/pleasant-hill-promenaders-class-12-of-12/
LOCATION:Graceland Christian Church\, 2126 Stateline Rd\, Southaven\, 38672\, United States
CATEGORIES:Class
END:VEVENT
BEGIN:VEVENT
DTSTART;TZID=America/Chicago:20221204T143000
DTEND;TZID=America/Chicago:20221204T163000
DTSTAMP:20260425T192047
CREATED:20220104T032540Z
LAST-MODIFIED:20220104T032540Z
UID:2939-1670164200-1670171400@exp.zrcdemo.com
SUMMARY:T-Squares
DESCRIPTION:Advanced Squares A2-C1
URL:https://exp.zrcdemo.com/events/t-squares-163/
LOCATION:Graceland Christian Church\, 2126 Stateline Rd\, Southaven\, 38672\, United States
CATEGORIES:Club Dance
END:VEVENT
BEGIN:VEVENT
DTSTART;TZID=America/Chicago:20221202T190000
DTEND;TZID=America/Chicago:20221202T210000
DTSTAMP:20260425T192047
CREATED:20220104T031725Z
LAST-MODIFIED:20220104T031725Z
UID:2776-1670007600-1670014800@exp.zrcdemo.com
SUMMARY:B&Bs
DESCRIPTION:Mainstream and Plus Squares with Rounds and Lines between Tips
URL:https://exp.zrcdemo.com/events/bbs-134/
LOCATION:Colonial Park United Methodist Church\, 5330 Park Avenue\, Memphis\, 38119\, United States
CATEGORIES:Club Dance
END:VEVENT
BEGIN:VEVENT
DTSTART;TZID=America/Chicago:20221201T190000
DTEND;TZID=America/Chicago:20221201T210000
DTSTAMP:20260425T192047
CREATED:20220104T032010Z
LAST-MODIFIED:20220303T184757Z
UID:2828-1669921200-1669928400@exp.zrcdemo.com
SUMMARY:Top Spinners Home for the Holidays
DESCRIPTION:Mainstream and Plus Squares with Lines between Tips
URL:https://exp.zrcdemo.com/events/top-spinners-128/
LOCATION:Eads Civic Center\, 12365 Washington Rd\, Eads\, 38028\, United States
CATEGORIES:Club Special
ATTACH;FMTTYPE=application/pdf:https://exp.zrcdemo.com/wp-content/uploads/2022/01/96624-Home-for-the-Holidays.pdf
END:VEVENT
BEGIN:VEVENT
DTSTART;TZID=America/Chicago:20221130T193000
DTEND;TZID=America/Chicago:20221130T213000
DTSTAMP:20260425T192047
CREATED:20220104T032255Z
LAST-MODIFIED:20220104T032255Z
UID:2886-1669836600-1669843800@exp.zrcdemo.com
SUMMARY:Pistols & Petticoats
DESCRIPTION:Mainstream and Plus Squares with Rounds between Tips
URL:https://exp.zrcdemo.com/events/pistols-petticoats-87/
LOCATION:Bartlett United Methodist Church\, 5676 Stage Rd.\, Bartlett\, 38134\, United States
CATEGORIES:Club Dance
END:VEVENT
BEGIN:VEVENT
DTSTART;TZID=America/Chicago:20221129T180000
DTEND;TZID=America/Chicago:20221129T200000
DTSTAMP:20260425T192047
CREATED:20220104T031454Z
LAST-MODIFIED:20220104T031454Z
UID:2724-1669744800-1669752000@exp.zrcdemo.com
SUMMARY:Southern Rounds
DESCRIPTION:Rounds 6:00-7:00; Lines 7:00-8:00
URL:https://exp.zrcdemo.com/events/southern-rounds-133/
LOCATION:Graceland Christian Church\, 2126 Stateline Rd\, Southaven\, 38672\, United States
CATEGORIES:Club Dance
END:VEVENT
BEGIN:VEVENT
DTSTART;TZID=America/Chicago:20221128T190000
DTEND;TZID=America/Chicago:20221128T210000
DTSTAMP:20260425T192047
CREATED:20220104T033714Z
LAST-MODIFIED:20221127T233832Z
UID:3046-1669662000-1669669200@exp.zrcdemo.com
SUMMARY:Pleasant Hill Promenaders Robert's Birthday
DESCRIPTION:Mainstream and Plus Squares with Rounds and Lines between Tips
URL:https://exp.zrcdemo.com/events/pleasant-hill-promenaders-139/
LOCATION:Graceland Christian Church\, 2126 Stateline Rd\, Southaven\, 38672\, United States
CATEGORIES:Club Special
ATTACH;FMTTYPE=image/heic:https://exp.zrcdemo.com/wp-content/uploads/2022/01/IMG_6419.heic
END:VEVENT
BEGIN:VEVENT
DTSTART;TZID=America/Chicago:20221128T190000
DTEND;TZID=America/Chicago:20221128T210000
DTSTAMP:20260425T192047
CREATED:20220104T033429Z
LAST-MODIFIED:20220104T033429Z
UID:2993-1669662000-1669669200@exp.zrcdemo.com
SUMMARY:Merry-Go-Rounds
DESCRIPTION:Phase II-VI
URL:https://exp.zrcdemo.com/events/merry-go-rounds-134/
LOCATION:Berclair Civic Club\, 743 Novarese Road\, Memphis\, TN\, 38122\, United States
CATEGORIES:Club Dance
END:VEVENT
BEGIN:VEVENT
DTSTART;TZID=America/Chicago:20221128T190000
DTEND;TZID=America/Chicago:20221128T200000
DTSTAMP:20260425T192047
CREATED:20220810T205516Z
LAST-MODIFIED:20220810T205516Z
UID:3340-1669662000-1669665600@exp.zrcdemo.com
SUMMARY:Pleasant Hill Promenaders (Class 11 of 12)
DESCRIPTION:Class 7:00-8:00.
URL:https://exp.zrcdemo.com/events/pleasant-hill-promenaders-class-11-of-12/
LOCATION:Graceland Christian Church\, 2126 Stateline Rd\, Southaven\, 38672\, United States
CATEGORIES:Class
END:VEVENT
END:VCALENDAR